BEGIN:VCALENDAR
VERSION:2.0
PRODID:-//East Central Ontario Regional Council of the United Church of Canada - ECPv6.15.20//NONSGML v1.0//EN
CALSCALE:GREGORIAN
METHOD:PUBLISH
X-WR-CALNAME:East Central Ontario Regional Council of the United Church of Canada
X-ORIGINAL-URL:https://ecorcuccan.ca
X-WR-CALDESC:Events for East Central Ontario Regional Council of the United Church of Canada
REFRESH-INTERVAL;VALUE=DURATION:PT1H
X-Robots-Tag:noindex
X-PUBLISHED-TTL:PT1H
BEGIN:VTIMEZONE
TZID:America/Toronto
BEGIN:DAYLIGHT
TZOFFSETFROM:-0500
TZOFFSETTO:-0400
TZNAME:EDT
DTSTART:20240310T070000
END:DAYLIGHT
BEGIN:STANDARD
TZOFFSETFROM:-0400
TZOFFSETTO:-0500
TZNAME:EST
DTSTART:20241103T060000
END:STANDARD
BEGIN:DAYLIGHT
TZOFFSETFROM:-0500
TZOFFSETTO:-0400
TZNAME:EDT
DTSTART:20250309T070000
END:DAYLIGHT
BEGIN:STANDARD
TZOFFSETFROM:-0400
TZOFFSETTO:-0500
TZNAME:EST
DTSTART:20251102T060000
END:STANDARD
BEGIN:DAYLIGHT
TZOFFSETFROM:-0500
TZOFFSETTO:-0400
TZNAME:EDT
DTSTART:20260308T070000
END:DAYLIGHT
BEGIN:STANDARD
TZOFFSETFROM:-0400
TZOFFSETTO:-0500
TZNAME:EST
DTSTART:20261101T060000
END:STANDARD
END:VTIMEZONE
BEGIN:VEVENT
DTSTART;TZID=America/Toronto:20250126T140000
DTEND;TZID=America/Toronto:20250126T160000
DTSTAMP:20260420T135218
CREATED:20241212T160643Z
LAST-MODIFIED:20241212T160945Z
UID:117024-1737900000-1737907200@ecorcuccan.ca
SUMMARY:The Gospel of Mark Told by Heart
DESCRIPTION:Hear the Gospel of Mark come to life like you’ve never heard it before… told by heart. Daring justice\, deep spirituality and bold discipleship. With renowned biblical storyteller Rev. Dr. Gordon Postill of Toronto. Sunday\, January 26\, 2025 at 2 p.m. at Bloomfield United Church\, 272 Bloomfield Main St\, Bloomfield in Prince Edward County\, Ontario. Approximately 2 hours in duration. Freewill offering. Celebrating 100 Years of The United Church of Canada. Presented by the Association of United Church Ministers of Prince Edward County. All are warmly welcome to attend. For more information\, please email unitedinpec@gmail.com.
URL:https://ecorcuccan.ca/event/the-gospel-of-mark-told-by-heart/
LOCATION:Bloomfield United Church\, 272 Bloomfield Main St\, Bloomfield\, K0K 1G0\, Canada
CATEGORIES:Celebrating 100 Years of The United Church of Canada,Community of Faith Events
ATTACH;FMTTYPE=image/png:https://ecorcuccan.ca/wp-content/uploads/2024/12/gospel-of-mark-2025.png
END:VEVENT
END:VCALENDAR