BEGIN:VCALENDAR
VERSION:2.0
PRODID:-//East Central Ontario Regional Council of the United Church of Canada - ECPv6.15.20//NONSGML v1.0//EN
CALSCALE:GREGORIAN
METHOD:PUBLISH
X-WR-CALNAME:East Central Ontario Regional Council of the United Church of Canada
X-ORIGINAL-URL:https://ecorcuccan.ca
X-WR-CALDESC:Events for East Central Ontario Regional Council of the United Church of Canada
REFRESH-INTERVAL;VALUE=DURATION:PT1H
X-Robots-Tag:noindex
X-PUBLISHED-TTL:PT1H
BEGIN:VTIMEZONE
TZID:America/Toronto
BEGIN:DAYLIGHT
TZOFFSETFROM:-0500
TZOFFSETTO:-0400
TZNAME:EDT
DTSTART:20240310T070000
END:DAYLIGHT
BEGIN:STANDARD
TZOFFSETFROM:-0400
TZOFFSETTO:-0500
TZNAME:EST
DTSTART:20241103T060000
END:STANDARD
BEGIN:DAYLIGHT
TZOFFSETFROM:-0500
TZOFFSETTO:-0400
TZNAME:EDT
DTSTART:20250309T070000
END:DAYLIGHT
BEGIN:STANDARD
TZOFFSETFROM:-0400
TZOFFSETTO:-0500
TZNAME:EST
DTSTART:20251102T060000
END:STANDARD
BEGIN:DAYLIGHT
TZOFFSETFROM:-0500
TZOFFSETTO:-0400
TZNAME:EDT
DTSTART:20260308T070000
END:DAYLIGHT
BEGIN:STANDARD
TZOFFSETFROM:-0400
TZOFFSETTO:-0500
TZNAME:EST
DTSTART:20261101T060000
END:STANDARD
END:VTIMEZONE
BEGIN:VEVENT
DTSTART;TZID=America/Toronto:20250327T110000
DTEND;TZID=America/Toronto:20250327T121500
DTSTAMP:20260421T033518
CREATED:20250226T141936Z
LAST-MODIFIED:20250324T190438Z
UID:123706-1743073200-1743077700@ecorcuccan.ca
SUMMARY:Children’s Ministry Roundtable Neurodiversity at Church
DESCRIPTION:Children’s Ministry Roundtable\nNeurodiversity at Church – Drawing the Circle Wider\n\nJoin our guest\, Tiffany Jull\, as we discuss neurodiversity at church. As volunteers and staff\, how do we tend the community of children who gather with us for programming and worship and be attentive to the neurodivergent needs of individual children? \nTiffany is a dedicated member of the United Church\, starting in Nova Scotia and now at Knox United Church in Ayr. She has led Sunday School classes\, Youth Groups\, and Vacation Bible School. As a parent and a professional experience as a registered Psychologist\, working with the Waterloo Region District School Board for over 25 years. \nChoose to attend either session at the time that works best for you: \nMarch 18th (Tuesday) at 7pm-8:15pm\nOR\nMarch 27 (Thursday) at 11am-12:15pm \nThese Children’s Ministry Roundtables are hosted by Regional Faith Formation staff:\nKathy Douglas (Antler River Watershed\, Horseshoe Falls\, Western Ontario Waterways)\nSharon Hull (East Central Ontario)\nShawn Redden (Canadian Shield\, Shining Waters) \nAll are welcome to join in the roundtable discussion \nIf you have any questions\, please contact Sharon Hull by email or by phone at 1-365-501-2161 \nTo register\, please visit Children’s Ministry Roundtable: Neurodiversity – Shining Waters
URL:https://ecorcuccan.ca/event/childrens-ministry-roundtable-neurodiversity-at-church/
LOCATION:ZOOM (online)
CATEGORIES:Children's Ministry Round Table,Youth
ATTACH;FMTTYPE=image/png:https://ecorcuccan.ca/wp-content/uploads/2025/02/Childrens-Ministry-Lent-Roundtable-1-980x980-1.png
END:VEVENT
END:VCALENDAR