BEGIN:VCALENDAR
VERSION:2.0
PRODID:-//East Central Ontario Regional Council of the United Church of Canada - ECPv6.15.20//NONSGML v1.0//EN
CALSCALE:GREGORIAN
METHOD:PUBLISH
X-WR-CALNAME:East Central Ontario Regional Council of the United Church of Canada
X-ORIGINAL-URL:https://ecorcuccan.ca
X-WR-CALDESC:Events for East Central Ontario Regional Council of the United Church of Canada
REFRESH-INTERVAL;VALUE=DURATION:PT1H
X-Robots-Tag:noindex
X-PUBLISHED-TTL:PT1H
BEGIN:VTIMEZONE
TZID:America/Toronto
BEGIN:DAYLIGHT
TZOFFSETFROM:-0500
TZOFFSETTO:-0400
TZNAME:EDT
DTSTART:20220313T070000
END:DAYLIGHT
BEGIN:STANDARD
TZOFFSETFROM:-0400
TZOFFSETTO:-0500
TZNAME:EST
DTSTART:20221106T060000
END:STANDARD
BEGIN:DAYLIGHT
TZOFFSETFROM:-0500
TZOFFSETTO:-0400
TZNAME:EDT
DTSTART:20230312T070000
END:DAYLIGHT
BEGIN:STANDARD
TZOFFSETFROM:-0400
TZOFFSETTO:-0500
TZNAME:EST
DTSTART:20231105T060000
END:STANDARD
BEGIN:DAYLIGHT
TZOFFSETFROM:-0500
TZOFFSETTO:-0400
TZNAME:EDT
DTSTART:20240310T070000
END:DAYLIGHT
BEGIN:STANDARD
TZOFFSETFROM:-0400
TZOFFSETTO:-0500
TZNAME:EST
DTSTART:20241103T060000
END:STANDARD
END:VTIMEZONE
BEGIN:VEVENT
DTSTART;TZID=America/Toronto:20231116T194500
DTEND;TZID=America/Toronto:20231116T210000
DTSTAMP:20260423T071124
CREATED:20230816T164354Z
LAST-MODIFIED:20231006T145244Z
UID:73051-1700163900-1700168400@ecorcuccan.ca
SUMMARY:First Third Ministry Leaders- Monthly Zoom check in (Evening)
DESCRIPTION:First Third Ministry Leaders- Monthly Zoom check in \nThird Thursday of the month  \n\nCONNECTING First Third Ministry Leaders (leaders of children\, youth and young adults).\nWe have started a monthly zoom check in for anyone who is offering leadership to children\, youth and young adults in the Regional Council. Please sign up using the link below. Everyone is welcome. It is a space to get to know other leaders\, share ideas\, share challenges and to connect with each other.\n\n\n\n\nLeaders zoom check in 7:45 pm to 9:00 pm on the following dates: \n\nThursday October 19th\nThursday November 16th\nDecember date (TBD)\n\n\n\nPlease fill in this form and the zoom link will be emailed to you.\n\nhttps://ecorcuccan.ca/connecting-first-third-ministry-leaders/\n\n\nAny questions please email Sharon Hull @ shull@united-church.ca
URL:https://ecorcuccan.ca/event/first-third-ministry-leaders-monthly-zoom-check-in-evening-3/
LOCATION:ONLINE\, Zoom link with registration
CATEGORIES:Cluster Gatherings,ECORC Events,ECORC Programs,Formation
ATTACH;FMTTYPE=image/png:https://ecorcuccan.ca/wp-content/uploads/2023/08/First-Third-Ministry-Leaders-Monthly-Zoom-check-in-Evening.png
ORGANIZER;CN="East Central Ontario Regional Council":MAILTO:eastcentralontario@united-church.ca
END:VEVENT
BEGIN:VEVENT
DTSTART;TZID=America/Toronto:20231121T130000
DTEND;TZID=America/Toronto:20231121T143000
DTSTAMP:20260423T071124
CREATED:20230816T163649Z
LAST-MODIFIED:20231005T163346Z
UID:73040-1700571600-1700577000@ecorcuccan.ca
SUMMARY:First Third Ministry Leaders- Monthly Zoom check in (afternoon)
DESCRIPTION:First Third Ministry Leaders- Monthly Zoom check in (afternoon) \nThird Tuesday of the month  \n\nCONNECTING First Third Ministry Leaders (leaders of children\, youth and young adults).\nWe have started a monthly zoom check in for anyone who is offering leadership to children\, youth and young adults in the Regional Council. Please sign up using the link below. Everyone is welcome. It is a space to get to know other leaders\, share ideas\, share challenges and to connect with each other.\n\n\n\n\nLeaders zoom check in at  1:00 pm to 2:15 pm on the following dates: \n\nTuesday September 19th\nTuesday October 17th\nTuesday November 21st\nDecember date (TBD)\n\n\n\nPlease fill in this form and the zoom link will be emailed to you.\n\nhttps://ecorcuccan.ca/connecting-first-third-ministry-leaders/\n\n\nAny questions please email Sharon Hull @ shull@united-church.ca
URL:https://ecorcuccan.ca/event/first-third-ministry-leaders-monthly-zoom-check-in-afternoon-3/
LOCATION:ONLINE\, Zoom link with registration
CATEGORIES:Cluster Gatherings,ECORC Events,ECORC Programs,Formation
ATTACH;FMTTYPE=image/png:https://ecorcuccan.ca/wp-content/uploads/2023/08/First-Third-Ministry-Leaders-Monthly-Zoom-check-in-Afternoon.png
ORGANIZER;CN="East Central Ontario Regional Council":MAILTO:eastcentralontario@united-church.ca
END:VEVENT
END:VCALENDAR