BEGIN:VCALENDAR
VERSION:2.0
PRODID:-//East Central Ontario Regional Council of the United Church of Canada - ECPv6.15.20//NONSGML v1.0//EN
CALSCALE:GREGORIAN
METHOD:PUBLISH
X-WR-CALNAME:East Central Ontario Regional Council of the United Church of Canada
X-ORIGINAL-URL:https://ecorcuccan.ca
X-WR-CALDESC:Events for East Central Ontario Regional Council of the United Church of Canada
REFRESH-INTERVAL;VALUE=DURATION:PT1H
X-Robots-Tag:noindex
X-PUBLISHED-TTL:PT1H
BEGIN:VTIMEZONE
TZID:America/Toronto
BEGIN:DAYLIGHT
TZOFFSETFROM:-0500
TZOFFSETTO:-0400
TZNAME:EDT
DTSTART:20220313T070000
END:DAYLIGHT
BEGIN:STANDARD
TZOFFSETFROM:-0400
TZOFFSETTO:-0500
TZNAME:EST
DTSTART:20221106T060000
END:STANDARD
BEGIN:DAYLIGHT
TZOFFSETFROM:-0500
TZOFFSETTO:-0400
TZNAME:EDT
DTSTART:20230312T070000
END:DAYLIGHT
BEGIN:STANDARD
TZOFFSETFROM:-0400
TZOFFSETTO:-0500
TZNAME:EST
DTSTART:20231105T060000
END:STANDARD
BEGIN:DAYLIGHT
TZOFFSETFROM:-0500
TZOFFSETTO:-0400
TZNAME:EDT
DTSTART:20240310T070000
END:DAYLIGHT
BEGIN:STANDARD
TZOFFSETFROM:-0400
TZOFFSETTO:-0500
TZNAME:EST
DTSTART:20241103T060000
END:STANDARD
END:VTIMEZONE
BEGIN:VEVENT
DTSTART;TZID=America/Toronto:20230407T103000
DTEND;TZID=America/Toronto:20230407T120000
DTSTAMP:20260425T233253
CREATED:20230322T152539Z
LAST-MODIFIED:20230322T153109Z
UID:62286-1680863400-1680868800@ecorcuccan.ca
SUMMARY:Good Friday Cantata - No Greater Love
DESCRIPTION:Remembering the Death and Resurrection of Jesus \nWe welcome all to attend\, as the choir of Greenwood United Church in Peterborough shares their gift of music “NO Greater Love” by Lloyd Larson\, Orchestrated by Ed Hogan \nUnder the Musical Direction of Marion Griffin \nThe service begins at 10:30\,\n737 Donwood Dr\, Peterborough
URL:https://ecorcuccan.ca/event/good-friday-cantata-no-greater-love/
LOCATION:Greenwood United Church\, Peterborough\, 737 Donwood Dr\, Peterborough\, Ont\, K9L 1G6\, Canada
CATEGORIES:Community of Faith Events
ATTACH;FMTTYPE=image/png:https://ecorcuccan.ca/wp-content/uploads/2019/10/300s300-standard-default.png
END:VEVENT
BEGIN:VEVENT
DTSTART;TZID=America/Toronto:20230415T193000
DTEND;TZID=America/Toronto:20230415T210000
DTSTAMP:20260425T233253
CREATED:20230309T195302Z
LAST-MODIFIED:20230309T195302Z
UID:62277-1681587000-1681592400@ecorcuccan.ca
SUMMARY:The Two-Man Quartet
DESCRIPTION:
URL:https://ecorcuccan.ca/event/the-two-man-quartet/
LOCATION:St. Mark’s United Church\, Cannifton\, 237 Cannifton Road North\, Cannifton\, ON\, K0H 1K0\, Canada
CATEGORIES:Community of Faith Events
ATTACH;FMTTYPE=image/jpeg:https://ecorcuccan.ca/wp-content/uploads/2023/03/A-Million-Dollar-Duo-Cannifton-2023-8.5x11-scaled.jpg
END:VEVENT
BEGIN:VEVENT
DTSTART;TZID=America/Toronto:20230426T163000
DTEND;TZID=America/Toronto:20230426T183000
DTSTAMP:20260425T233253
CREATED:20230420T200235Z
LAST-MODIFIED:20230420T200235Z
UID:63368-1682526600-1682533800@ecorcuccan.ca
SUMMARY:Moscow United Church Fish Fry!
DESCRIPTION:
URL:https://ecorcuccan.ca/event/moscow-united-church-fish-fry/
LOCATION:Moscow United Church\, 25 Huffman Rd\, Yarker\, Ont\, K0K 3N0\, Canada
CATEGORIES:Community of Faith Events,Fundraiser
ATTACH;FMTTYPE=image/jpeg:https://ecorcuccan.ca/wp-content/uploads/2023/04/unnamed-4.jpg
END:VEVENT
BEGIN:VEVENT
DTSTART;TZID=America/Toronto:20230428T080000
DTEND;TZID=America/Toronto:20230428T130000
DTSTAMP:20260425T233253
CREATED:20230324T181836Z
LAST-MODIFIED:20230324T181836Z
UID:62693-1682668800-1682686800@ecorcuccan.ca
SUMMARY:Westminster United Church Indoor/Outdoor Yard Sale
DESCRIPTION:
URL:https://ecorcuccan.ca/event/westminster-united-church-indoor-outdoor-yard-sale/
LOCATION:Westminster United Church\, Belleville\, 1199 Wallbridge Loyalist Rd\, Belleville\, Ontario\, K8N 4Z5\, Canada
CATEGORIES:Community of Faith Events,Fundraiser
ATTACH;FMTTYPE=application/pdf:https://ecorcuccan.ca/wp-content/uploads/2023/03/CHURCH-YARD-SALE.pdf
END:VEVENT
END:VCALENDAR