BEGIN:VCALENDAR
VERSION:2.0
PRODID:-//East Central Ontario Regional Council of the United Church of Canada - ECPv6.15.20//NONSGML v1.0//EN
CALSCALE:GREGORIAN
METHOD:PUBLISH
X-ORIGINAL-URL:https://ecorcuccan.ca
X-WR-CALDESC:Events for East Central Ontario Regional Council of the United Church of Canada
REFRESH-INTERVAL;VALUE=DURATION:PT1H
X-Robots-Tag:noindex
X-PUBLISHED-TTL:PT1H
BEGIN:VTIMEZONE
TZID:America/Toronto
BEGIN:DAYLIGHT
TZOFFSETFROM:-0500
TZOFFSETTO:-0400
TZNAME:EDT
DTSTART:20220313T070000
END:DAYLIGHT
BEGIN:STANDARD
TZOFFSETFROM:-0400
TZOFFSETTO:-0500
TZNAME:EST
DTSTART:20221106T060000
END:STANDARD
BEGIN:DAYLIGHT
TZOFFSETFROM:-0500
TZOFFSETTO:-0400
TZNAME:EDT
DTSTART:20230312T070000
END:DAYLIGHT
BEGIN:STANDARD
TZOFFSETFROM:-0400
TZOFFSETTO:-0500
TZNAME:EST
DTSTART:20231105T060000
END:STANDARD
BEGIN:DAYLIGHT
TZOFFSETFROM:-0500
TZOFFSETTO:-0400
TZNAME:EDT
DTSTART:20240310T070000
END:DAYLIGHT
BEGIN:STANDARD
TZOFFSETFROM:-0400
TZOFFSETTO:-0500
TZNAME:EST
DTSTART:20241103T060000
END:STANDARD
END:VTIMEZONE
BEGIN:VEVENT
DTSTART;TZID=America/Toronto:20230704T090000
DTEND;TZID=America/Toronto:20230707T120000
DTSTAMP:20260425T185018
CREATED:20230508T155806Z
LAST-MODIFIED:20230508T155806Z
UID:63775-1688461200-1688731200@ecorcuccan.ca
SUMMARY:Roar! Vacation Bible School - Trinity United Church\, Napanee
DESCRIPTION:Trinity United Church Napanee is excited to host ROAR Vacation Bible School Summer 2023!\nKindergarten to Grade 6\nTuesday July 4 – Friday July 7\, 9am to Noon!\nOnline Registration is now open.
URL:https://ecorcuccan.ca/event/roar-vacation-bible-school-trinity-united-church-napanee/
LOCATION:Trinity United Church – Napanee\, 25 Bridge Street East\, Napanee\, ON\, K7R 1R5\, Canada
CATEGORIES:Community of Faith Events,Educational,Other Events,Vacation Bible School,Youth
ATTACH;FMTTYPE=image/jpeg:https://ecorcuccan.ca/wp-content/uploads/2023/05/Roar-poster.jpg
END:VEVENT
BEGIN:VEVENT
DTSTART;TZID=America/Toronto:20230709T100000
DTEND;TZID=America/Toronto:20230709T123000
DTSTAMP:20260425T185018
CREATED:20230623T145113Z
LAST-MODIFIED:20230623T145113Z
UID:66682-1688896800-1688905800@ecorcuccan.ca
SUMMARY:Retirement Service
DESCRIPTION:We will be holding Rev. Christopher White’s retirement service at Kedron United Church on Sunday\, July 9th\, 2023 @ 10am.\nFollowing the service will be a time of fellowship and a potluck lunch.\nAll are invited to bid Rev. Christopher a fond farewell and a happy retirement.
URL:https://ecorcuccan.ca/event/retirement-service/
LOCATION:Kedron United Church\, 1995 Ritson Road North\, Oshawa\, Ontario\, L1K 0Z9\, Canada
CATEGORIES:Community of Faith Events
ATTACH;FMTTYPE=image/jpeg:https://ecorcuccan.ca/wp-content/uploads/2023/06/Christophers-Bio-Pic-scaled.jpg
END:VEVENT
END:VCALENDAR