BEGIN:VCALENDAR
VERSION:2.0
PRODID:-//East Central Ontario Regional Council of the United Church of Canada - ECPv6.15.20//NONSGML v1.0//EN
CALSCALE:GREGORIAN
METHOD:PUBLISH
X-WR-CALNAME:East Central Ontario Regional Council of the United Church of Canada
X-ORIGINAL-URL:https://ecorcuccan.ca
X-WR-CALDESC:Events for East Central Ontario Regional Council of the United Church of Canada
REFRESH-INTERVAL;VALUE=DURATION:PT1H
X-Robots-Tag:noindex
X-PUBLISHED-TTL:PT1H
BEGIN:VTIMEZONE
TZID:America/Toronto
BEGIN:DAYLIGHT
TZOFFSETFROM:-0500
TZOFFSETTO:-0400
TZNAME:EDT
DTSTART:20220313T070000
END:DAYLIGHT
BEGIN:STANDARD
TZOFFSETFROM:-0400
TZOFFSETTO:-0500
TZNAME:EST
DTSTART:20221106T060000
END:STANDARD
BEGIN:DAYLIGHT
TZOFFSETFROM:-0500
TZOFFSETTO:-0400
TZNAME:EDT
DTSTART:20230312T070000
END:DAYLIGHT
BEGIN:STANDARD
TZOFFSETFROM:-0400
TZOFFSETTO:-0500
TZNAME:EST
DTSTART:20231105T060000
END:STANDARD
BEGIN:DAYLIGHT
TZOFFSETFROM:-0500
TZOFFSETTO:-0400
TZNAME:EDT
DTSTART:20240310T070000
END:DAYLIGHT
BEGIN:STANDARD
TZOFFSETFROM:-0400
TZOFFSETTO:-0500
TZNAME:EST
DTSTART:20241103T060000
END:STANDARD
END:VTIMEZONE
BEGIN:VEVENT
DTSTART;TZID=America/Toronto:20230820T133000
DTEND;TZID=America/Toronto:20230820T160000
DTSTAMP:20260425T173148
CREATED:20230802T183005Z
LAST-MODIFIED:20230802T183136Z
UID:71226-1692538200-1692547200@ecorcuccan.ca
SUMMARY:Annual summer service at Hazzard’s Corners Church
DESCRIPTION:Hazzard’s Corners Church\n3080 Queensborough Road\nSummer in a country church\nSpecial music 1:30 p.m.\nWorship service 2:00 p. m.\nGuest speaker Rev. Dr. John Young\nThe 1916 Cooper Red Cross Signature Quilt will be on display.\nRefreshments and social hour to follow.
URL:https://ecorcuccan.ca/event/annual-summer-service-at-hazzards-corners-church/
LOCATION:Hazzard’s Corners Church\, 3080 Queensborough Road\, Madoc\, Ontario\, K0K 2K0\, Canada
CATEGORIES:Community of Faith Events,News,Other Events
ATTACH;FMTTYPE=image/jpeg:https://ecorcuccan.ca/wp-content/uploads/2023/08/11045301_1382870805367913_559800769425110985_o.jpg
END:VEVENT
END:VCALENDAR