BEGIN:VCALENDAR
VERSION:2.0
PRODID:-//East Central Ontario Regional Council of the United Church of Canada - ECPv6.15.20//NONSGML v1.0//EN
CALSCALE:GREGORIAN
METHOD:PUBLISH
X-ORIGINAL-URL:https://ecorcuccan.ca
X-WR-CALDESC:Events for East Central Ontario Regional Council of the United Church of Canada
REFRESH-INTERVAL;VALUE=DURATION:PT1H
X-Robots-Tag:noindex
X-PUBLISHED-TTL:PT1H
BEGIN:VTIMEZONE
TZID:America/Toronto
BEGIN:DAYLIGHT
TZOFFSETFROM:-0500
TZOFFSETTO:-0400
TZNAME:EDT
DTSTART:20220313T070000
END:DAYLIGHT
BEGIN:STANDARD
TZOFFSETFROM:-0400
TZOFFSETTO:-0500
TZNAME:EST
DTSTART:20221106T060000
END:STANDARD
BEGIN:DAYLIGHT
TZOFFSETFROM:-0500
TZOFFSETTO:-0400
TZNAME:EDT
DTSTART:20230312T070000
END:DAYLIGHT
BEGIN:STANDARD
TZOFFSETFROM:-0400
TZOFFSETTO:-0500
TZNAME:EST
DTSTART:20231105T060000
END:STANDARD
BEGIN:DAYLIGHT
TZOFFSETFROM:-0500
TZOFFSETTO:-0400
TZNAME:EDT
DTSTART:20240310T070000
END:DAYLIGHT
BEGIN:STANDARD
TZOFFSETFROM:-0400
TZOFFSETTO:-0500
TZNAME:EST
DTSTART:20241103T060000
END:STANDARD
END:VTIMEZONE
BEGIN:VEVENT
DTSTART;TZID=America/Toronto:20231014T190000
DTEND;TZID=America/Toronto:20231014T210000
DTSTAMP:20260425T143305
CREATED:20231005T184526Z
LAST-MODIFIED:20231005T184526Z
UID:78253-1697310000-1697317200@ecorcuccan.ca
SUMMARY:Elvis in the House
DESCRIPTION:This is our big fall fundraiser with all proceeds to our local fund at Westminster United Church\, Whitby\, Ont!! Doors open at 6:00 PM and show starts at 7:00 PM. Tickets can also be purchased at the door!!\nPlease contact Margaret Suepaul via email with any questions: margaretsuepaul@gmail.com
URL:https://ecorcuccan.ca/event/elvis-in-the-house/
LOCATION:Westminster United Church Whitby\, 1850 Rossland Rd. East\, Whitby\, Ontario\, L1N 4V7\, Canada
CATEGORIES:Community of Faith Events
ATTACH;FMTTYPE=image/png:https://ecorcuccan.ca/wp-content/uploads/2023/10/Elvis-in-the-House-Oct.-14th-2023-@-7PM.png
END:VEVENT
BEGIN:VEVENT
DTSTART;TZID=America/Toronto:20231021T110000
DTEND;TZID=America/Toronto:20231021T140000
DTSTAMP:20260425T143305
CREATED:20231012T203556Z
LAST-MODIFIED:20231012T203556Z
UID:78390-1697886000-1697896800@ecorcuccan.ca
SUMMARY:Fall Fest Bazaar
DESCRIPTION:
URL:https://ecorcuccan.ca/event/fall-fest-bazaar/
LOCATION:Centennial Albert United Church\, 19 Rosehill Boulevard\,\, Oshawa\, Canada
CATEGORIES:Community of Faith Events,Fundraiser
ATTACH;FMTTYPE=application/pdf:https://ecorcuccan.ca/wp-content/uploads/2023/10/CAUC-Fall-Fest-Bazaar-Poster-2023-Revised.pdf
END:VEVENT
BEGIN:VEVENT
DTSTART;TZID=America/Toronto:20231028T080000
DTEND;TZID=America/Toronto:20231028T120000
DTSTAMP:20260425T143305
CREATED:20231020T004210Z
LAST-MODIFIED:20231020T004210Z
UID:78820-1698480000-1698494400@ecorcuccan.ca
SUMMARY:Rummage and Bake Sale
DESCRIPTION:Adult and Children’s Clothing plus a bake sake\nAll itmes under $5.00
URL:https://ecorcuccan.ca/event/rummage-and-bake-sale/
LOCATION:Bethany United Church\, 3 George Street\, Bethany\, Ontario\, Canada
CATEGORIES:Community of Faith Events
ATTACH;FMTTYPE=image/jpeg:https://ecorcuccan.ca/wp-content/uploads/2023/10/Rummage-Sale.jpg
END:VEVENT
END:VCALENDAR