BEGIN:VCALENDAR
VERSION:2.0
PRODID:-//East Central Ontario Regional Council of the United Church of Canada - ECPv6.15.20//NONSGML v1.0//EN
CALSCALE:GREGORIAN
METHOD:PUBLISH
X-ORIGINAL-URL:https://ecorcuccan.ca
X-WR-CALDESC:Events for East Central Ontario Regional Council of the United Church of Canada
REFRESH-INTERVAL;VALUE=DURATION:PT1H
X-Robots-Tag:noindex
X-PUBLISHED-TTL:PT1H
BEGIN:VTIMEZONE
TZID:America/Toronto
BEGIN:DAYLIGHT
TZOFFSETFROM:-0500
TZOFFSETTO:-0400
TZNAME:EDT
DTSTART:20220313T070000
END:DAYLIGHT
BEGIN:STANDARD
TZOFFSETFROM:-0400
TZOFFSETTO:-0500
TZNAME:EST
DTSTART:20221106T060000
END:STANDARD
BEGIN:DAYLIGHT
TZOFFSETFROM:-0500
TZOFFSETTO:-0400
TZNAME:EDT
DTSTART:20230312T070000
END:DAYLIGHT
BEGIN:STANDARD
TZOFFSETFROM:-0400
TZOFFSETTO:-0500
TZNAME:EST
DTSTART:20231105T060000
END:STANDARD
BEGIN:DAYLIGHT
TZOFFSETFROM:-0500
TZOFFSETTO:-0400
TZNAME:EDT
DTSTART:20240310T070000
END:DAYLIGHT
BEGIN:STANDARD
TZOFFSETFROM:-0400
TZOFFSETTO:-0500
TZNAME:EST
DTSTART:20241103T060000
END:STANDARD
END:VTIMEZONE
BEGIN:VEVENT
DTSTART;TZID=America/Toronto:20231103T170000
DTEND;TZID=America/Toronto:20231103T180000
DTSTAMP:20260425T130736
CREATED:20231012T200606Z
LAST-MODIFIED:20231012T200606Z
UID:78378-1699030800-1699034400@ecorcuccan.ca
SUMMARY:Takeout Turkey Dinner in Support of Port Hope United Church Women
DESCRIPTION:Enjoy a homemade turkey dinner with all the trimmings! Take out available on Friday November 3\, 2023 from 5:00pm to 6:00pm. Drive thru our church parking lot for pickup. You don’t even need to get out of the car! \nTickets are $25/per person\, available by calling the church office at 905-885-2421. Please order by October 24\, by cash only. \nPort Hope United Church is located at 34 South Street in Port Hope\, Ontario.
URL:https://ecorcuccan.ca/event/takeout-turkey-dinner-in-support-of-port-hope-united-church-women/
LOCATION:Port Hope United Church\, 34 South Street\, Port Hope\, Ontario\, L1A 1R8\, Canada
CATEGORIES:Community of Faith Events,Fundraiser
ATTACH;FMTTYPE=image/jpeg:https://ecorcuccan.ca/wp-content/uploads/2023/10/Turkey-Dinner-Nov-3-2023.jpg
END:VEVENT
BEGIN:VEVENT
DTSTART;TZID=America/Toronto:20231111T080000
DTEND;TZID=America/Toronto:20231111T140000
DTSTAMP:20260425T130736
CREATED:20231020T010325Z
LAST-MODIFIED:20231020T010325Z
UID:78911-1699689600-1699711200@ecorcuccan.ca
SUMMARY:Westminster Christmas Bazaar
DESCRIPTION:
URL:https://ecorcuccan.ca/event/westminster-christmas-bazaar/
LOCATION:Westminster United Church\, Belleville\, 1199 Wallbridge Loyalist Rd\, Belleville\, Ontario\, K8N 4Z5\, Canada
CATEGORIES:Community of Faith Events
ATTACH;FMTTYPE=application/pdf:https://ecorcuccan.ca/wp-content/uploads/2023/10/Christmas-Festival-2023-Poster.pdf
END:VEVENT
BEGIN:VEVENT
DTSTART;TZID=America/Toronto:20231118T100000
DTEND;TZID=America/Toronto:20231118T130000
DTSTAMP:20260425T130736
CREATED:20231012T200533Z
LAST-MODIFIED:20231012T200533Z
UID:78381-1700301600-1700312400@ecorcuccan.ca
SUMMARY:85th Annual Christmas Fayre at Port Hope United Church
DESCRIPTION:Join us for a time honored tradition!\nThe 85th Annual Port Hope United Church Christmas Fayre will be held on Saturday November 18\, 2023 from 10am to 1pm. We will offer a wonderful selection of homemade baking\, preserves\, delicatessen foods\, as well as handmade crafts\, knitting and seasonal decor for your home or gifting. This event is wheel chair accessible\, with free admission and parking. Cash only\, sorry no debit or credit. All are welcome! \nPort Hope United Church is located at 34 South Street (1 block north of Walton St.) in Port Hope.
URL:https://ecorcuccan.ca/event/85th-annual-christmas-fayre-at-port-hope-united-church/
LOCATION:Port Hope United Church\, 34 South Street\, Port Hope\, Ontario\, L1A 1R8\, Canada
CATEGORIES:Community of Faith Events,Fundraiser,United Church Women (UCW)
ATTACH;FMTTYPE=image/jpeg:https://ecorcuccan.ca/wp-content/uploads/2023/10/PHUC-Fayre-Poster-Nov-18-2023.jpg
END:VEVENT
BEGIN:VEVENT
DTSTART;TZID=America/Toronto:20231118T100000
DTEND;TZID=America/Toronto:20231118T140000
DTSTAMP:20260425T130736
CREATED:20231020T005345Z
LAST-MODIFIED:20231020T005345Z
UID:78902-1700301600-1700316000@ecorcuccan.ca
SUMMARY:United Marketplace Tour
DESCRIPTION:
URL:https://ecorcuccan.ca/event/united-marketplace-tour/
LOCATION:Ontario
CATEGORIES:Community of Faith Events
ATTACH;FMTTYPE=image/png:https://ecorcuccan.ca/wp-content/uploads/2023/10/Capture.png
END:VEVENT
BEGIN:VEVENT
DTSTART;TZID=America/Toronto:20231118T133000
DTEND;TZID=America/Toronto:20231118T153000
DTSTAMP:20260425T130736
CREATED:20231005T184422Z
LAST-MODIFIED:20231005T184422Z
UID:78277-1700314200-1700321400@ecorcuccan.ca
SUMMARY:Made In the Image Concert
DESCRIPTION:Singer-songwriter Danah-Lee will perform live at Cressy Glenora United Church on Saturday\, Nov 18th at 2pm. (Doors open 1:30). Admission is PWYC (pay what you can) to benefit our new Affirming Ministry. THANK YOU DANAH-LEE! Reception to follow. RSVP appreciated but not required at cressyglenorachurch@gmail.com \nDanah-Lee Website: https://www.danahleemusic.com \nChurch website: https://cressyglenorauc.wixsite.com/website
URL:https://ecorcuccan.ca/event/made-in-the-image-concert/
LOCATION:Cressy Glenora United Church\, 3442 County Road 7\, Prince Edward County\, On\, Canada
CATEGORIES:Affirming Forum,Community of Faith Events
ATTACH;FMTTYPE=image/png:https://ecorcuccan.ca/wp-content/uploads/2023/10/Danah-Lee-at-Cressy-Glenora-UC-Nov-2023.png
END:VEVENT
BEGIN:VEVENT
DTSTART;TZID=America/Toronto:20231125T120000
DTEND;TZID=America/Toronto:20231125T120000
DTSTAMP:20260425T130736
CREATED:20231103T171412Z
LAST-MODIFIED:20231103T171454Z
UID:81551-1700913600-1700913600@ecorcuccan.ca
SUMMARY:Foxboro's Santa Parade!
DESCRIPTION:
URL:https://ecorcuccan.ca/event/foxboros-santa-parade/
LOCATION:Emmanual United Church\, Foxboro\, 458 Ashley Street\, Foxboro\, Ontario\, K0K 2B0\, Canada
CATEGORIES:Community of Faith Events
ATTACH;FMTTYPE=image/png:https://ecorcuccan.ca/wp-content/uploads/2023/11/foxboro-santa-parade-2023-002.png
END:VEVENT
END:VCALENDAR