BEGIN:VCALENDAR
VERSION:2.0
PRODID:-//East Central Ontario Regional Council of the United Church of Canada - ECPv6.15.20//NONSGML v1.0//EN
CALSCALE:GREGORIAN
METHOD:PUBLISH
X-ORIGINAL-URL:https://ecorcuccan.ca
X-WR-CALDESC:Events for East Central Ontario Regional Council of the United Church of Canada
REFRESH-INTERVAL;VALUE=DURATION:PT1H
X-Robots-Tag:noindex
X-PUBLISHED-TTL:PT1H
BEGIN:VTIMEZONE
TZID:America/Toronto
BEGIN:DAYLIGHT
TZOFFSETFROM:-0500
TZOFFSETTO:-0400
TZNAME:EDT
DTSTART:20220313T070000
END:DAYLIGHT
BEGIN:STANDARD
TZOFFSETFROM:-0400
TZOFFSETTO:-0500
TZNAME:EST
DTSTART:20221106T060000
END:STANDARD
BEGIN:DAYLIGHT
TZOFFSETFROM:-0500
TZOFFSETTO:-0400
TZNAME:EDT
DTSTART:20230312T070000
END:DAYLIGHT
BEGIN:STANDARD
TZOFFSETFROM:-0400
TZOFFSETTO:-0500
TZNAME:EST
DTSTART:20231105T060000
END:STANDARD
BEGIN:DAYLIGHT
TZOFFSETFROM:-0500
TZOFFSETTO:-0400
TZNAME:EDT
DTSTART:20240310T070000
END:DAYLIGHT
BEGIN:STANDARD
TZOFFSETFROM:-0400
TZOFFSETTO:-0500
TZNAME:EST
DTSTART:20241103T060000
END:STANDARD
END:VTIMEZONE
BEGIN:VEVENT
DTSTART;VALUE=DATE:20231201
DTEND;VALUE=DATE:20231202
DTSTAMP:20260425T115153
CREATED:20231123T203848Z
LAST-MODIFIED:20231123T203848Z
UID:85257-1701388800-1701475199@ecorcuccan.ca
SUMMARY:Newburgh and Centreville United Church Members are having a Holiday Baking Sale!
DESCRIPTION:
URL:https://ecorcuccan.ca/event/newburgh-and-centreville-united-church-members-are-having-a-holiday-baking-sale/
LOCATION:Newburgh Centreville Pastoral Charge
CATEGORIES:Community of Faith Events,Fundraiser
ATTACH;FMTTYPE=application/pdf:https://ecorcuccan.ca/wp-content/uploads/2023/11/Bake-Sale-Poster-2023-1.pdf
END:VEVENT
BEGIN:VEVENT
DTSTART;TZID=America/Toronto:20231201T183000
DTEND;TZID=America/Toronto:20231201T200000
DTSTAMP:20260425T115153
CREATED:20231130T161824Z
LAST-MODIFIED:20231130T161824Z
UID:85965-1701455400-1701460800@ecorcuccan.ca
SUMMARY:Drive Thru' Live Nativity
DESCRIPTION:The Newburgh-Centreville Pastoral Charge is hosting a Drive Thru’ LIVE Nativity Friday Dec. 1st. from 6:30-8:00 p.m. Donation to Morning Star Mission in Napanee would be appreciated. Everyone is welcome to view the coming of Jesus as prophesied by Isaiah and fulfilled in Matt. 1: 18-23
URL:https://ecorcuccan.ca/event/drive-thru-live-nativity/
LOCATION:Newburgh Centreville Pastoral Charge
CATEGORIES:Community of Faith Events
ATTACH;FMTTYPE=image/jpeg:https://ecorcuccan.ca/wp-content/uploads/2023/11/Live-Nativity-Poster.jpg
END:VEVENT
BEGIN:VEVENT
DTSTART;TZID=America/Toronto:20231203T173000
DTEND;TZID=America/Toronto:20231203T183000
DTSTAMP:20260425T115153
CREATED:20231120T145151Z
LAST-MODIFIED:20231120T145151Z
UID:84474-1701624600-1701628200@ecorcuccan.ca
SUMMARY:Christmas Party and Tree Lighting
DESCRIPTION:This is a free community event! Wear festive attire. Bring your letter to Santa and an Ornament for the Tree\, Tree Lighting at 6 p.m.\, Childrens’ Activities\, Singing Christmas Songs\, Hot Chocolate and A Treat.
URL:https://ecorcuccan.ca/event/christmas-party-and-tree-lighting/
LOCATION:Mark St. United Church\, Peterborough\, 90 Hunter Street East\, Peterborough\, Ontario\, K9H 1G5\, Canada
CATEGORIES:Community of Faith Events,Other Events
ATTACH;FMTTYPE=image/png:https://ecorcuccan.ca/wp-content/uploads/2023/11/PARTY.png
END:VEVENT
BEGIN:VEVENT
DTSTART;TZID=America/Toronto:20231210T190000
DTEND;TZID=America/Toronto:20231210T190000
DTSTAMP:20260425T115153
CREATED:20231201T155710Z
LAST-MODIFIED:20231201T155710Z
UID:86206-1702234800-1702234800@ecorcuccan.ca
SUMMARY:"The Sounds of Christmas" Cantata
DESCRIPTION:
URL:https://ecorcuccan.ca/event/the-sounds-of-christmas-cantata/
LOCATION:Trenton United Church\, 85 Dundas Street East\, Trenton\, Ontario\, K8V-1K8\, Canada
CATEGORIES:Community of Faith Events
ATTACH;FMTTYPE=application/pdf:https://ecorcuccan.ca/wp-content/uploads/2023/12/Cantata2023-Ad.pdf
END:VEVENT
BEGIN:VEVENT
DTSTART;TZID=America/Toronto:20231214T080000
DTEND;TZID=America/Toronto:20231215T170000
DTSTAMP:20260425T115153
CREATED:20231130T161922Z
LAST-MODIFIED:20231130T161922Z
UID:85961-1702540800-1702659600@ecorcuccan.ca
SUMMARY:Holiday Baking Offer
DESCRIPTION:Back by popular demand! Newburgh and Centreville United Churches are undertaking another Holiday Bake Sale. Fancy cookies and squares arranged in a festive cookie tin will be available Dec\, 14th-15th. ! dozen=$10.00. Please see poster for contact details or e-mail jfburns@kos.net. Deadline to order extended to Dec. 5th.
URL:https://ecorcuccan.ca/event/holiday-baking-offer/
LOCATION:Ontario
CATEGORIES:Community of Faith Events
ATTACH;FMTTYPE=image/jpeg:https://ecorcuccan.ca/wp-content/uploads/2023/11/Holiday-Baking-Poster.jpg
END:VEVENT
BEGIN:VEVENT
DTSTART;TZID=America/Toronto:20231221T160000
DTEND;TZID=America/Toronto:20231221T160000
DTSTAMP:20260425T115153
CREATED:20231206T154714Z
LAST-MODIFIED:20231206T154751Z
UID:86603-1703174400-1703174400@ecorcuccan.ca
SUMMARY:Longest Night Service 2023
DESCRIPTION:
URL:https://ecorcuccan.ca/event/longest-night-service-2023/
LOCATION:Cooke’s Portsmouth United Church\, 200 Norman Rogers Drive\, Kingston\, Ontario\, Canada
CATEGORIES:Community of Faith Events
ATTACH;FMTTYPE=application/pdf:https://ecorcuccan.ca/wp-content/uploads/2023/12/Longest-Night-Service-2023-1.pdf
END:VEVENT
END:VCALENDAR