BEGIN:VCALENDAR
VERSION:2.0
PRODID:-//East Central Ontario Regional Council of the United Church of Canada - ECPv6.15.20//NONSGML v1.0//EN
CALSCALE:GREGORIAN
METHOD:PUBLISH
X-ORIGINAL-URL:https://ecorcuccan.ca
X-WR-CALDESC:Events for East Central Ontario Regional Council of the United Church of Canada
REFRESH-INTERVAL;VALUE=DURATION:PT1H
X-Robots-Tag:noindex
X-PUBLISHED-TTL:PT1H
BEGIN:VTIMEZONE
TZID:America/Toronto
BEGIN:DAYLIGHT
TZOFFSETFROM:-0500
TZOFFSETTO:-0400
TZNAME:EDT
DTSTART:20230312T070000
END:DAYLIGHT
BEGIN:STANDARD
TZOFFSETFROM:-0400
TZOFFSETTO:-0500
TZNAME:EST
DTSTART:20231105T060000
END:STANDARD
BEGIN:DAYLIGHT
TZOFFSETFROM:-0500
TZOFFSETTO:-0400
TZNAME:EDT
DTSTART:20240310T070000
END:DAYLIGHT
BEGIN:STANDARD
TZOFFSETFROM:-0400
TZOFFSETTO:-0500
TZNAME:EST
DTSTART:20241103T060000
END:STANDARD
BEGIN:DAYLIGHT
TZOFFSETFROM:-0500
TZOFFSETTO:-0400
TZNAME:EDT
DTSTART:20250309T070000
END:DAYLIGHT
BEGIN:STANDARD
TZOFFSETFROM:-0400
TZOFFSETTO:-0500
TZNAME:EST
DTSTART:20251102T060000
END:STANDARD
END:VTIMEZONE
BEGIN:VEVENT
DTSTART;TZID=America/Toronto:20240202T080000
DTEND;TZID=America/Toronto:20240202T160000
DTSTAMP:20260425T084332
CREATED:20240117T150907Z
LAST-MODIFIED:20240117T150907Z
UID:87769-1706860800-1706889600@ecorcuccan.ca
SUMMARY:Snow Much Fun!
DESCRIPTION:PA Day program fro Kindergarten to Gr 6 students in the Lakefield area. Registration form will be available soon on our website or through the Lakefield United Church office. 705 652 3126. \nA fun day beginning and ending with a faith based story and conversation. Indoor and outdoor winter fun food\, art\, and activities. \n2 snacks provided.\nOptional lunch program available. \nPlease contact the office to discuss a family discount or bursary.
URL:https://ecorcuccan.ca/event/snow-much-fun/
LOCATION:Lakefield United Church\, 47 Regent Street\, Lakefield\, Lakefield\, Ontario\, K0L 2H0\, Canada
CATEGORIES:Community of Faith Events
ATTACH;FMTTYPE=image/jpeg:https://ecorcuccan.ca/wp-content/uploads/2024/01/PA-Day-Program-Feb-2-2024.1-1.jpeg
END:VEVENT
BEGIN:VEVENT
DTSTART;TZID=America/Toronto:20240204T100000
DTEND;TZID=America/Toronto:20240204T110000
DTSTAMP:20260425T084332
CREATED:20240124T172935Z
LAST-MODIFIED:20240124T172935Z
UID:89110-1707040800-1707044400@ecorcuccan.ca
SUMMARY:Black History Month - Tribute to the life of Samuel Stout
DESCRIPTION:“Celebrate Black History Month with us on Sunday\, February 4\, from 10-11am\, as we pay tribute to the life of Samuel Stout\, Port Perry’s first black resident. \nDon’t miss the dynamic collaboration between Uju Umenyi\, an emerging writer\, actor\, and playwright\, and Theatre on the Ridge. They will be delivering an exhilarating complimentary performance\, providing a captivating glimpse into the life of this remarkable character.”
URL:https://ecorcuccan.ca/event/black-history-month-tribute-to-the-life-of-samuel-stout/
LOCATION:Greenbank United Church\, 19991 Highway 12\, Ontario\, L0C 1B0\, Canada
CATEGORIES:Black History Month,Community of Faith Events
ATTACH;FMTTYPE=application/pdf:https://ecorcuccan.ca/wp-content/uploads/2024/01/Feb4_Poster.pdf
END:VEVENT
BEGIN:VEVENT
DTSTART;TZID=America/Toronto:20240211T123000
DTEND;TZID=America/Toronto:20240211T153000
DTSTAMP:20260425T084332
CREATED:20240129T194416Z
LAST-MODIFIED:20240129T194416Z
UID:89249-1707654600-1707665400@ecorcuccan.ca
SUMMARY:MAPPING THE GROUND WE STAND ON
DESCRIPTION:As an action in learning truth for reconciliation\, The MS and Outreach Committee of Centennial Albert UC\, Eastern Central Ontario Regional Council is hosting an in-person workshop on Sunday February 11th\, 2024\, 12:30 to 3:30 including a break\, optional lunch 11:45-12:15. Event facilitated by Cheryl Marek\, volunteer PWRDF workshop facilitator. \nPlease register by 11:59 PM of Feb. 3rd\, by sending the registration form to cent.albert.uc@gmail.com \nClick HERE for more information and the registration form – please note the form will download directly to your device.
URL:https://ecorcuccan.ca/event/mapping-the-ground-we-stand-on/
LOCATION:Centennial Albert United Church\, 19 Rosehill Boulevard\,\, Oshawa\, Canada
CATEGORIES:Community of Faith Events,Educational,Indigenous
ATTACH;FMTTYPE=image/png:https://ecorcuccan.ca/wp-content/uploads/2024/01/Screenshot-2024-01-29-144130.png
END:VEVENT
BEGIN:VEVENT
DTSTART;TZID=America/Toronto:20240213T170000
DTEND;TZID=America/Toronto:20240213T190000
DTSTAMP:20260425T084332
CREATED:20240129T193244Z
LAST-MODIFIED:20240129T193244Z
UID:89245-1707843600-1707850800@ecorcuccan.ca
SUMMARY:Kingsview's Community Pancake Supper
DESCRIPTION:We will be serving all-you-can-eat pancakes and sausages\, with syrup and toppings\, coffee\, tea and juice and ice cream and cookies for dessert. Cost is $10 for adults and children over 12\, $5 for children 5 to 12 and free for those under 5. Come and join us for a delicious meal of pancakes and bring your friends!  All are welcome. \nKingsview United Church is located at 505 Adelaide Avenue East\, Oshawa. For more information please call our church office at 905-436-2000.
URL:https://ecorcuccan.ca/event/kingsviews-community-pancake-supper/
LOCATION:Kingsview United Church – Oshawa
CATEGORIES:Community of Faith Events,Fundraiser
ATTACH;FMTTYPE=application/pdf:https://ecorcuccan.ca/wp-content/uploads/2024/01/Pancake-Supper-Flyer-Feb-2024.pdf
END:VEVENT
BEGIN:VEVENT
DTSTART;TZID=America/Toronto:20240225T140000
DTEND;TZID=America/Toronto:20240225T140000
DTSTAMP:20260425T084332
CREATED:20240215T155506Z
LAST-MODIFIED:20240215T155506Z
UID:89658-1708869600-1708869600@ecorcuccan.ca
SUMMARY:Music for a Sunday Afternoon
DESCRIPTION:To read the background story of “A Concert of Request”\, please click HERE.
URL:https://ecorcuccan.ca/event/music-for-a-sunday-afternoon/
LOCATION:Arden United Church\, 1076 Railway St\, Arden\, K0H 1B0\, Canada
CATEGORIES:Community of Faith Events,Other Events
ATTACH;FMTTYPE=application/pdf:https://ecorcuccan.ca/wp-content/uploads/2024/02/Music-for-a-Sunday-Afternoon-2-1.pdf
END:VEVENT
END:VCALENDAR