BEGIN:VCALENDAR
VERSION:2.0
PRODID:-//East Central Ontario Regional Council of the United Church of Canada - ECPv6.15.20//NONSGML v1.0//EN
CALSCALE:GREGORIAN
METHOD:PUBLISH
X-ORIGINAL-URL:https://ecorcuccan.ca
X-WR-CALDESC:Events for East Central Ontario Regional Council of the United Church of Canada
REFRESH-INTERVAL;VALUE=DURATION:PT1H
X-Robots-Tag:noindex
X-PUBLISHED-TTL:PT1H
BEGIN:VTIMEZONE
TZID:America/Toronto
BEGIN:DAYLIGHT
TZOFFSETFROM:-0500
TZOFFSETTO:-0400
TZNAME:EDT
DTSTART:20240310T070000
END:DAYLIGHT
BEGIN:STANDARD
TZOFFSETFROM:-0400
TZOFFSETTO:-0500
TZNAME:EST
DTSTART:20241103T060000
END:STANDARD
BEGIN:DAYLIGHT
TZOFFSETFROM:-0500
TZOFFSETTO:-0400
TZNAME:EDT
DTSTART:20250309T070000
END:DAYLIGHT
BEGIN:STANDARD
TZOFFSETFROM:-0400
TZOFFSETTO:-0500
TZNAME:EST
DTSTART:20251102T060000
END:STANDARD
BEGIN:DAYLIGHT
TZOFFSETFROM:-0500
TZOFFSETTO:-0400
TZNAME:EDT
DTSTART:20260308T070000
END:DAYLIGHT
BEGIN:STANDARD
TZOFFSETFROM:-0400
TZOFFSETTO:-0500
TZNAME:EST
DTSTART:20261101T060000
END:STANDARD
END:VTIMEZONE
BEGIN:VEVENT
DTSTART;TZID=America/Toronto:20250501T200000
DTEND;TZID=America/Toronto:20250501T213000
DTSTAMP:20260420T215702
CREATED:20250414T162630Z
LAST-MODIFIED:20250414T162630Z
UID:125374-1746129600-1746135000@ecorcuccan.ca
SUMMARY:"We Are Still Here"
DESCRIPTION:The first step in Reconciliation is the Join us at Port Hope United Church\, 34 South Street\, Port Hope\, Ontario to see the documentary “We Are Still Here”. Three Indigenous women talk about their time in residential schools. The first step in reconciliation with our First Nations is hearing and believing the truth that they tell. Listening to their experiences will lead us on the path to reconciliation. . Thursday\, May 1\, 2025\, 8:00 p.m.\nFrom PHUC’s Truth & Reconciliation Debwewin and Zaagidwin Group.
URL:https://ecorcuccan.ca/event/we-are-still-here/
LOCATION:Port Hope United Church\, 34 South Street\, Port Hope\, Ontario\, L1A 1R8\, Canada
CATEGORIES:Community of Faith Events,Information Sessions
ATTACH;FMTTYPE=image/jpeg:https://ecorcuccan.ca/wp-content/uploads/2025/04/We-Are-Still-Here-may-1-2025.jpg
END:VEVENT
BEGIN:VEVENT
DTSTART;TZID=America/Toronto:20250503T080000
DTEND;TZID=America/Toronto:20250503T150000
DTSTAMP:20260420T215702
CREATED:20250417T144940Z
LAST-MODIFIED:20250417T144940Z
UID:126067-1746259200-1746284400@ecorcuccan.ca
SUMMARY:SPRING RUMMAGE SALE
DESCRIPTION:Join us for our Spring Rummage Sale on Saturday\, May 3\, 2025\, from 8:00 am to 3:00 pm. Are you ready for some fantastic finds? This sale promises something for everyone: Clothing for men\, women\, and children – Books to ignite your imagination – Housewares for your daily needs – Engaging games and puzzles – and so much more!\nOur regular sale runs from 8:00 am to 12:30 pm\, then from 1:00 to 3:00 pm\, it’s our Bring-Your-Bag-to-Fill event. For just $2 or more (depending on the size of your bag)\, you can stuff it full of treasures from our sale! Don’t miss this opportunity to discover hidden gems and support our community. We can’t wait to see you there.
URL:https://ecorcuccan.ca/event/spring-rummage-sale/
LOCATION:Cambridge Street United Church\, 61 Cambridge Street North\, Lindsay\, Ontario\, K9V 4C9\, Canada
CATEGORIES:Community of Faith Events
ATTACH;FMTTYPE=image/png:https://ecorcuccan.ca/wp-content/uploads/2025/04/Spring-2025-Rummage-Sale-8.5-×-11-in-1-1.png
END:VEVENT
BEGIN:VEVENT
DTSTART;TZID=America/Toronto:20250504T143000
DTEND;TZID=America/Toronto:20250504T143000
DTSTAMP:20260420T215702
CREATED:20250417T160427Z
LAST-MODIFIED:20250417T160507Z
UID:126220-1746369000-1746369000@ecorcuccan.ca
SUMMARY:Celebration Concert
DESCRIPTION:Celebration Concert: You’re Invited to an Celebration Concert on Sunday\, May 4\, 2025\, at 2:30 PM (doors open at 2:00 PM) at Cambridge Street United Church for a powerful afternoon of music! 100+ musicians will come together to celebrate our past\, present\, and future – an uplifting experience you won’t want to miss! Featuring: The Cambridge Street Concert Choir\, The dynamic Voices of Victory Alumni Choir\, The enchanting Handbell Choir\, A vibrant Orchestra\, Our energetic Worship Band. Admission is free! A freewill offering will be collected to support upgrades to the chancel area and enhance accessibility. Come be part of the joy – bring your friends and family!
URL:https://ecorcuccan.ca/event/celebration-concert/
LOCATION:Cambridge Street United Church\, 61 Cambridge Street North\, Lindsay\, Ontario\, K9V 4C9\, Canada
CATEGORIES:Community of Faith Events
ATTACH;FMTTYPE=image/jpeg:https://ecorcuccan.ca/wp-content/uploads/2025/04/concert-scaled.jpg
END:VEVENT
BEGIN:VEVENT
DTSTART;TZID=America/Toronto:20250507T190000
DTEND;TZID=America/Toronto:20250507T190000
DTSTAMP:20260420T215702
CREATED:20250428T115912Z
LAST-MODIFIED:20250428T120037Z
UID:126459-1746644400-1746644400@ecorcuccan.ca
SUMMARY:Red Dress Day
DESCRIPTION:
URL:https://ecorcuccan.ca/event/red-dress-day/
LOCATION:Kedron United Church\, 1995 Ritson Road North\, Oshawa\, Ontario\, L1K 0Z9\, Canada
CATEGORIES:Community of Faith Events,Educational,Nurture & Justice,Respectful Relations
ATTACH;FMTTYPE=application/pdf:https://ecorcuccan.ca/wp-content/uploads/2025/04/Red-Dress-Poster-May-5th-2025.pdf
END:VEVENT
BEGIN:VEVENT
DTSTART;TZID=America/Toronto:20250510T090000
DTEND;TZID=America/Toronto:20250510T140000
DTSTAMP:20260420T215702
CREATED:20250428T115555Z
LAST-MODIFIED:20250428T115555Z
UID:126390-1746867600-1746885600@ecorcuccan.ca
SUMMARY:Spring Yard Sale
DESCRIPTION:Our annual Spring Yard Sale takes place on Saturday May 10th\, 2025\, from 9am to 2pm. This is our biggest yard sale ever! \nItems include housewares\, toys\, linens\, puzzles\, sporting goods/fishing goods\, books\, plants /gardening supplies\, DVDs\, electronics\, artwork\, framed prints\, and small furniture. \nCoffee\, tea\, and muffins will be sold in the morning; the Men’s Gathering will sell hamburgers and hot dogs starting at 11am. \nFree cotton candy for the kids! \nThis event is held outside at 1778 Nash Road\, Courtice \, ON. We have a lot of parking.\nOur property is wheelchair accessible with a fully accessible washroom just inside the front doors.\nThis is a fundraiser for Faith United Church.
URL:https://ecorcuccan.ca/event/spring-yard-sale/
LOCATION:Faith United\, Courtice\, 1778 Nash Road\, Courtice\, ON\, L1E 2L9\, Canada
CATEGORIES:Community of Faith Events,Fundraiser
ATTACH;FMTTYPE=image/jpeg:https://ecorcuccan.ca/wp-content/uploads/2025/04/Black-and-White-Retail-Store-Open-House-Flyer.jpg
END:VEVENT
BEGIN:VEVENT
DTSTART;TZID=America/Toronto:20250524T083000
DTEND;TZID=America/Toronto:20250524T113000
DTSTAMP:20260420T215702
CREATED:20250514T152959Z
LAST-MODIFIED:20250514T154312Z
UID:126870-1748075400-1748086200@ecorcuccan.ca
SUMMARY:Pancake Breakfast and Plant Sale
DESCRIPTION:Breakfast consists of pancakes\, sausages\, scrambled eggs\, toast\, juice\, tea & coffee\, fruit cocktail and pineapple. We will also be having a plant sale. \nTicket prices: Adults $12.00\, Children ages 6-12 $7.00\, Children under 5 and under are “free”. \nTickets may be purchased from the church Tuesday-Friday from 9:30 am – 12:30 pm\, or at the door the day of the event. We have handicap access\, and elevator and lots of parking.
URL:https://ecorcuccan.ca/event/pancake-breakfast-and-plant-sale/
LOCATION:Westminster United Church\, Belleville\, 1199 Wallbridge Loyalist Rd\, Belleville\, Ontario\, K8N 4Z5\, Canada
CATEGORIES:Community of Faith Events,Fundraiser
ATTACH;FMTTYPE=application/pdf:https://ecorcuccan.ca/wp-content/uploads/2025/05/Pancake-Breakfast-Plant-Sale-Poster.pdf
END:VEVENT
BEGIN:VEVENT
DTSTART;TZID=America/Toronto:20250531T180000
DTEND;TZID=America/Toronto:20250601T120000
DTSTAMP:20260420T215702
CREATED:20250512T143652Z
LAST-MODIFIED:20250512T143652Z
UID:126746-1748714400-1748779200@ecorcuccan.ca
SUMMARY:Anniversary Celebration
DESCRIPTION:Please join us as we celebrate 100 years of the United Church of Canada\, and 150 years of Port Hope United Church\, formerly Methodist Church.
URL:https://ecorcuccan.ca/event/anniversary-celebration/
LOCATION:Ontario
CATEGORIES:Celebrating 100 Years of The United Church of Canada,Community of Faith Events
ATTACH;FMTTYPE=image/jpeg:https://ecorcuccan.ca/wp-content/uploads/2025/05/Anniversary.jpg
END:VEVENT
BEGIN:VEVENT
DTSTART;TZID=America/Toronto:20250531T190000
DTEND;TZID=America/Toronto:20250531T190000
DTSTAMP:20260420T215702
CREATED:20250514T162641Z
LAST-MODIFIED:20250514T163045Z
UID:126879-1748718000-1748718000@ecorcuccan.ca
SUMMARY:"All That Jazz" Concert
DESCRIPTION:The Limestone Ringers from Edith Rankin Memorial United Church in Kingston are celebrating their 40th year of ringing by hosting The Bronze Foundation – an amazing bell choir from Toronto. All invited!
URL:https://ecorcuccan.ca/event/all-that-jazz-concert/
LOCATION:Edith Rankin Memorial Church\, 4080 Bath Road\, Kingston\, Ontario\, K7M 4Y7\, Canada
CATEGORIES:Community of Faith Events,Fundraiser
ATTACH;FMTTYPE=image/png:https://ecorcuccan.ca/wp-content/uploads/2025/05/Screenshot-2025-05-12-142632.png
END:VEVENT
END:VCALENDAR