BEGIN:VCALENDAR
VERSION:2.0
PRODID:-//East Central Ontario Regional Council of the United Church of Canada - ECPv6.15.20//NONSGML v1.0//EN
CALSCALE:GREGORIAN
METHOD:PUBLISH
X-WR-CALNAME:East Central Ontario Regional Council of the United Church of Canada
X-ORIGINAL-URL:https://ecorcuccan.ca
X-WR-CALDESC:Events for East Central Ontario Regional Council of the United Church of Canada
REFRESH-INTERVAL;VALUE=DURATION:PT1H
X-Robots-Tag:noindex
X-PUBLISHED-TTL:PT1H
BEGIN:VTIMEZONE
TZID:America/Toronto
BEGIN:DAYLIGHT
TZOFFSETFROM:-0500
TZOFFSETTO:-0400
TZNAME:EDT
DTSTART:20240310T070000
END:DAYLIGHT
BEGIN:STANDARD
TZOFFSETFROM:-0400
TZOFFSETTO:-0500
TZNAME:EST
DTSTART:20241103T060000
END:STANDARD
BEGIN:DAYLIGHT
TZOFFSETFROM:-0500
TZOFFSETTO:-0400
TZNAME:EDT
DTSTART:20250309T070000
END:DAYLIGHT
BEGIN:STANDARD
TZOFFSETFROM:-0400
TZOFFSETTO:-0500
TZNAME:EST
DTSTART:20251102T060000
END:STANDARD
BEGIN:DAYLIGHT
TZOFFSETFROM:-0500
TZOFFSETTO:-0400
TZNAME:EDT
DTSTART:20260308T070000
END:DAYLIGHT
BEGIN:STANDARD
TZOFFSETFROM:-0400
TZOFFSETTO:-0500
TZNAME:EST
DTSTART:20261101T060000
END:STANDARD
END:VTIMEZONE
BEGIN:VEVENT
DTSTART;TZID=America/Toronto:20251206T120000
DTEND;TZID=America/Toronto:20251206T170000
DTSTAMP:20260420T100642
CREATED:20251126T155748Z
LAST-MODIFIED:20251126T155748Z
UID:133257-1765022400-1765040400@ecorcuccan.ca
SUMMARY:Snowflake Marketplace
DESCRIPTION:All funds raised from this event go towards our Social Justice and Outreach initiatives
URL:https://ecorcuccan.ca/event/snowflake-marketplace/
LOCATION:St. Andrew’s United Church\, Grafton\, 137 Old Danforth Rd\, Grafton\, Ontario\, Canada
CATEGORIES:Community of Faith Events,Fundraiser
ATTACH;FMTTYPE=image/jpeg:https://ecorcuccan.ca/wp-content/uploads/2025/11/Snowflake-Marketplace-poster-scaled.jpg
END:VEVENT
BEGIN:VEVENT
DTSTART;TZID=America/Toronto:20251221T140000
DTEND;TZID=America/Toronto:20251221T140000
DTSTAMP:20260420T100642
CREATED:20251215T204428Z
LAST-MODIFIED:20251215T204511Z
UID:133836-1766325600-1766325600@ecorcuccan.ca
SUMMARY:Curve Lake Christmas
DESCRIPTION:
URL:https://ecorcuccan.ca/event/curve-lake-christmas/
LOCATION:Curve Lake United Church
CATEGORIES:Community of Faith Events
ATTACH;FMTTYPE=image/jpeg:https://ecorcuccan.ca/wp-content/uploads/2025/12/Curve-Lake.jpg
END:VEVENT
BEGIN:VEVENT
DTSTART;VALUE=DATE:20251221
DTEND;VALUE=DATE:20251222
DTSTAMP:20260420T100642
CREATED:20251202T165426Z
LAST-MODIFIED:20251202T165426Z
UID:133475-1766275200-1766361599@ecorcuccan.ca
SUMMARY:“Appalachian Winter” Christmas Cantata
DESCRIPTION:We have handicapped access\, an elevator and lots of parking. All are welcome!
URL:https://ecorcuccan.ca/event/appalachian-winter-christmas-cantata/
LOCATION:Westminster United Church\, Belleville\, 1199 Wallbridge Loyalist Rd\, Belleville\, Ontario\, K8N 4Z5\, Canada
CATEGORIES:Community of Faith Events
ATTACH;FMTTYPE=application/pdf:https://ecorcuccan.ca/wp-content/uploads/2025/12/Cantata-Poster-Appalachian-Winter.pdf
END:VEVENT
END:VCALENDAR