BEGIN:VCALENDAR
VERSION:2.0
PRODID:-//East Central Ontario Regional Council of the United Church of Canada - ECPv6.15.20//NONSGML v1.0//EN
CALSCALE:GREGORIAN
METHOD:PUBLISH
X-ORIGINAL-URL:https://ecorcuccan.ca
X-WR-CALDESC:Events for East Central Ontario Regional Council of the United Church of Canada
REFRESH-INTERVAL;VALUE=DURATION:PT1H
X-Robots-Tag:noindex
X-PUBLISHED-TTL:PT1H
BEGIN:VTIMEZONE
TZID:America/Toronto
BEGIN:DAYLIGHT
TZOFFSETFROM:-0500
TZOFFSETTO:-0400
TZNAME:EDT
DTSTART:20250309T070000
END:DAYLIGHT
BEGIN:STANDARD
TZOFFSETFROM:-0400
TZOFFSETTO:-0500
TZNAME:EST
DTSTART:20251102T060000
END:STANDARD
BEGIN:DAYLIGHT
TZOFFSETFROM:-0500
TZOFFSETTO:-0400
TZNAME:EDT
DTSTART:20260308T070000
END:DAYLIGHT
BEGIN:STANDARD
TZOFFSETFROM:-0400
TZOFFSETTO:-0500
TZNAME:EST
DTSTART:20261101T060000
END:STANDARD
BEGIN:DAYLIGHT
TZOFFSETFROM:-0500
TZOFFSETTO:-0400
TZNAME:EDT
DTSTART:20270314T070000
END:DAYLIGHT
BEGIN:STANDARD
TZOFFSETFROM:-0400
TZOFFSETTO:-0500
TZNAME:EST
DTSTART:20271107T060000
END:STANDARD
END:VTIMEZONE
BEGIN:VEVENT
DTSTART;VALUE=DATE:20260424
DTEND;VALUE=DATE:20260426
DTSTAMP:20260420T050525
CREATED:20260325T193931Z
LAST-MODIFIED:20260325T193931Z
UID:135796-1776988800-1777161599@ecorcuccan.ca
SUMMARY:INDOOR & OUTDOOR YARD SALE
DESCRIPTION:
URL:https://ecorcuccan.ca/event/indoor-outdoor-yard-sale-2/
LOCATION:Westminster United Church\, Belleville\, 1199 Wallbridge Loyalist Rd\, Belleville\, Ontario\, K8N 4Z5\, Canada
CATEGORIES:Community of Faith Events
ATTACH;FMTTYPE=image/png:https://ecorcuccan.ca/wp-content/uploads/2026/03/Screenshot-2026-03-25-153752.png
END:VEVENT
END:VCALENDAR