BEGIN:VCALENDAR
VERSION:2.0
PRODID:-//East Central Ontario Regional Council of the United Church of Canada - ECPv6.15.20//NONSGML v1.0//EN
CALSCALE:GREGORIAN
METHOD:PUBLISH
X-ORIGINAL-URL:https://ecorcuccan.ca
X-WR-CALDESC:Events for East Central Ontario Regional Council of the United Church of Canada
REFRESH-INTERVAL;VALUE=DURATION:PT1H
X-Robots-Tag:noindex
X-PUBLISHED-TTL:PT1H
BEGIN:VTIMEZONE
TZID:America/Toronto
BEGIN:DAYLIGHT
TZOFFSETFROM:-0500
TZOFFSETTO:-0400
TZNAME:EDT
DTSTART:20230312T070000
END:DAYLIGHT
BEGIN:STANDARD
TZOFFSETFROM:-0400
TZOFFSETTO:-0500
TZNAME:EST
DTSTART:20231105T060000
END:STANDARD
BEGIN:DAYLIGHT
TZOFFSETFROM:-0500
TZOFFSETTO:-0400
TZNAME:EDT
DTSTART:20240310T070000
END:DAYLIGHT
BEGIN:STANDARD
TZOFFSETFROM:-0400
TZOFFSETTO:-0500
TZNAME:EST
DTSTART:20241103T060000
END:STANDARD
BEGIN:DAYLIGHT
TZOFFSETFROM:-0500
TZOFFSETTO:-0400
TZNAME:EDT
DTSTART:20250309T070000
END:DAYLIGHT
BEGIN:STANDARD
TZOFFSETFROM:-0400
TZOFFSETTO:-0500
TZNAME:EST
DTSTART:20251102T060000
END:STANDARD
END:VTIMEZONE
BEGIN:VEVENT
DTSTART;TZID=America/Toronto:20240225T140000
DTEND;TZID=America/Toronto:20240225T140000
DTSTAMP:20260425T173929
CREATED:20240215T155506Z
LAST-MODIFIED:20240215T155506Z
UID:89658-1708869600-1708869600@ecorcuccan.ca
SUMMARY:Music for a Sunday Afternoon
DESCRIPTION:To read the background story of “A Concert of Request”\, please click HERE.
URL:https://ecorcuccan.ca/event/music-for-a-sunday-afternoon/
LOCATION:Arden United Church\, 1076 Railway St\, Arden\, K0H 1B0\, Canada
CATEGORIES:Community of Faith Events,Other Events
ATTACH;FMTTYPE=application/pdf:https://ecorcuccan.ca/wp-content/uploads/2024/02/Music-for-a-Sunday-Afternoon-2-1.pdf
END:VEVENT
BEGIN:VEVENT
DTSTART;TZID=America/Toronto:20240301T133000
DTEND;TZID=America/Toronto:20240301T133000
DTSTAMP:20260425T173929
CREATED:20240201T170321Z
LAST-MODIFIED:20240201T170321Z
UID:89315-1709299800-1709299800@ecorcuccan.ca
SUMMARY:World Day of Prayer 2024
DESCRIPTION:Our Lady of Lourdes Church is honoured to host this year’s World Day of Prayer service.\nAll are welcome and invited to join in fellowship. Refreshments to follow in the parish hall. \nFor more information\, please email the parish office at ourladyoflourdes@archkingston.ca or call 613-389-3532.
URL:https://ecorcuccan.ca/event/world-day-of-prayer-2024/
LOCATION:Our Lady of Lourdes Church\, 490 Days Road\, Kingston\, Ontario\, K7M 5R4\, Canada
CATEGORIES:Community of Faith Events,World Day of Prayer
ATTACH;FMTTYPE=application/pdf:https://ecorcuccan.ca/wp-content/uploads/2024/02/WDP-Poster_OLOL_MAR24.pdf
END:VEVENT
BEGIN:VEVENT
DTSTART;TZID=America/Toronto:20240305T133000
DTEND;TZID=America/Toronto:20240305T143000
DTSTAMP:20260425T173929
CREATED:20240228T162811Z
LAST-MODIFIED:20240228T162811Z
UID:90302-1709645400-1709649000@ecorcuccan.ca
SUMMARY:Community Information Session: SafePet Ontario
DESCRIPTION:Please join us for a free community information session hosted by Chelsea Alderson from SafePet Ontario\, a registered Canadian charity that provides pet-safekeeping for those fleeing family violence or human trafficking. The program helps survivors seek safety while ensuring their pet receives proper care until they’re stabilized and safe\, and can reunite. SafePet Ontario removes a significant barrier for those fleeing abuse by caring for their pet(s) until the survivor is stabilized and safe. Everyone is welcome!
URL:https://ecorcuccan.ca/event/community-information-session-safepet-ontario/
LOCATION:Port Hope United Church\, 34 South Street\, Port Hope\, Ontario\, L1A 1R8\, Canada
CATEGORIES:Community of Faith Events,Information Sessions,Network Events
ATTACH;FMTTYPE=image/jpeg:https://ecorcuccan.ca/wp-content/uploads/2024/02/March-5-2024-Community-Info-Safe-Pet.jpg
END:VEVENT
BEGIN:VEVENT
DTSTART;VALUE=DATE:20240419
DTEND;VALUE=DATE:20240422
DTSTAMP:20260425T173929
CREATED:20240307T212556Z
LAST-MODIFIED:20240307T212624Z
UID:92138-1713484800-1713743999@ecorcuccan.ca
SUMMARY:Award Winning One Act Play "Tea and Cookies"
DESCRIPTION:
URL:https://ecorcuccan.ca/event/award-winning-one-act-play-tea-and-cookies/
LOCATION:Westminster United Church\, Belleville\, 1199 Wallbridge Loyalist Rd\, Belleville\, Ontario\, K8N 4Z5\, Canada
CATEGORIES:Community of Faith Events,Fundraiser
ATTACH;FMTTYPE=image/jpeg:https://ecorcuccan.ca/wp-content/uploads/2024/03/Tea-and-Cookies-Poster.jpg
END:VEVENT
BEGIN:VEVENT
DTSTART;TZID=America/Toronto:20240419T140000
DTEND;TZID=America/Toronto:20240419T153000
DTSTAMP:20260425T173929
CREATED:20240222T012838Z
LAST-MODIFIED:20240222T012924Z
UID:89772-1713535200-1713540600@ecorcuccan.ca
SUMMARY:World Day of Prayer Service
DESCRIPTION:Join the 2024 World Day of Prayer as we celebrate the theme “I beg you … bear with one another in love” based on Ephesians 4: 1-3. A committee of Christian women of Palestine have prepared the service this year. We are encouraged to reflect on the history and challenges faced by this area as citizens struggle for security\, peace and independence as well as the efforts that women have made during changes in ruling influences over the last century. This is an opportunity to examine a geographical area that is home to the birth of Christianity. \nHosted by Wellington United Church in Wellington\, Prince Edward County on Friday\, April 19\, 2024 from 2:00 p.m. to 3:00 p.m. Reception to follow.
URL:https://ecorcuccan.ca/event/word-day-of-prayer-service/
LOCATION:Wellington United Church\, 243 Main St.\, Wellington\, Ontario\, K0K3L0\, Canada
CATEGORIES:Community of Faith Events,Prayer Vigil
ATTACH;FMTTYPE=image/png:https://ecorcuccan.ca/wp-content/uploads/2019/10/300s300-standard-default.png
END:VEVENT
BEGIN:VEVENT
DTSTART;TZID=America/Toronto:20240419T190000
DTEND;TZID=America/Toronto:20240419T200000
DTSTAMP:20260425T173929
CREATED:20240412T140844Z
LAST-MODIFIED:20240412T140844Z
UID:93960-1713553200-1713556800@ecorcuccan.ca
SUMMARY:'Vision at Patmos'
DESCRIPTION:Save The Date! On Friday April 19th\, 2024\, Mark Street will be hosting a one-man play (sacred\ndrama)\, written and performed by local actor and playwright Mark Finnan.\nIt has the aged apostle John the Beloved just released from exile on Patmos and living out his\nlast days in the hills above ancient Ephesus. He is visited by a group of the faithful from some of\nthe ‘churches’ in Asia Minor to whom he reveals his understanding of the great vision given to\nhim\, The Apocalypse of Jesus Christ.
URL:https://ecorcuccan.ca/event/vision-at-patmos/
LOCATION:Mark St. United Church\, Peterborough\, 90 Hunter Street East\, Peterborough\, Ontario\, K9H 1G5\, Canada
CATEGORIES:Community of Faith Events
ATTACH;FMTTYPE=image/jpeg:https://ecorcuccan.ca/wp-content/uploads/2024/04/Vision-at-Patmos-Poster.jpg
END:VEVENT
BEGIN:VEVENT
DTSTART;TZID=America/Toronto:20240424T160000
DTEND;TZID=America/Toronto:20240424T180000
DTSTAMP:20260425T173929
CREATED:20240318T133951Z
LAST-MODIFIED:20240318T133951Z
UID:93022-1713974400-1713981600@ecorcuccan.ca
SUMMARY:Beef Dinner - Drive by Only
DESCRIPTION:Dinner of roast beef & gravy\, mashed taters\, corn\, cole slaw\, roll\, and apple crisp for a happy ending.\nSee poster for more information.
URL:https://ecorcuccan.ca/event/beef-dinner-drive-by-only/
LOCATION:Emmanual United Church\, Foxboro\, 458 Ashley Street\, Foxboro\, Ontario\, K0K 2B0\, Canada
CATEGORIES:Community of Faith Events,Fundraiser
ATTACH;FMTTYPE=image/jpeg:https://ecorcuccan.ca/wp-content/uploads/2024/03/2024-beef-dinner-scaled.jpg
END:VEVENT
BEGIN:VEVENT
DTSTART;VALUE=DATE:20240426
DTEND;VALUE=DATE:20240428
DTSTAMP:20260425T173929
CREATED:20240328T143544Z
LAST-MODIFIED:20240328T143544Z
UID:93765-1714089600-1714262399@ecorcuccan.ca
SUMMARY:Westminster United Church Indoor and Outdoor Yard Sale!
DESCRIPTION:
URL:https://ecorcuccan.ca/event/westminster-united-church-indoor-and-outdoor-yard-sale/
LOCATION:Ontario
CATEGORIES:Community of Faith Events
ATTACH;FMTTYPE=application/pdf:https://ecorcuccan.ca/wp-content/uploads/2024/03/Yard-Sale-Poster.pdf
END:VEVENT
BEGIN:VEVENT
DTSTART;TZID=America/Toronto:20240428T143000
DTEND;TZID=America/Toronto:20240428T163000
DTSTAMP:20260425T173929
CREATED:20240408T152123Z
LAST-MODIFIED:20240408T152123Z
UID:93905-1714314600-1714321800@ecorcuccan.ca
SUMMARY:Seventh Town Ceili Band at Trinity United Napanee
DESCRIPTION:Save the date: Sunday\, April 28th at 2:30pm. Come to hear the Seventh Town Ceili Band at Trinity United Church Napanee; an acoustic band based in Prince Edward County. You’ll heard folk songs\, reels\, jigs and much more. Tickets available at Gray’s IDA\, Marie’s Place and at the door (cash or credit/debit). Adults $25\, students $10\, 12 and under free. Supports the general fund of the church.
URL:https://ecorcuccan.ca/event/seventh-town-ceili-band-at-trinity-united-napanee/
LOCATION:Trinity United Church – Napanee\, 25 Bridge Street East\, Napanee\, ON\, K7R 1R5\, Canada
CATEGORIES:Community of Faith Events
ATTACH;FMTTYPE=image/png:https://ecorcuccan.ca/wp-content/uploads/2019/10/300s300-standard-default.png
END:VEVENT
BEGIN:VEVENT
DTSTART;TZID=America/Toronto:20240429T190000
DTEND;TZID=America/Toronto:20240429T203000
DTSTAMP:20260425T173929
CREATED:20240408T151847Z
LAST-MODIFIED:20240408T151847Z
UID:93907-1714417200-1714422600@ecorcuccan.ca
SUMMARY:United Community Ministry presents Beer and Hymns Night!
DESCRIPTION:Must RSVP to Ruth Fallding by email at falldingucm@gmail.com and please indicate if you are coming for supper before the Singalong. Space is limited. Thank you!
URL:https://ecorcuccan.ca/event/united-community-ministry-presents-beer-and-hymns-night/
LOCATION:Pub 12 Restaurant\, 14 Cameron St W\, Cannington\, Ont\, L0E 1E0\, Canada
CATEGORIES:Community of Faith Events,Fundraiser
ATTACH;FMTTYPE=application/pdf:https://ecorcuccan.ca/wp-content/uploads/2024/04/Beer-^0-Hymns-Night-April-29.pdf
END:VEVENT
BEGIN:VEVENT
DTSTART;TZID=America/Toronto:20240505T143000
DTEND;TZID=America/Toronto:20240505T143000
DTSTAMP:20260425T173929
CREATED:20240412T145222Z
LAST-MODIFIED:20240412T145222Z
UID:93972-1714919400-1714919400@ecorcuccan.ca
SUMMARY:An Afternoon of Choral Music at Crossroads United Church
DESCRIPTION:
URL:https://ecorcuccan.ca/event/an-afternoon-of-choral-music-at-crossroads-united-church/
LOCATION:Crossroads United Church\, 690 Sir John A. MacDonald Blvd\, Kingston\, Ontario\, K7M 1A2\, Canada
CATEGORIES:Community of Faith Events
ATTACH;FMTTYPE=application/pdf:https://ecorcuccan.ca/wp-content/uploads/2024/04/2024-May-concert-poster.pdf
END:VEVENT
BEGIN:VEVENT
DTSTART;TZID=America/Toronto:20240520T190000
DTEND;TZID=America/Toronto:20240520T190000
DTSTAMP:20260425T173929
CREATED:20240509T143839Z
LAST-MODIFIED:20240509T143858Z
UID:95153-1716231600-1716231600@ecorcuccan.ca
SUMMARY:Prayer Vigil
DESCRIPTION:
URL:https://ecorcuccan.ca/event/prayer-vigil/
LOCATION:Kedron United Church\, 1995 Ritson Road North\, Oshawa\, Ontario\, L1K 0Z9\, Canada
CATEGORIES:Community of Faith Events,Prayer Vigil
ATTACH;FMTTYPE=application/pdf:https://ecorcuccan.ca/wp-content/uploads/2024/05/Peace-Vigil-1.pdf
END:VEVENT
BEGIN:VEVENT
DTSTART;VALUE=DATE:20240525
DTEND;VALUE=DATE:20240526
DTSTAMP:20260425T173929
CREATED:20240328T143407Z
LAST-MODIFIED:20240328T152546Z
UID:93762-1716595200-1716681599@ecorcuccan.ca
SUMMARY:Crossroads Market Place - May 25th
DESCRIPTION:admin@crossroads.ca or 613-542-9305 to rent a table
URL:https://ecorcuccan.ca/event/crossroads-market-place/
LOCATION:Crossroads United Church\, 690 Sir John A. MacDonald Blvd\, Kingston\, Ontario\, K7M 1A2\, Canada
CATEGORIES:Community of Faith Events
ATTACH;FMTTYPE=application/pdf:https://ecorcuccan.ca/wp-content/uploads/2024/03/Are-you-a-crafter-or-flea-marketer-looking-for-places-to-sell-your-products-final-1.pdf
END:VEVENT
BEGIN:VEVENT
DTSTART;TZID=America/Toronto:20240602T103000
DTEND;TZID=America/Toronto:20240602T103000
DTSTAMP:20260425T173929
CREATED:20240523T180242Z
LAST-MODIFIED:20240523T180304Z
UID:95363-1717324200-1717324200@ecorcuccan.ca
SUMMARY:Pride &  Affirming 5th Anniversary Celebration service
DESCRIPTION:
URL:https://ecorcuccan.ca/event/pride-affirming-5th-anniversary-celebration-service/
LOCATION:Cambridge Street United Church\, 61 Cambridge Street North\, Lindsay\, Ontario\, K9V 4C9\, Canada
CATEGORIES:Community of Faith Events
ATTACH;FMTTYPE=application/pdf:https://ecorcuccan.ca/wp-content/uploads/2024/05/2024-Poster-Pride-Affirming-Celebration-Service-1.pdf
END:VEVENT
BEGIN:VEVENT
DTSTART;TZID=America/Toronto:20240608T080000
DTEND;TZID=America/Toronto:20240608T120000
DTSTAMP:20260425T173929
CREATED:20240528T171758Z
LAST-MODIFIED:20240528T171758Z
UID:95408-1717833600-1717848000@ecorcuccan.ca
SUMMARY:Plainville United Church Yard Sale
DESCRIPTION:Contents Sale – Plainville United Church is closing!\n8372 Cavan Rd.\, Plainville United Church\nSaturday June 8th\, 8 am – 12 noon
URL:https://ecorcuccan.ca/event/plainville-united-church-yard-sale/
LOCATION:Plainville United Church\, 8372 Cavan Road\, Plainville\, K0K 2E0\, Canada
CATEGORIES:Community of Faith Events
ATTACH;FMTTYPE=image/jpeg:https://ecorcuccan.ca/wp-content/uploads/2024/05/Yard-Sale.jpg
END:VEVENT
BEGIN:VEVENT
DTSTART;TZID=America/Toronto:20240609T100000
DTEND;TZID=America/Toronto:20240609T120000
DTSTAMP:20260425T173929
CREATED:20240523T114035Z
LAST-MODIFIED:20240523T114035Z
UID:95290-1717927200-1717934400@ecorcuccan.ca
SUMMARY:Pride Sunday with Bill Stearman\, County quilt-maker
DESCRIPTION:Cressy Glenora United Church welcomes Bill Stearman\, accclaimed County quilt-maker and activist to speak about his life\, his work and his journey in  becoming his most authentic self. \nOur Pride Sunday church service seeks the deeper meanings of the Pride Movement in the context of faith\, spirituality\, social justice and community-building that affirms 2S-LGBTQAI+ people\, their family and friends. Reception after the service. Everyone is warmly welcome. \nSunday\, June 9 at 10 a.m. at Cressy Glenora United Church\, 3442 County Road 7\, North Marysburgh\, Prince Edward County\, ON
URL:https://ecorcuccan.ca/event/pride-sunday-with-bill-stearman-county-quilt-maker/
LOCATION:Cressy Glenora United Church\, 3442 County Road 7\, Prince Edward County\, On\, Canada
CATEGORIES:Community of Faith Events
ATTACH;FMTTYPE=image/png:https://ecorcuccan.ca/wp-content/uploads/2024/05/pride-sunday-2024.png
END:VEVENT
BEGIN:VEVENT
DTSTART;TZID=America/Toronto:20240613T160000
DTEND;TZID=America/Toronto:20240613T173000
DTSTAMP:20260425T173929
CREATED:20240509T142903Z
LAST-MODIFIED:20240509T142903Z
UID:95144-1718294400-1718299800@ecorcuccan.ca
SUMMARY:Chicken Cold Plate Take Out Dinner
DESCRIPTION:Cash\, Cheque or E-Transfer to sidneywestminsterunited@gmail.com\nIn the Comment Section on the E-Transfer\, kindly write “Dinner Tickets”\nFor Tickets\, please call Glady 613-847-1084\, Julie 613-391-9590\, or Kathryn 613-242-8597
URL:https://ecorcuccan.ca/event/chicken-cold-plate-take-out-dinner/
LOCATION:Westminster United Church\, Belleville\, 1199 Wallbridge Loyalist Rd\, Belleville\, Ontario\, K8N 4Z5\, Canada
CATEGORIES:Community of Faith Events,Fundraiser
ATTACH;FMTTYPE=application/pdf:https://ecorcuccan.ca/wp-content/uploads/2024/05/Chicken-Cold-Plate-Take-Out-Dinner-Poster.pdf
END:VEVENT
BEGIN:VEVENT
DTSTART;TZID=America/Toronto:20240615T080000
DTEND;TZID=America/Toronto:20240615T120000
DTSTAMP:20260425T173929
CREATED:20240603T133016Z
LAST-MODIFIED:20240603T133016Z
UID:96021-1718438400-1718452800@ecorcuccan.ca
SUMMARY:Yard Sale\, Plant Sale AND Bake Sale!
DESCRIPTION:Bethany United Church\nSaturday\, June 15\, there will be a BIG YARD SALE\, plus PLANT sale\, plus BAKE sale at Bethany United Church\, 3 George St.\, behind the General Store.  It will be outside and in the church basement\, rain or shine\, from 8:00 a.m. to 12:00 p.m.
URL:https://ecorcuccan.ca/event/yard-sale-plant-sale-and-bake-sale/
LOCATION:Bethany United Church\, 3 George Street\, Bethany\, Ontario\, Canada
CATEGORIES:Community of Faith Events
ATTACH;FMTTYPE=image/png:https://ecorcuccan.ca/wp-content/uploads/2024/06/Yard-Sale-Plant-Sale-and-Bake-Sale.png
END:VEVENT
BEGIN:VEVENT
DTSTART;VALUE=DATE:20240616
DTEND;VALUE=DATE:20240617
DTSTAMP:20260425T173929
CREATED:20240603T133647Z
LAST-MODIFIED:20240603T133904Z
UID:96026-1718496000-1718582399@ecorcuccan.ca
SUMMARY:Farewell Party at Port Perry United Church
DESCRIPTION:All are welcome!
URL:https://ecorcuccan.ca/event/farewell-party-at-port-perry-united-church/
LOCATION:Port Perry United Church\, 294 Queen St\, Port Perry\, Ontario\, L9L 1B9\, Canada
CATEGORIES:Community of Faith Events
ATTACH;FMTTYPE=application/pdf:https://ecorcuccan.ca/wp-content/uploads/2024/06/Green-Orange-Floral-Pattern-Tea-Party-Invitation-1.pdf
END:VEVENT
BEGIN:VEVENT
DTSTART;TZID=America/Toronto:20240622T080000
DTEND;TZID=America/Toronto:20240622T140000
DTSTAMP:20260425T173929
CREATED:20240613T190713Z
LAST-MODIFIED:20240613T190951Z
UID:97169-1719043200-1719064800@ecorcuccan.ca
SUMMARY:Yard Sale at Pontypool United Church!
DESCRIPTION:Tis the season for yard sales! Pontypool United Church is having a yard sale with a bake table as well on June 22nd at Richardson’s Pine needle Farms on Hwy 35 south from 8-2.
URL:https://ecorcuccan.ca/event/yard-sale-at-pontypool-united-church/
LOCATION:Pontypool United Church\, 222 John Street\, Pontypool\, Ontario\, Canada
CATEGORIES:Community of Faith Events
ATTACH;FMTTYPE=image/png:https://ecorcuccan.ca/wp-content/uploads/2024/06/Untitled-design.png
END:VEVENT
BEGIN:VEVENT
DTSTART;TZID=America/Toronto:20240623T140000
DTEND;TZID=America/Toronto:20240623T150000
DTSTAMP:20260425T173929
CREATED:20240610T163509Z
LAST-MODIFIED:20240610T164151Z
UID:96373-1719151200-1719154800@ecorcuccan.ca
SUMMARY:“The Harp and Whistle” Concert
DESCRIPTION:An afternoon of Celtic Stories and Music! With Tanah Haney\, Edith Hawkins & Debra Northey. Taking place on Sunday\, June 23\, 2024 at 2:00 p.m. right here at Trinity! Admission by donation. In support of building an accessible church washroom. Donations of $25.00 and up will get a tax receipt.
URL:https://ecorcuccan.ca/event/the-harp-and-whistle-concert-at-trinity-united-church-bobcaygeon/
LOCATION:Trinity United Church – Bobcaygeon\, 44 William Street\, Bobcaygeon\, Ontario\, K0M 1A0\, Canada
CATEGORIES:Community of Faith Events
ATTACH;FMTTYPE=image/png:https://ecorcuccan.ca/wp-content/uploads/2024/06/The-Harp-and-Whistle-Concert-At-Trinity-United-Church-Bobcaygeon.png
END:VEVENT
BEGIN:VEVENT
DTSTART;TZID=America/Toronto:20240623T190000
DTEND;TZID=America/Toronto:20240623T203000
DTSTAMP:20260425T173929
CREATED:20240611T151236Z
LAST-MODIFIED:20240611T151236Z
UID:96838-1719169200-1719174600@ecorcuccan.ca
SUMMARY:Music Night at St. Andrew's United\, Queensborough
DESCRIPTION:Enjoy an evening of gospel\, blues\, folk and more on Sunday\, June 23\, 7 to 8:30 p.m. Performers are Don Bailey\, Carol King\, Rick Pauls\, Bob McKeown\, Katherine Fleming\, and Bob Watson\, No admission charge; freewill offering to help send three Queensborough children to Camp Quin-Mo-Lac. Refreshments (coffee\, tea\, lemonade and cookies) to follow. For information\, call Katherine Fleming (613-473-0815)\, Carol King (613-920-0047) or Katherine Sedgwick (613-473-2110).
URL:https://ecorcuccan.ca/event/music-night-at-st-andrews-united-queensborough/
LOCATION:St. Andrew’s United Church\, 812 Bosley Road\, Queensborough\, Ontario\, Canada
CATEGORIES:Community of Faith Events
ATTACH;FMTTYPE=image/jpeg:https://ecorcuccan.ca/wp-content/uploads/2024/06/Music-at-the-Church-2024.jpg
END:VEVENT
BEGIN:VEVENT
DTSTART;VALUE=DATE:20240625
DTEND;VALUE=DATE:20240627
DTSTAMP:20260425T173929
CREATED:20240613T190335Z
LAST-MODIFIED:20240613T190335Z
UID:96941-1719273600-1719446399@ecorcuccan.ca
SUMMARY:MVP Athlete Training
DESCRIPTION:The MVP Athlete program offers support & resources for athletes\, coaches & caregivers to enhance wellbeing in three core areas: Mental fitness\, spirituality (Values\, meaning and purpose)\, & Physical fitness and injury Prevention. Competitive athletics places physical & mental demands on athletes. Elite athletes push their body to its limits of speed\, strength and endurance. At the same time\, the mind is asked to push mental abilities such as focus\, composure\, & determination. Athletic excellence requires physical fitness\, technical skills\, tactical readiness\, & mental fitness. Join us to develop these skills. Come for the whole program\, or join us for the Gala on June 25 at 7pm.
URL:https://ecorcuccan.ca/event/mvp-athlete-training/
LOCATION:Lakefield United Church\, 47 Regent Street\, Lakefield\, Lakefield\, Ontario\, K0L 2H0\, Canada
CATEGORIES:Community of Faith Events,Educational,Formation
ATTACH;FMTTYPE=image/png:https://ecorcuccan.ca/wp-content/uploads/2024/06/Screenshot-2024-05-29-at-1.25.05 PM.png
END:VEVENT
BEGIN:VEVENT
DTSTART;TZID=America/Toronto:20240625T140000
DTEND;TZID=America/Toronto:20240625T160000
DTSTAMP:20260425T173929
CREATED:20240617T155315Z
LAST-MODIFIED:20240617T155343Z
UID:97631-1719324000-1719331200@ecorcuccan.ca
SUMMARY:Strawberry Benefit Tea - Emmanuel United Church\, Foxborough
DESCRIPTION:
URL:https://ecorcuccan.ca/event/strawberry-benefit-tea-emmanuel-united-church-foxborough/
LOCATION:Emmanual United Church\, Foxboro\, 458 Ashley Street\, Foxboro\, Ontario\, K0K 2B0\, Canada
CATEGORIES:Community of Faith Events
ATTACH;FMTTYPE=application/pdf:https://ecorcuccan.ca/wp-content/uploads/2024/06/June-Tea-2024-poster.pdf
END:VEVENT
BEGIN:VEVENT
DTSTART;TZID=America/Toronto:20240908T100000
DTEND;TZID=America/Toronto:20240908T120000
DTSTAMP:20260425T173929
CREATED:20240903T152825Z
LAST-MODIFIED:20240903T152825Z
UID:109040-1725789600-1725796800@ecorcuccan.ca
SUMMARY:Anniversary Service
DESCRIPTION:Come celebrate the anniversary service of Cressy Glenora United Church on Sunday\, September 8th at 10 a.m. at 3442 County Road 7\, Prince Edward County. (10 minutes past Lake on the Mountain). Guests speaker Rev. Jackie Harper. Reception lunch to follow.
URL:https://ecorcuccan.ca/event/anniversary-service/
LOCATION:Cressy Glenora United Church\, 3442 County Road 7\, Prince Edward County\, On\, Canada
CATEGORIES:Community of Faith Events
ATTACH;FMTTYPE=image/jpeg:https://ecorcuccan.ca/wp-content/uploads/2024/08/cressy-glenora-united-2022.jpg
END:VEVENT
BEGIN:VEVENT
DTSTART;VALUE=DATE:20241003
DTEND;VALUE=DATE:20241007
DTSTAMP:20260425T173929
CREATED:20240703T132450Z
LAST-MODIFIED:20240703T132450Z
UID:98765-1727913600-1728259199@ecorcuccan.ca
SUMMARY:Grand Opening
DESCRIPTION:St. Paul’s Warkworth will be hosting a Grand Opening Weekend\, beginning Thursday\, October 3 at 3:30\, with a ceremony acknowledging The Ontario Trillium Foundation for grant money awarded for upgrades to our facilities\, with local officials attending. Saturday\, October 5\, we partner with Warkworth’s Arts and Heritage for their annual Gala\, including professional music performances\, Art Auction\, wine bar and food. Sunday\, October 6\, St. Paul’s will celebrate their 172 Anniversary beginning at 10:30 am
URL:https://ecorcuccan.ca/event/grand-opening/
LOCATION:St. Paul’s United Church – Warkworth\, 60 Main Street\, Warkworth\, Ontario\, Canada
CATEGORIES:Community of Faith Events
ATTACH;FMTTYPE=image/png:https://ecorcuccan.ca/wp-content/uploads/2019/10/300s300-standard-default.png
END:VEVENT
BEGIN:VEVENT
DTSTART;TZID=America/Toronto:20241005T080000
DTEND;TZID=America/Toronto:20241005T150000
DTSTAMP:20260425T173929
CREATED:20240917T133128Z
LAST-MODIFIED:20240917T133133Z
UID:110384-1728115200-1728140400@ecorcuccan.ca
SUMMARY:Fall Rummage Sale
DESCRIPTION:
URL:https://ecorcuccan.ca/event/fall-rummage-sale/
LOCATION:Cambridge Street United Church\, 61 Cambridge Street North\, Lindsay\, Ontario\, K9V 4C9\, Canada
CATEGORIES:Community of Faith Events,Fundraiser
ATTACH;FMTTYPE=image/png:https://ecorcuccan.ca/wp-content/uploads/2024/09/Fall-Rummage-Sale-8.5-×-11-in.png
END:VEVENT
BEGIN:VEVENT
DTSTART;VALUE=DATE:20241009
DTEND;VALUE=DATE:20241114
DTSTAMP:20260425T173929
CREATED:20240917T132538Z
LAST-MODIFIED:20240917T132544Z
UID:110379-1728432000-1731542399@ecorcuccan.ca
SUMMARY:Faith\, Fun and Fellowship following the Iona Rule
DESCRIPTION:
URL:https://ecorcuccan.ca/event/faith-fun-and-fellowship-following-the-iona-rule/
LOCATION:Cambridge Street United Church\, 61 Cambridge Street North\, Lindsay\, Ontario\, K9V 4C9\, Canada
CATEGORIES:Community of Faith Events,Educational
ATTACH;FMTTYPE=image/png:https://ecorcuccan.ca/wp-content/uploads/2024/09/Bible-Study-2024.png
END:VEVENT
BEGIN:VEVENT
DTSTART;TZID=America/Toronto:20241009T140000
DTEND;TZID=America/Toronto:20241009T160000
DTSTAMP:20260425T173929
CREATED:20240708T144948Z
LAST-MODIFIED:20240708T144948Z
UID:99483-1728482400-1728489600@ecorcuccan.ca
SUMMARY:Healthy Living Series 4:  "Stay Strong and Keep Moving...The Key to Healthy Aging!"
DESCRIPTION:You are invited to Trinity United Church\, Napanee\, on October 9\, 2024 at 2pm. An expert panel will discuss tips for seniors to stay active and fit\, maintain strength and mobility as we grow older. Come and hear interesting information from Kaymar Rehabilitation\, Napanee Physiotherapy\, and ‘Avoid Frailty’ Network. Snacks provided. Free admission. Donations always gratefully received. See you there!
URL:https://ecorcuccan.ca/event/healthy-living-series-4-stay-strong-and-keep-moving-the-key-to-healthy-aging/
LOCATION:Trinity United Church – Napanee\, 25 Bridge Street East\, Napanee\, ON\, K7R 1R5\, Canada
CATEGORIES:Community of Faith Events,Other Events
ATTACH;FMTTYPE=image/png:https://ecorcuccan.ca/wp-content/uploads/2019/10/300s300-standard-default.png
END:VEVENT
BEGIN:VEVENT
DTSTART;TZID=America/Toronto:20241018T170000
DTEND;TZID=America/Toronto:20241018T190000
DTSTAMP:20260425T173929
CREATED:20241007T124042Z
LAST-MODIFIED:20241007T124042Z
UID:110767-1729270800-1729278000@ecorcuccan.ca
SUMMARY:Roast Beef Dinner - Friday\, October 18
DESCRIPTION:We are having our annual Roast Beef Dinner on Friday\, October 18th\, and you’re invited to come and savor every bite. Save room for our delicious home made pies for dessert. By attending our dinner\, you’re not only treating yourself to a scrumptious meal but also supporting our church’s initiatives and community programs. Adults: $30 per person ($35 at the door) and Kids (5-12 yrs) $15. Tickets are available from the office during the week and after services on Sunday morning. Take-Out tickets are available as well.
URL:https://ecorcuccan.ca/event/roast-beef-dinner-friday-october-18/
LOCATION:Cambridge Street United Church\, 61 Cambridge Street North\, Lindsay\, Ontario\, K9V 4C9\, Canada
CATEGORIES:Community of Faith Events,Fundraiser
ATTACH;FMTTYPE=image/jpeg:https://ecorcuccan.ca/wp-content/uploads/2024/10/SKM_45824092509430-scaled.jpg
END:VEVENT
END:VCALENDAR