BEGIN:VCALENDAR
VERSION:2.0
PRODID:-//East Central Ontario Regional Council of the United Church of Canada - ECPv6.15.20//NONSGML v1.0//EN
CALSCALE:GREGORIAN
METHOD:PUBLISH
X-ORIGINAL-URL:https://ecorcuccan.ca
X-WR-CALDESC:Events for East Central Ontario Regional Council of the United Church of Canada
REFRESH-INTERVAL;VALUE=DURATION:PT1H
X-Robots-Tag:noindex
X-PUBLISHED-TTL:PT1H
BEGIN:VTIMEZONE
TZID:America/Toronto
BEGIN:DAYLIGHT
TZOFFSETFROM:-0500
TZOFFSETTO:-0400
TZNAME:EDT
DTSTART:20230312T070000
END:DAYLIGHT
BEGIN:STANDARD
TZOFFSETFROM:-0400
TZOFFSETTO:-0500
TZNAME:EST
DTSTART:20231105T060000
END:STANDARD
BEGIN:DAYLIGHT
TZOFFSETFROM:-0500
TZOFFSETTO:-0400
TZNAME:EDT
DTSTART:20240310T070000
END:DAYLIGHT
BEGIN:STANDARD
TZOFFSETFROM:-0400
TZOFFSETTO:-0500
TZNAME:EST
DTSTART:20241103T060000
END:STANDARD
BEGIN:DAYLIGHT
TZOFFSETFROM:-0500
TZOFFSETTO:-0400
TZNAME:EDT
DTSTART:20250309T070000
END:DAYLIGHT
BEGIN:STANDARD
TZOFFSETFROM:-0400
TZOFFSETTO:-0500
TZNAME:EST
DTSTART:20251102T060000
END:STANDARD
END:VTIMEZONE
BEGIN:VEVENT
DTSTART;TZID=America/Toronto:20240623T190000
DTEND;TZID=America/Toronto:20240623T203000
DTSTAMP:20260425T102211
CREATED:20240611T151236Z
LAST-MODIFIED:20240611T151236Z
UID:96838-1719169200-1719174600@ecorcuccan.ca
SUMMARY:Music Night at St. Andrew's United\, Queensborough
DESCRIPTION:Enjoy an evening of gospel\, blues\, folk and more on Sunday\, June 23\, 7 to 8:30 p.m. Performers are Don Bailey\, Carol King\, Rick Pauls\, Bob McKeown\, Katherine Fleming\, and Bob Watson\, No admission charge; freewill offering to help send three Queensborough children to Camp Quin-Mo-Lac. Refreshments (coffee\, tea\, lemonade and cookies) to follow. For information\, call Katherine Fleming (613-473-0815)\, Carol King (613-920-0047) or Katherine Sedgwick (613-473-2110).
URL:https://ecorcuccan.ca/event/music-night-at-st-andrews-united-queensborough/
LOCATION:St. Andrew’s United Church\, 812 Bosley Road\, Queensborough\, Ontario\, Canada
CATEGORIES:Community of Faith Events
ATTACH;FMTTYPE=image/jpeg:https://ecorcuccan.ca/wp-content/uploads/2024/06/Music-at-the-Church-2024.jpg
END:VEVENT
BEGIN:VEVENT
DTSTART;VALUE=DATE:20240625
DTEND;VALUE=DATE:20240627
DTSTAMP:20260425T102211
CREATED:20240613T190335Z
LAST-MODIFIED:20240613T190335Z
UID:96941-1719273600-1719446399@ecorcuccan.ca
SUMMARY:MVP Athlete Training
DESCRIPTION:The MVP Athlete program offers support & resources for athletes\, coaches & caregivers to enhance wellbeing in three core areas: Mental fitness\, spirituality (Values\, meaning and purpose)\, & Physical fitness and injury Prevention. Competitive athletics places physical & mental demands on athletes. Elite athletes push their body to its limits of speed\, strength and endurance. At the same time\, the mind is asked to push mental abilities such as focus\, composure\, & determination. Athletic excellence requires physical fitness\, technical skills\, tactical readiness\, & mental fitness. Join us to develop these skills. Come for the whole program\, or join us for the Gala on June 25 at 7pm.
URL:https://ecorcuccan.ca/event/mvp-athlete-training/
LOCATION:Lakefield United Church\, 47 Regent Street\, Lakefield\, Lakefield\, Ontario\, K0L 2H0\, Canada
CATEGORIES:Community of Faith Events,Educational,Formation
ATTACH;FMTTYPE=image/png:https://ecorcuccan.ca/wp-content/uploads/2024/06/Screenshot-2024-05-29-at-1.25.05 PM.png
END:VEVENT
BEGIN:VEVENT
DTSTART;TZID=America/Toronto:20240625T140000
DTEND;TZID=America/Toronto:20240625T160000
DTSTAMP:20260425T102211
CREATED:20240617T155315Z
LAST-MODIFIED:20240617T155343Z
UID:97631-1719324000-1719331200@ecorcuccan.ca
SUMMARY:Strawberry Benefit Tea - Emmanuel United Church\, Foxborough
DESCRIPTION:
URL:https://ecorcuccan.ca/event/strawberry-benefit-tea-emmanuel-united-church-foxborough/
LOCATION:Emmanual United Church\, Foxboro\, 458 Ashley Street\, Foxboro\, Ontario\, K0K 2B0\, Canada
CATEGORIES:Community of Faith Events
ATTACH;FMTTYPE=application/pdf:https://ecorcuccan.ca/wp-content/uploads/2024/06/June-Tea-2024-poster.pdf
END:VEVENT
BEGIN:VEVENT
DTSTART;TZID=America/Toronto:20240908T100000
DTEND;TZID=America/Toronto:20240908T120000
DTSTAMP:20260425T102211
CREATED:20240903T152825Z
LAST-MODIFIED:20240903T152825Z
UID:109040-1725789600-1725796800@ecorcuccan.ca
SUMMARY:Anniversary Service
DESCRIPTION:Come celebrate the anniversary service of Cressy Glenora United Church on Sunday\, September 8th at 10 a.m. at 3442 County Road 7\, Prince Edward County. (10 minutes past Lake on the Mountain). Guests speaker Rev. Jackie Harper. Reception lunch to follow.
URL:https://ecorcuccan.ca/event/anniversary-service/
LOCATION:Cressy Glenora United Church\, 3442 County Road 7\, Prince Edward County\, On\, Canada
CATEGORIES:Community of Faith Events
ATTACH;FMTTYPE=image/jpeg:https://ecorcuccan.ca/wp-content/uploads/2024/08/cressy-glenora-united-2022.jpg
END:VEVENT
BEGIN:VEVENT
DTSTART;VALUE=DATE:20241003
DTEND;VALUE=DATE:20241007
DTSTAMP:20260425T102211
CREATED:20240703T132450Z
LAST-MODIFIED:20240703T132450Z
UID:98765-1727913600-1728259199@ecorcuccan.ca
SUMMARY:Grand Opening
DESCRIPTION:St. Paul’s Warkworth will be hosting a Grand Opening Weekend\, beginning Thursday\, October 3 at 3:30\, with a ceremony acknowledging The Ontario Trillium Foundation for grant money awarded for upgrades to our facilities\, with local officials attending. Saturday\, October 5\, we partner with Warkworth’s Arts and Heritage for their annual Gala\, including professional music performances\, Art Auction\, wine bar and food. Sunday\, October 6\, St. Paul’s will celebrate their 172 Anniversary beginning at 10:30 am
URL:https://ecorcuccan.ca/event/grand-opening/
LOCATION:St. Paul’s United Church – Warkworth\, 60 Main Street\, Warkworth\, Ontario\, Canada
CATEGORIES:Community of Faith Events
ATTACH;FMTTYPE=image/png:https://ecorcuccan.ca/wp-content/uploads/2019/10/300s300-standard-default.png
END:VEVENT
BEGIN:VEVENT
DTSTART;TZID=America/Toronto:20241005T080000
DTEND;TZID=America/Toronto:20241005T150000
DTSTAMP:20260425T102211
CREATED:20240917T133128Z
LAST-MODIFIED:20240917T133133Z
UID:110384-1728115200-1728140400@ecorcuccan.ca
SUMMARY:Fall Rummage Sale
DESCRIPTION:
URL:https://ecorcuccan.ca/event/fall-rummage-sale/
LOCATION:Cambridge Street United Church\, 61 Cambridge Street North\, Lindsay\, Ontario\, K9V 4C9\, Canada
CATEGORIES:Community of Faith Events,Fundraiser
ATTACH;FMTTYPE=image/png:https://ecorcuccan.ca/wp-content/uploads/2024/09/Fall-Rummage-Sale-8.5-×-11-in.png
END:VEVENT
BEGIN:VEVENT
DTSTART;VALUE=DATE:20241009
DTEND;VALUE=DATE:20241114
DTSTAMP:20260425T102211
CREATED:20240917T132538Z
LAST-MODIFIED:20240917T132544Z
UID:110379-1728432000-1731542399@ecorcuccan.ca
SUMMARY:Faith\, Fun and Fellowship following the Iona Rule
DESCRIPTION:
URL:https://ecorcuccan.ca/event/faith-fun-and-fellowship-following-the-iona-rule/
LOCATION:Cambridge Street United Church\, 61 Cambridge Street North\, Lindsay\, Ontario\, K9V 4C9\, Canada
CATEGORIES:Community of Faith Events,Educational
ATTACH;FMTTYPE=image/png:https://ecorcuccan.ca/wp-content/uploads/2024/09/Bible-Study-2024.png
END:VEVENT
BEGIN:VEVENT
DTSTART;TZID=America/Toronto:20241009T140000
DTEND;TZID=America/Toronto:20241009T160000
DTSTAMP:20260425T102211
CREATED:20240708T144948Z
LAST-MODIFIED:20240708T144948Z
UID:99483-1728482400-1728489600@ecorcuccan.ca
SUMMARY:Healthy Living Series 4:  "Stay Strong and Keep Moving...The Key to Healthy Aging!"
DESCRIPTION:You are invited to Trinity United Church\, Napanee\, on October 9\, 2024 at 2pm. An expert panel will discuss tips for seniors to stay active and fit\, maintain strength and mobility as we grow older. Come and hear interesting information from Kaymar Rehabilitation\, Napanee Physiotherapy\, and ‘Avoid Frailty’ Network. Snacks provided. Free admission. Donations always gratefully received. See you there!
URL:https://ecorcuccan.ca/event/healthy-living-series-4-stay-strong-and-keep-moving-the-key-to-healthy-aging/
LOCATION:Trinity United Church – Napanee\, 25 Bridge Street East\, Napanee\, ON\, K7R 1R5\, Canada
CATEGORIES:Community of Faith Events,Other Events
ATTACH;FMTTYPE=image/png:https://ecorcuccan.ca/wp-content/uploads/2019/10/300s300-standard-default.png
END:VEVENT
BEGIN:VEVENT
DTSTART;TZID=America/Toronto:20241018T170000
DTEND;TZID=America/Toronto:20241018T190000
DTSTAMP:20260425T102211
CREATED:20241007T124042Z
LAST-MODIFIED:20241007T124042Z
UID:110767-1729270800-1729278000@ecorcuccan.ca
SUMMARY:Roast Beef Dinner - Friday\, October 18
DESCRIPTION:We are having our annual Roast Beef Dinner on Friday\, October 18th\, and you’re invited to come and savor every bite. Save room for our delicious home made pies for dessert. By attending our dinner\, you’re not only treating yourself to a scrumptious meal but also supporting our church’s initiatives and community programs. Adults: $30 per person ($35 at the door) and Kids (5-12 yrs) $15. Tickets are available from the office during the week and after services on Sunday morning. Take-Out tickets are available as well.
URL:https://ecorcuccan.ca/event/roast-beef-dinner-friday-october-18/
LOCATION:Cambridge Street United Church\, 61 Cambridge Street North\, Lindsay\, Ontario\, K9V 4C9\, Canada
CATEGORIES:Community of Faith Events,Fundraiser
ATTACH;FMTTYPE=image/jpeg:https://ecorcuccan.ca/wp-content/uploads/2024/10/SKM_45824092509430-scaled.jpg
END:VEVENT
BEGIN:VEVENT
DTSTART;TZID=America/Toronto:20241018T190000
DTEND;TZID=America/Toronto:20241018T190000
DTSTAMP:20260425T102211
CREATED:20240917T133858Z
LAST-MODIFIED:20240917T133904Z
UID:110389-1729278000-1729278000@ecorcuccan.ca
SUMMARY:Concert and Silent Auction
DESCRIPTION:
URL:https://ecorcuccan.ca/event/concert-and-silent-auction/
LOCATION:St. Andrew’s-by-the-Lake United Church\, 1 Redden St.\, Kingston\, ON\, K7M 4K7\, Canada
CATEGORIES:Community of Faith Events,Fundraiser
ATTACH;FMTTYPE=image/png:https://ecorcuccan.ca/wp-content/uploads/2024/09/Screenshot-2024-09-17-093529.png
END:VEVENT
BEGIN:VEVENT
DTSTART;TZID=America/Toronto:20241020T190000
DTEND;TZID=America/Toronto:20241020T190000
DTSTAMP:20260425T102211
CREATED:20240826T123224Z
LAST-MODIFIED:20240826T123253Z
UID:108709-1729450800-1729450800@ecorcuccan.ca
SUMMARY:Uke! Uke! Uke!
DESCRIPTION:Contact: bertplunk@hotmail.com  (Roberta)
URL:https://ecorcuccan.ca/event/uke-uke-uke/
LOCATION:Bethel Emily United Church\, 90 Bethel Road\, Omemee\, Ontario\, K0L 2W0\, Canada
CATEGORIES:Community of Faith Events,Musicians
ATTACH;FMTTYPE=image/png:https://ecorcuccan.ca/wp-content/uploads/2024/08/Uke-Uke-Uke-Celebrate-the-100th-anniversary-of-The-United-Church-of-Canada-All-United-Church-Ukelele-groups-Are-invited-to-Bethel-Emily-United-Church-90-Bethel-Road-Omemee-Sunday-October-20th-.png
END:VEVENT
BEGIN:VEVENT
DTSTART;TZID=America/Toronto:20241026T090000
DTEND;TZID=America/Toronto:20241026T120000
DTSTAMP:20260425T102211
CREATED:20241015T184007Z
LAST-MODIFIED:20241015T184007Z
UID:111125-1729933200-1729944000@ecorcuccan.ca
SUMMARY:Fall Bazaar Trinity United Church\, Napanee
DESCRIPTION:Join us for the Annual Fall Bazaar at Trinity United Church\, Napanee on Saturday October 26th\, 2024 from 9am-noon. Featuring a craft and bake sale\, cafe\, local vendors\, used book sale and more!
URL:https://ecorcuccan.ca/event/fall-bazaar-trinity-united-church-napanee/
LOCATION:Trinity United Church – Napanee\, 25 Bridge Street East\, Napanee\, ON\, K7R 1R5\, Canada
CATEGORIES:Community of Faith Events,Fundraiser
ATTACH;FMTTYPE=image/png:https://ecorcuccan.ca/wp-content/uploads/2024/10/Bazaar-Poster.png
END:VEVENT
BEGIN:VEVENT
DTSTART;TZID=America/Toronto:20241026T170000
DTEND;TZID=America/Toronto:20241026T183000
DTSTAMP:20260425T102211
CREATED:20241010T185031Z
LAST-MODIFIED:20241010T185031Z
UID:111033-1729962000-1729967400@ecorcuccan.ca
SUMMARY:Castleton United Church Roast Pork Dinner Fundraiser
DESCRIPTION:Tickets available from Church members or\ncall Marion 905-375-8155/905-344-7601\nor the church office 905-349-2736\nPlease purchase/order your tickets in advance
URL:https://ecorcuccan.ca/event/castleton-united-church-roast-pork-dinner-fundraiser/
LOCATION:Castleton United Church\, 1815 Percy St.\, Castleton\, Canada
CATEGORIES:Community of Faith Events,Fundraiser
ATTACH;FMTTYPE=image/jpeg:https://ecorcuccan.ca/wp-content/uploads/2024/10/Castleton-United-Church-Pork-Dinner-Fundraiser-Poster-2024.jpg
END:VEVENT
BEGIN:VEVENT
DTSTART;TZID=America/Toronto:20241026T190000
DTEND;TZID=America/Toronto:20241026T203000
DTSTAMP:20260425T102211
CREATED:20241010T184758Z
LAST-MODIFIED:20241010T184839Z
UID:111047-1729969200-1729974600@ecorcuccan.ca
SUMMARY:Phantom of the Organ - Saturday\, Oct. 26\, 7PM
DESCRIPTION:Come and enjoy spooky music and spine-tingling stories at our Phantom of the Organ on Saturday\, October 26 at 7PM. Fun for the whole family featuring organ\, percussion\, vocal and handbell music. Feel free to dress up! Freewill offering in support of Kawartha Lakes Food Source and Cambridge St. United’s music ministry.
URL:https://ecorcuccan.ca/event/phantom-of-the-organ-saturday-oct-26-7pm/
LOCATION:Cambridge Street United Church\, 61 Cambridge Street North\, Lindsay\, Ontario\, K9V 4C9\, Canada
CATEGORIES:Community of Faith Events,Fundraiser
ATTACH;FMTTYPE=image/jpeg:https://ecorcuccan.ca/wp-content/uploads/2024/10/Phantom-of-the-Organ-scaled.jpg
END:VEVENT
BEGIN:VEVENT
DTSTART;TZID=America/Toronto:20241026T190000
DTEND;TZID=America/Toronto:20241026T230000
DTSTAMP:20260425T102211
CREATED:20241008T161448Z
LAST-MODIFIED:20241008T161448Z
UID:110970-1729969200-1729983600@ecorcuccan.ca
SUMMARY:Classic Country Dance
DESCRIPTION:
URL:https://ecorcuccan.ca/event/classic-country-dance/
LOCATION:Edith Rankin Memorial Church\, 4080 Bath Road\, Kingston\, Ontario\, K7M 4Y7\, Canada
CATEGORIES:Community of Faith Events,Fundraiser
ATTACH;FMTTYPE=image/jpeg:https://ecorcuccan.ca/wp-content/uploads/2024/10/462286750_843509954600061_6417023635782866423_n.jpg
END:VEVENT
BEGIN:VEVENT
DTSTART;TZID=America/Toronto:20241102T143000
DTEND;TZID=America/Toronto:20241102T143000
DTSTAMP:20260425T102211
CREATED:20240917T131523Z
LAST-MODIFIED:20240917T131622Z
UID:110374-1730557800-1730557800@ecorcuccan.ca
SUMMARY:A Swinging Saturday Afternoon - Swing Street Big Band
DESCRIPTION:
URL:https://ecorcuccan.ca/event/a-swinging-saturday-afternoon-big-street-swing-band/
LOCATION:Kingsview United Church – Oshawa
CATEGORIES:Community of Faith Events,Fundraiser
ATTACH;FMTTYPE=application/pdf:https://ecorcuccan.ca/wp-content/uploads/2024/09/Swingin-Saturday-Poster.pdf
END:VEVENT
BEGIN:VEVENT
DTSTART;TZID=America/Toronto:20241103T100000
DTEND;TZID=America/Toronto:20241103T123000
DTSTAMP:20260425T102211
CREATED:20241021T122710Z
LAST-MODIFIED:20241028T162704Z
UID:111185-1730628000-1730637000@ecorcuccan.ca
SUMMARY:Newcastle United Church Celebrates 200th Anniversary
DESCRIPTION:We are hosting a special Service on November 3rd\, 2024\, to recognize the 200th Anniversary of our congregation. All are welcome to attend.
URL:https://ecorcuccan.ca/event/newcastle-united-church-celebrates-200th-anniversary/
LOCATION:Newcastle United Church\, 84 Mill St S\, Newcastle\, Ontario\, L1B 1H2\, Canada
CATEGORIES:Community of Faith Events
ATTACH;FMTTYPE=image/png:https://ecorcuccan.ca/wp-content/uploads/2024/10/200th-Anniversary-flyer.png
END:VEVENT
BEGIN:VEVENT
DTSTART;TZID=America/Toronto:20241106T140000
DTEND;TZID=America/Toronto:20241106T160000
DTSTAMP:20260425T102211
CREATED:20241023T152122Z
LAST-MODIFIED:20241023T152122Z
UID:111829-1730901600-1730908800@ecorcuccan.ca
SUMMARY:Trinity Presents..."The Horror of War’
DESCRIPTION:Do not miss this celebrated PBS documentary\, based on local author Sherry Pringle’s book\, “Extraordinary Women\, Extraordinary Times”. This episode is timely\, as we approach Remembrance Day\, featuring footage and news reels of POW camps\, the Kinder Train\, and other wartime activity. \nDATE: Wednesday\, November 6\, 2024 \nTIME: 2:00 PM \nPLACE: TRINITY UNITED CHURCH\n25 BRIDGE ST.E.\nNAPANEE\n(corner of Bridge & John St.)\n(John St. Entrance) \nADMISSION: $5.00 pp. Students: $2.00\n(at door only…no advance sales) \nBoth Dale Morrisey\, and Sherry Pringle will be present for a Q&A after the screening.
URL:https://ecorcuccan.ca/event/trinity-presents-the-horror-of-war/
LOCATION:Trinity United Church – Napanee\, 25 Bridge Street East\, Napanee\, ON\, K7R 1R5\, Canada
CATEGORIES:Community of Faith Events,News
ATTACH;FMTTYPE=image/jpeg:https://ecorcuccan.ca/wp-content/uploads/2024/10/Horrors-of-War.jpg
END:VEVENT
BEGIN:VEVENT
DTSTART;TZID=America/Toronto:20241109T080000
DTEND;TZID=America/Toronto:20241109T140000
DTSTAMP:20260425T102211
CREATED:20241003T132747Z
LAST-MODIFIED:20241003T132747Z
UID:110742-1731139200-1731160800@ecorcuccan.ca
SUMMARY:Westminster Christmas Bazarre
DESCRIPTION:
URL:https://ecorcuccan.ca/event/westminster-christmas-bazarre/
LOCATION:Westminster United Church\, Belleville\, 1199 Wallbridge Loyalist Rd\, Belleville\, Ontario\, K8N 4Z5\, Canada
CATEGORIES:Community of Faith Events,Fundraiser
ATTACH;FMTTYPE=application/pdf:https://ecorcuccan.ca/wp-content/uploads/2024/10/Christmas-Festival-2024-Poster.pdf
END:VEVENT
BEGIN:VEVENT
DTSTART;TZID=America/Toronto:20241109T090000
DTEND;TZID=America/Toronto:20241109T150000
DTSTAMP:20260425T102211
CREATED:20241007T124714Z
LAST-MODIFIED:20241007T124714Z
UID:110932-1731142800-1731164400@ecorcuccan.ca
SUMMARY:Holiday Vendor Sale
DESCRIPTION:
URL:https://ecorcuccan.ca/event/holiday-vendor-sale/
LOCATION:Kingsview United Church – Oshawa
CATEGORIES:Community of Faith Events,Fundraiser
ATTACH;FMTTYPE=application/pdf:https://ecorcuccan.ca/wp-content/uploads/2024/10/Vendor-Sale-2024.pdf
END:VEVENT
BEGIN:VEVENT
DTSTART;TZID=America/Toronto:20241109T100000
DTEND;TZID=America/Toronto:20241109T140000
DTSTAMP:20260425T102211
CREATED:20241015T185114Z
LAST-MODIFIED:20241015T194541Z
UID:111083-1731146400-1731160800@ecorcuccan.ca
SUMMARY:Christmas Market
DESCRIPTION:Annual Market Sale of homemade crafts by UCW women and local community vendors. Bake Table is a very popular area and as always on site lunch is available.
URL:https://ecorcuccan.ca/event/christmas-market/
LOCATION:Pickering Village United Church\, 300 Church Street\, Pickering\, Ontario\, L1T 2W7\, Canada
CATEGORIES:Community of Faith Events,Fundraiser,United Church Women (UCW)
ATTACH;FMTTYPE=image/jpeg:https://ecorcuccan.ca/wp-content/uploads/2024/10/PVUC-2024-MARKET-POSTER-.1.jpeg
END:VEVENT
BEGIN:VEVENT
DTSTART;TZID=America/Toronto:20241109T190000
DTEND;TZID=America/Toronto:20241109T210000
DTSTAMP:20260425T102211
CREATED:20240917T134331Z
LAST-MODIFIED:20240917T134337Z
UID:110393-1731178800-1731186000@ecorcuccan.ca
SUMMARY:Intimate and Interactive Concert with Sean McCann
DESCRIPTION:
URL:https://ecorcuccan.ca/event/intimate-and-interactive-concert-with-sean-mccann/
LOCATION:Picton United Church\, 12 Chapel St.\, Picton\, Ontario\, K0K 2T0\, Canada
CATEGORIES:Community of Faith Events,Fundraiser
ATTACH;FMTTYPE=image/jpeg:https://ecorcuccan.ca/wp-content/uploads/2024/09/Sean-1-scaled.jpg
END:VEVENT
BEGIN:VEVENT
DTSTART;TZID=America/Toronto:20241116T090000
DTEND;TZID=America/Toronto:20241116T140000
DTSTAMP:20260425T102211
CREATED:20241031T142133Z
LAST-MODIFIED:20241031T142205Z
UID:112698-1731747600-1731765600@ecorcuccan.ca
SUMMARY:Merry Market Bazaar
DESCRIPTION:
URL:https://ecorcuccan.ca/event/merry-market-bazarr/
LOCATION:Newburgh Centreville Pastoral Charge
CATEGORIES:Community of Faith Events
ATTACH;FMTTYPE=image/jpeg:https://ecorcuccan.ca/wp-content/uploads/2024/10/Bazaar-7.jpg
END:VEVENT
BEGIN:VEVENT
DTSTART;TZID=America/Toronto:20241116T100000
DTEND;TZID=America/Toronto:20241116T130000
DTSTAMP:20260425T102211
CREATED:20241015T184120Z
LAST-MODIFIED:20241015T184120Z
UID:111108-1731751200-1731762000@ecorcuccan.ca
SUMMARY:Port Hope United Church 86th Annual Christmas Fayre!
DESCRIPTION:Join us for a time honored tradition hosted by our United Church Women!\nThe 86th Annual Port Hope United Church Christmas Fayre will be held on Saturday November 16\, 2024 from 10am to 1pm. We will offer a wonderful selection of homemade baking\, preserves\, delicatessen foods\, as well as handmade crafts\, knitting and seasonal decor for your home or gifting. This event is wheel chair accessible\, with free admission and parking. Cash only\, sorry no debit or credit. All are welcome!
URL:https://ecorcuccan.ca/event/port-hope-united-church-86th-annual-christmas-fayre/
LOCATION:Port Hope United Church\, 34 South Street\, Port Hope\, Ontario\, L1A 1R8\, Canada
CATEGORIES:Community of Faith Events,Fundraiser,United Church Women (UCW)
ATTACH;FMTTYPE=image/jpeg:https://ecorcuccan.ca/wp-content/uploads/2024/10/Christmas-Fayre.jpg
END:VEVENT
BEGIN:VEVENT
DTSTART;TZID=America/Toronto:20241116T103000
DTEND;TZID=America/Toronto:20241116T133000
DTSTAMP:20260425T102211
CREATED:20241104T144819Z
LAST-MODIFIED:20241104T144819Z
UID:112721-1731753000-1731763800@ecorcuccan.ca
SUMMARY:The Joys of Christmas - Nov 16 - Cambridge Street United Church
DESCRIPTION:The Joys of Christmas — Saturday\, Nov. 16\, 2024 – 10:30 am to 1:30 pm\nLunch is served from 11:00 am to 1:00 pm – $10 adult – $5 children (10 yrs & under)\nCome and immerse yourself in the magic of the Christmas season with beautiful decorations and a joyful atmosphere.
URL:https://ecorcuccan.ca/event/the-joys-of-christmas-nov-16-cambridge-street-united-church/
LOCATION:Cambridge Street United Church\, 61 Cambridge Street North\, Lindsay\, Ontario\, K9V 4C9\, Canada
CATEGORIES:Community of Faith Events
ATTACH;FMTTYPE=image/png:https://ecorcuccan.ca/wp-content/uploads/2024/10/The-Joys-of-Christmas-2024-Instagram-Post.png
END:VEVENT
BEGIN:VEVENT
DTSTART;TZID=America/Toronto:20241123T100000
DTEND;TZID=America/Toronto:20241123T120000
DTSTAMP:20260425T102211
CREATED:20241028T160533Z
LAST-MODIFIED:20241028T165106Z
UID:112415-1732356000-1732363200@ecorcuccan.ca
SUMMARY:Trinity United Church Christmas Bazaar
DESCRIPTION:Trinity United Church Christmas Bazaar is taking place on Saturday\, November 23\, 2024 from 10:00 a.m. until 12:00 noon at 44 William St.\, Bobcaygeon\, Ontario. FREE ADMISSION! There will be home baking\, chili sauce\, Christmas shop\, Jewelry\, Scarves & Purses\, a Loonie auction and frozen beef and chicken pies. All are invited to attend!
URL:https://ecorcuccan.ca/event/trinity-united-church-christmas-bazaar/
LOCATION:Trinity United Church – Bobcaygeon\, 44 William Street\, Bobcaygeon\, Ontario\, K0M 1A0\, Canada
CATEGORIES:Community of Faith Events
ATTACH;FMTTYPE=image/png:https://ecorcuccan.ca/wp-content/uploads/2024/10/Christmas-Bizarre-1.png
ORGANIZER;CN="Bay of  Quinte UCW East Central Ontario Region":MAILTO:cdmound@gmail.com
END:VEVENT
BEGIN:VEVENT
DTSTART;TZID=America/Toronto:20241123T100000
DTEND;TZID=America/Toronto:20241123T120000
DTSTAMP:20260425T102211
CREATED:20241119T165734Z
LAST-MODIFIED:20241119T165734Z
UID:114578-1732356000-1732363200@ecorcuccan.ca
SUMMARY:Trinity United Church Christmas Bazaar
DESCRIPTION:Bobcaygeon’s Trinity United Church Christmas Bazaar. Free Admission with Home Baking\, Chili Sauce\, Christmas Shop\, Jewelry\, Scarves\, Purses\, Loonie Auction\, Quilt raffle and frozen Beef & Chicken Pies!
URL:https://ecorcuccan.ca/event/trinity-united-church-christmas-bazaar-2/
LOCATION:Trinity United Church – Bobcaygeon\, 44 William Street\, Bobcaygeon\, Ontario\, K0M 1A0\, Canada
CATEGORIES:Community of Faith Events
ATTACH;FMTTYPE=image/png:https://ecorcuccan.ca/wp-content/uploads/2019/10/300s300-standard-default.png
END:VEVENT
BEGIN:VEVENT
DTSTART;TZID=America/Toronto:20241123T100000
DTEND;TZID=America/Toronto:20241123T140000
DTSTAMP:20260425T102211
CREATED:20241021T121902Z
LAST-MODIFIED:20241021T121902Z
UID:111211-1732356000-1732370400@ecorcuccan.ca
SUMMARY:United MarketPlace Tour
DESCRIPTION:A church bazaar collaboration bazaar between five United Churches in the Kingston area. Visit each the three host churches for a variety home baking and had crafted items. A light lunch will be served at each location.
URL:https://ecorcuccan.ca/event/united-marketplace-tour-2/
LOCATION:Ontario
CATEGORIES:Community of Faith Events
ATTACH;FMTTYPE=image/jpeg:https://ecorcuccan.ca/wp-content/uploads/2024/10/UMT-FB-2024-Ad-2048px-1149px.jpg
END:VEVENT
BEGIN:VEVENT
DTSTART;TZID=America/Toronto:20241123T100000
DTEND;TZID=America/Toronto:20241123T150000
DTSTAMP:20260425T102211
CREATED:20241119T165931Z
LAST-MODIFIED:20241119T165931Z
UID:113729-1732356000-1732374000@ecorcuccan.ca
SUMMARY:Deck your Halls  51st Annual Christmas Bazaar
DESCRIPTION:Do a little shopping\, have lunch and then do some more shopping. There will be many handmade items\, items to bid on in a silent auction and who could resist a few bake goods and personalized ginger bread cookies
URL:https://ecorcuccan.ca/event/deck-your-halls-51st-annual-christmas-bazaar/
LOCATION:Dunbarton-Fairport United Church\, 1066 Dunbarton Road\, Pickering\, Ontario\, Canada
CATEGORIES:Community of Faith Events
ATTACH;FMTTYPE=image/jpeg:https://ecorcuccan.ca/wp-content/uploads/2024/11/464553911_10225534134035725_3831551353409355812_n.jpg
END:VEVENT
BEGIN:VEVENT
DTSTART;TZID=America/Toronto:20241130T093000
DTEND;TZID=America/Toronto:20241130T133000
DTSTAMP:20260425T102211
CREATED:20241104T143929Z
LAST-MODIFIED:20241107T195225Z
UID:112985-1732959000-1732973400@ecorcuccan.ca
SUMMARY:St. Andrew's UC Christmas Market
DESCRIPTION:Outdoor and indoor market with vendors selling homemade crafts and goodies. Proceeds support our Social Justice and Outreach initiatives.
URL:https://ecorcuccan.ca/event/st-andrews-uc-christmas-market/
LOCATION:St. Andrew’s United Church\, Grafton\, 137 Old Danforth Rd\, Grafton\, Ontario\, Canada
CATEGORIES:Community of Faith Events
ATTACH;FMTTYPE=image/jpeg:https://ecorcuccan.ca/wp-content/uploads/2024/11/Christmas-Market-poster-scaled.jpg
END:VEVENT
END:VCALENDAR