BEGIN:VCALENDAR
VERSION:2.0
PRODID:-//East Central Ontario Regional Council of the United Church of Canada - ECPv6.15.20//NONSGML v1.0//EN
CALSCALE:GREGORIAN
METHOD:PUBLISH
X-ORIGINAL-URL:https://ecorcuccan.ca
X-WR-CALDESC:Events for East Central Ontario Regional Council of the United Church of Canada
REFRESH-INTERVAL;VALUE=DURATION:PT1H
X-Robots-Tag:noindex
X-PUBLISHED-TTL:PT1H
BEGIN:VTIMEZONE
TZID:America/Toronto
BEGIN:DAYLIGHT
TZOFFSETFROM:-0500
TZOFFSETTO:-0400
TZNAME:EDT
DTSTART:20240310T070000
END:DAYLIGHT
BEGIN:STANDARD
TZOFFSETFROM:-0400
TZOFFSETTO:-0500
TZNAME:EST
DTSTART:20241103T060000
END:STANDARD
BEGIN:DAYLIGHT
TZOFFSETFROM:-0500
TZOFFSETTO:-0400
TZNAME:EDT
DTSTART:20250309T070000
END:DAYLIGHT
BEGIN:STANDARD
TZOFFSETFROM:-0400
TZOFFSETTO:-0500
TZNAME:EST
DTSTART:20251102T060000
END:STANDARD
BEGIN:DAYLIGHT
TZOFFSETFROM:-0500
TZOFFSETTO:-0400
TZNAME:EDT
DTSTART:20260308T070000
END:DAYLIGHT
BEGIN:STANDARD
TZOFFSETFROM:-0400
TZOFFSETTO:-0500
TZNAME:EST
DTSTART:20261101T060000
END:STANDARD
BEGIN:DAYLIGHT
TZOFFSETFROM:-0500
TZOFFSETTO:-0400
TZNAME:EDT
DTSTART:20270314T070000
END:DAYLIGHT
BEGIN:STANDARD
TZOFFSETFROM:-0400
TZOFFSETTO:-0500
TZNAME:EST
DTSTART:20271107T060000
END:STANDARD
END:VTIMEZONE
BEGIN:VEVENT
DTSTART;TZID=America/Toronto:20251001T190000
DTEND;TZID=America/Toronto:20251001T203000
DTSTAMP:20260421T012703
CREATED:20250729T184833Z
LAST-MODIFIED:20250924T174824Z
UID:128818-1759345200-1759350600@ecorcuccan.ca
SUMMARY:Labyrinth Prayer Walk
DESCRIPTION:
URL:https://ecorcuccan.ca/event/labyrinth-prayer-walk/
LOCATION:Westminster United Church Whitby\, 1850 Rossland Rd. East\, Whitby\, Ontario\, L1N 4V7\, Canada
CATEGORIES:Community of Faith Events
ATTACH;FMTTYPE=image/png:https://ecorcuccan.ca/wp-content/uploads/2025/07/Screenshot-2025-09-24-134624.png
END:VEVENT
BEGIN:VEVENT
DTSTART;VALUE=DATE:20251004
DTEND;VALUE=DATE:20251005
DTSTAMP:20260421T012703
CREATED:20250902T131730Z
LAST-MODIFIED:20250902T131730Z
UID:129454-1759536000-1759622399@ecorcuccan.ca
SUMMARY:Fall Rummage Sale - Saturday\, Oct. 4\, 2025
DESCRIPTION:Fall Rummage Sale at Cambridge Street United Church (Lindsay\, ON)\, Saturday\, October 4\, 2025.\nRegular sale: 8:00 AM to 12:30 pm – Bring-Your-Bag-to-Fill Sale (fee of $2 and up depending on the size of your bag): 1:00-2:30 pm – A great selection of items: clothing for men\, women and children\, shoes\, bedding\, books\, toys\, puzzles\, housewares\, and lot more!
URL:https://ecorcuccan.ca/event/fall-rummage-sale-saturday-oct-4-2025/
LOCATION:Cambridge Street United Church\, 61 Cambridge Street North\, Lindsay\, Ontario\, K9V 4C9\, Canada
CATEGORIES:Community of Faith Events,Fundraiser
ATTACH;FMTTYPE=image/png:https://ecorcuccan.ca/wp-content/uploads/2019/10/300s300-standard-default.png
END:VEVENT
BEGIN:VEVENT
DTSTART;TZID=America/Toronto:20251007T090000
DTEND;TZID=America/Toronto:20251007T130000
DTSTAMP:20260421T012703
CREATED:20250929T134420Z
LAST-MODIFIED:20250929T134420Z
UID:131194-1759827600-1759842000@ecorcuccan.ca
SUMMARY:Faith United Church Food Drive
DESCRIPTION:On Tuesday October 7th\, 2025\, we will be collecting items for Simcoe Hall Settlement House in Oshawa. This organization holds Food Bank hours three days a week\, including one with time set aside specifically for seniors. Simcoe Hall Settlement House programs fill an immediate need in the community\, while providing tools and skills to build sustainable\, independent futures (from Simcoe hall Settlement House website).\nOur Food Drive runs from 9am to 1pm.
URL:https://ecorcuccan.ca/event/faith-united-church-food-drive/
LOCATION:Faith United\, Courtice\, 1778 Nash Road\, Courtice\, ON\, L1E 2L9\, Canada
CATEGORIES:Community of Faith Events
ATTACH;FMTTYPE=image/jpeg:https://ecorcuccan.ca/wp-content/uploads/2025/09/October-7-2025-Settlement-House-drive-1.jpg
END:VEVENT
BEGIN:VEVENT
DTSTART;TZID=America/Toronto:20251018T100000
DTEND;TZID=America/Toronto:20251018T150000
DTSTAMP:20260421T012703
CREATED:20251014T133052Z
LAST-MODIFIED:20251014T133221Z
UID:131739-1760781600-1760799600@ecorcuccan.ca
SUMMARY:Quilts of History
DESCRIPTION:Eldad United Church continues to celebrate their 170th Anniversary with a ‘Quilts of History’ quilt show showcasing beautiful local quilts handmade over the years. Many are antique\, heirloom pieces\, each telling a unique story. \nEldad United Church is located at 1848 Conc Rd 6 in the village of Solina\, 10 min east of Oshawa and easily reached via the 407 (Enfield exit).
URL:https://ecorcuccan.ca/event/quilts-of-history/
LOCATION:Eldad United Church\, 1848 Concession Rd 6\, Hampton\, Ontario\, L0B 1J0\, Canada
CATEGORIES:Community of Faith Events
ATTACH;FMTTYPE=image/jpeg:https://ecorcuccan.ca/wp-content/uploads/2025/10/558259528_1228608592628216_3493046363749527872_n.jpg
END:VEVENT
BEGIN:VEVENT
DTSTART;TZID=America/Toronto:20251019T110000
DTEND;TZID=America/Toronto:20251019T140000
DTSTAMP:20260421T012703
CREATED:20251006T145935Z
LAST-MODIFIED:20251006T145935Z
UID:131558-1760871600-1760882400@ecorcuccan.ca
SUMMARY:142 Anniversary of St. John's United Church\, Campbellford
DESCRIPTION:October 19\, 2025 St John’s United Church will celebrate its 142nd Anniversary as well as the 100th Anniversary of the United Church of Canada with Reverend Jamie York as our guest speaker. \nIn celebration of these special milestones\, a challenge has been issued to the congregation to have a minimum of 100 people ( or more) in attendance. A special invitation has also been extended to United Church Congregations in the Trent Hills area. \nA “souper sundae” lunch will follow the service.
URL:https://ecorcuccan.ca/event/142-anniversary-of-st-johns-united-church-campbellford/
LOCATION:St. John’s United Church\, 50 Bridge St W\, Campbellford\, Ontario\, Canada
CATEGORIES:100th Anniversary,Community of Faith Events
ATTACH;FMTTYPE=image/png:https://ecorcuccan.ca/wp-content/uploads/2025/01/100th-Anniversary-button-bkgd.png
END:VEVENT
BEGIN:VEVENT
DTSTART;TZID=America/Toronto:20251024T170000
DTEND;TZID=America/Toronto:20251024T190000
DTSTAMP:20260421T012703
CREATED:20250902T131631Z
LAST-MODIFIED:20250902T131631Z
UID:129458-1761325200-1761332400@ecorcuccan.ca
SUMMARY:Roast Beef Dinner - Friday\, October 24\, 2025
DESCRIPTION:28th Annual Roast Beef Dinner Friday\, October 24\, 2025 at Cambridge Street United Church.\nContinuous seating from 5:00 to 7:00 pm. Take-Out available. Advanced tickets $30/adults\, $15 children (5-12 years). Tickets purchased at the door $35/adult. Tickets available from the church office 705-324-3547 or email csuc61@gmail.com. Please join us for a wonderful meal!
URL:https://ecorcuccan.ca/event/roast-beef-dinner-friday-october-24-2025/
LOCATION:Cambridge Street United Church\, 61 Cambridge Street North\, Lindsay\, Ontario\, K9V 4C9\, Canada
CATEGORIES:Community of Faith Events,Fundraiser
ATTACH;FMTTYPE=image/png:https://ecorcuccan.ca/wp-content/uploads/2019/10/300s300-standard-default.png
END:VEVENT
BEGIN:VEVENT
DTSTART;TZID=America/Toronto:20251025T090000
DTEND;TZID=America/Toronto:20251025T130000
DTSTAMP:20260421T012703
CREATED:20250918T135924Z
LAST-MODIFIED:20250918T135924Z
UID:130655-1761382800-1761397200@ecorcuccan.ca
SUMMARY:Fall Bazaar Trinity United\, Napanee
DESCRIPTION:Come join us for Trinity Napanee’s Annual Fall Bazaar. Saturday October 25th from 9:00am-1:00pm\, featuring bake and craft sale\, used book sale\, vendors\, and lunch served from 11:30-1:00 (quiche\, salad\, rolls\, dessert\, beverages). Free entry to bazaar\, lunch tickets are $20.00 and available by calling the church office at 613-354-3858.
URL:https://ecorcuccan.ca/event/fall-bazaar-trinity-united-napanee-3/
LOCATION:Trinity United Church – Napanee\, 25 Bridge Street East\, Napanee\, ON\, K7R 1R5\, Canada
CATEGORIES:Community of Faith Events
ATTACH;FMTTYPE=image/png:https://ecorcuccan.ca/wp-content/uploads/2019/10/300s300-standard-default.png
END:VEVENT
BEGIN:VEVENT
DTSTART;TZID=America/Toronto:20251025T090000
DTEND;TZID=America/Toronto:20251025T140000
DTSTAMP:20260421T012703
CREATED:20251006T162341Z
LAST-MODIFIED:20251006T162341Z
UID:131571-1761382800-1761400800@ecorcuccan.ca
SUMMARY:Burnt River UCW Christmas Craft Sale
DESCRIPTION:
URL:https://ecorcuccan.ca/event/burnt-river-ucw-christmas-craft-sale/
LOCATION:Burnt River Community Centre\, 16 Somerville Centre Rd\, Burnt River\, Ontario\, K0M 1C0\, Canada
CATEGORIES:Community of Faith Events
ATTACH;FMTTYPE=image/png:https://ecorcuccan.ca/wp-content/uploads/2025/10/Screenshot-2025-10-06-121950.png
END:VEVENT
BEGIN:VEVENT
DTSTART;TZID=America/Toronto:20251101T090000
DTEND;TZID=America/Toronto:20251101T140000
DTSTAMP:20260421T012704
CREATED:20251009T154615Z
LAST-MODIFIED:20251009T160538Z
UID:131653-1761987600-1762005600@ecorcuccan.ca
SUMMARY:Faith United Church - Annual Bazaar
DESCRIPTION:Save the date: our church’s annual bazaar is happening on Saturday November 1st! We are known as Durham Region’s largest ‘old fashioned’ bazaar\, and this year we are pulling out all the stops. Back by popular demand is our Photo Booth\, as well as our sit down lunch (11am-1pm). We have a huge inventory of Christmas decor\, a bake table\, books\, puzzles\, vintage jewelry\, bake table\, preserves\, a Silent Auction\, plus more.\nCome and see what all the fuss is about! Open from 9am to 2pm. We offer free parking and free cider. Payment is by cash\, debit\, or credit card. This is a fundraiser for the UCW.
URL:https://ecorcuccan.ca/event/faith-united-church-annual-bazaar/
LOCATION:Faith United\, Courtice\, 1778 Nash Road\, Courtice\, ON\, L1E 2L9\, Canada
CATEGORIES:Community of Faith Events,Fundraiser,United Church Women (UCW)
ATTACH;FMTTYPE=image/jpeg:https://ecorcuccan.ca/wp-content/uploads/2025/10/Faith-Bazaar-Flyer-oct-2-2025.jpg
END:VEVENT
BEGIN:VEVENT
DTSTART;TZID=America/Toronto:20251105T190000
DTEND;TZID=America/Toronto:20251105T203000
DTSTAMP:20260421T012704
CREATED:20251029T195325Z
LAST-MODIFIED:20251029T195325Z
UID:132262-1762369200-1762374600@ecorcuccan.ca
SUMMARY:Labyrinth Prayer Walk
DESCRIPTION:
URL:https://ecorcuccan.ca/event/labyrinth-prayer-walk-2/
LOCATION:Westminster United Church Whitby\, 1850 Rossland Rd. East\, Whitby\, Ontario\, L1N 4V7\, Canada
CATEGORIES:Community of Faith Events
ATTACH;FMTTYPE=image/png:https://ecorcuccan.ca/wp-content/uploads/2025/10/Screenshot-2025-10-29-155154.png
END:VEVENT
BEGIN:VEVENT
DTSTART;TZID=America/Toronto:20251106T000000
DTEND;TZID=America/Toronto:20251106T000000
DTSTAMP:20260421T012704
CREATED:20251106T192916Z
LAST-MODIFIED:20251106T192948Z
UID:132504-1762387200-1762387200@ecorcuccan.ca
SUMMARY:Safety is in Your Hands
DESCRIPTION:
URL:https://ecorcuccan.ca/event/safety-is-in-your-hands/
LOCATION:Bridge Street United Church\, Belleville\, 60 Bridge Street E\, Belleville\, Ontario\, Canada
CATEGORIES:Community of Faith Events,Information Sessions
ATTACH;FMTTYPE=image/png:https://ecorcuccan.ca/wp-content/uploads/2025/11/Screenshot-2025-11-06-142549.png
END:VEVENT
BEGIN:VEVENT
DTSTART;VALUE=DATE:20251108
DTEND;VALUE=DATE:20251109
DTSTAMP:20260421T012704
CREATED:20251106T193521Z
LAST-MODIFIED:20251106T193521Z
UID:132513-1762560000-1762646399@ecorcuccan.ca
SUMMARY:TGIF Meals
DESCRIPTION:
URL:https://ecorcuccan.ca/event/tgif-meals/
LOCATION:Bridge Street United Church\, Belleville\, 60 Bridge Street E\, Belleville\, Ontario\, Canada
CATEGORIES:Community of Faith Events
ATTACH;FMTTYPE=image/png:https://ecorcuccan.ca/wp-content/uploads/2025/11/Screenshot-2025-11-06-143323.png
END:VEVENT
BEGIN:VEVENT
DTSTART;TZID=America/Toronto:20251108T080000
DTEND;TZID=America/Toronto:20251108T140000
DTSTAMP:20260421T012704
CREATED:20251002T195311Z
LAST-MODIFIED:20251002T195514Z
UID:131510-1762588800-1762610400@ecorcuccan.ca
SUMMARY:Christmas Bazaar
DESCRIPTION:Westminster United Church\, 1199 Wallbridge Loyalist Rd. in Belleville is having their annual Christmas Bazaar on Saturday\, November 8th\, 2025 from 8:00am-2:00pm. \nAdmission is 1.00 (for Christmas Sharing & Local Food Banks) \nGift Baskets\, Baking\, Candy\, Frozen Foods\, Preserves\, Crafts\, Jewelry\, Books\, & much more. \nWe have handicap access\, an elevator and lots of parking.
URL:https://ecorcuccan.ca/event/christmas-bazaar-3/
LOCATION:Westminster United Church\, Belleville\, 1199 Wallbridge Loyalist Rd\, Belleville\, Ontario\, K8N 4Z5\, Canada
CATEGORIES:Community of Faith Events
ATTACH;FMTTYPE=image/png:https://ecorcuccan.ca/wp-content/uploads/2025/10/Screenshot-2025-10-02-155434.png
END:VEVENT
BEGIN:VEVENT
DTSTART;TZID=America/Toronto:20251108T110000
DTEND;TZID=America/Toronto:20251108T130000
DTSTAMP:20260421T012704
CREATED:20251106T193828Z
LAST-MODIFIED:20251106T193910Z
UID:132517-1762599600-1762606800@ecorcuccan.ca
SUMMARY:Silent Auction and Chili Lunch
DESCRIPTION:
URL:https://ecorcuccan.ca/event/silent-auction-and-chili-lunch/
LOCATION:Bridgenorth United Church\, 832 Charles St\, Bridgenorth\, Ontario\, K0L 1H0\, Canada
CATEGORIES:Community of Faith Events
ATTACH;FMTTYPE=image/png:https://ecorcuccan.ca/wp-content/uploads/2025/11/Screenshot-2025-11-06-143703.png
END:VEVENT
BEGIN:VEVENT
DTSTART;TZID=America/Toronto:20251111T120000
DTEND;TZID=America/Toronto:20251111T130000
DTSTAMP:20260421T012704
CREATED:20251106T193246Z
LAST-MODIFIED:20251106T193246Z
UID:132509-1762862400-1762866000@ecorcuccan.ca
SUMMARY:Music at Noon - Last Tuesday of the Month
DESCRIPTION:
URL:https://ecorcuccan.ca/event/music-at-noon-last-tuesday-of-the-month/
LOCATION:Bridge Street United Church\, Belleville\, 60 Bridge Street E\, Belleville\, Ontario\, Canada
CATEGORIES:Community of Faith Events
ATTACH;FMTTYPE=image/png:https://ecorcuccan.ca/wp-content/uploads/2025/11/Screenshot-2025-11-06-143033.png
END:VEVENT
BEGIN:VEVENT
DTSTART;VALUE=DATE:20251115
DTEND;VALUE=DATE:20251117
DTSTAMP:20260421T012704
CREATED:20251016T191140Z
LAST-MODIFIED:20251016T191140Z
UID:131821-1763164800-1763337599@ecorcuccan.ca
SUMMARY:Bethlehem Walk 2025
DESCRIPTION:A community Tradition since 2003 – November 15th and 16th from 5-8pm.
URL:https://ecorcuccan.ca/event/bethlehem-walk-2025/
LOCATION:Cold Springs Memorial Hall\, 3844 Burnham St. N\, Cold Springs\, Ont\, Canada
CATEGORIES:Community of Faith Events
ATTACH;FMTTYPE=image/png:https://ecorcuccan.ca/wp-content/uploads/2025/10/Screenshot-2025-10-16-145403.png
END:VEVENT
BEGIN:VEVENT
DTSTART;TZID=America/Toronto:20251115T090000
DTEND;TZID=America/Toronto:20251115T130000
DTSTAMP:20260421T012704
CREATED:20251001T161143Z
LAST-MODIFIED:20251001T161143Z
UID:131368-1763197200-1763211600@ecorcuccan.ca
SUMMARY:87th Annual Christmas Fayre hosted by Port Hope United Church
DESCRIPTION:Join us for a time honored tradition! Our 87th Annual Christmas Fayre wil be held on Saturday November 15\, 2025 from 9am to 1pm. We will offer a wonderful selection of homemade baking\, preserves\, delicatessen foods\, as well as handmade crafts\, knitting and seasonal decor for your home or gifting. \nNew this year! – a number of local vendors will be on hand to enhance your shopping experience. A light lunch will also be served from 11:00 a.m. to 12:30 p.m\, including homemade soup\, roll\, coffee/tea and cookie for only $10/person. This event is wheel chair accessible\, with free admission and parking. Purchasing by cash and debit (sorry no credit). All are welcome!
URL:https://ecorcuccan.ca/event/87th-annual-christmas-fayre-hosted-by-port-hope-united-church/
LOCATION:Port Hope United Church\, 34 South Street\, Port Hope\, Ontario\, L1A 1R8\, Canada
CATEGORIES:Community of Faith Events,Fundraiser,United Church Women (UCW)
ATTACH;FMTTYPE=image/png:https://ecorcuccan.ca/wp-content/uploads/2025/09/87th-Annual-Christmas-Fayre.png
END:VEVENT
BEGIN:VEVENT
DTSTART;TZID=America/Toronto:20251121T000000
DTEND;TZID=America/Toronto:20251123T000000
DTSTAMP:20260421T012704
CREATED:20251106T141411Z
LAST-MODIFIED:20251106T141623Z
UID:132476-1763683200-1763856000@ecorcuccan.ca
SUMMARY:“A Gift to Remember” AND  “The Nutcracker’s Nuts”
DESCRIPTION:
URL:https://ecorcuccan.ca/event/a-gift-to-remember-and-the-nutcrackers-nuts/
LOCATION:Westminster United Church\, Belleville\, 1199 Wallbridge Loyalist Rd\, Belleville\, Ontario\, K8N 4Z5\, Canada
CATEGORIES:Community of Faith Events,Fundraiser
ATTACH;FMTTYPE=image/png:https://ecorcuccan.ca/wp-content/uploads/2025/11/Screenshot-2025-11-06-091527.png
END:VEVENT
BEGIN:VEVENT
DTSTART;TZID=America/Toronto:20251122T093000
DTEND;TZID=America/Toronto:20251122T133000
DTSTAMP:20260421T012704
CREATED:20251103T161403Z
LAST-MODIFIED:20251110T180953Z
UID:132373-1763803800-1763818200@ecorcuccan.ca
SUMMARY:St. James UCW\, Peterborough Christmas Cafe and Bazaar
DESCRIPTION:Mark your calendars! St. James\, Peterborough UCW is hosting its annual Christmas Cafe and Bazaar on Saturday\, November 22nd from 9:30 – 1:30. Shop at the vendors tables\, buy some delicious baked and deli goods and then sit down for lunch.
URL:https://ecorcuccan.ca/event/st-james-ucw-peterborough-christmas-cafe-and-bazaar/
LOCATION:St. James United Church\, Peterborough\, 221 Romaine Street\, Peterborough\, Ontario\, K9J 2C3\, Canada
CATEGORIES:Community of Faith Events,United Church Women (UCW)
ATTACH;FMTTYPE=image/png:https://ecorcuccan.ca/wp-content/uploads/2025/10/Screenshot-2025-11-03-111326.png
ORGANIZER;CN="St. James United Church UCW":MAILTO:info@stjamesunitedchurch.ca
END:VEVENT
BEGIN:VEVENT
DTSTART;TZID=America/Toronto:20251122T100000
DTEND;TZID=America/Toronto:20251122T150000
DTSTAMP:20260421T012704
CREATED:20251117T145656Z
LAST-MODIFIED:20251117T145656Z
UID:132665-1763805600-1763823600@ecorcuccan.ca
SUMMARY:Deck Your Halls 52nd Annual Christmas Bazaar and Craft Sale
DESCRIPTION:A day for shopping and eating. There will be handmade crafts\, bake table\, pointsettias and much more.
URL:https://ecorcuccan.ca/event/deck-your-halls-52nd-annual-christmas-bazaar-and-craft-sale/
LOCATION:Dunbarton-Fairport United Church\, 1066 Dunbarton Road\, Pickering\, Ontario\, Canada
CATEGORIES:Community of Faith Events
ATTACH;FMTTYPE=image/jpeg:https://ecorcuccan.ca/wp-content/uploads/2025/11/2025-09-19-deckyourhalls2025-800-800-p-L-97.jpg
END:VEVENT
BEGIN:VEVENT
DTSTART;TZID=America/Toronto:20251122T110000
DTEND;TZID=America/Toronto:20251122T143000
DTSTAMP:20260421T012704
CREATED:20251029T143354Z
LAST-MODIFIED:20251029T143354Z
UID:132142-1763809200-1763821800@ecorcuccan.ca
SUMMARY:New Hope United Church Christmas Luncheon and Craft Sale
DESCRIPTION:New Hope United Church\n4651 County Road 2\, Port Hope\, ON (Welcome) \nSaturday\, November 22\, 11am – 2:30 pm\nCome for luncheon and Dessert\, Dessert alone or just to shop.\nLuncheon of delicious beef stew\, coleslaw and tea biscuit followed by homemade desserts!\nAdult Lunch & Dessert $20- Child $10\nAdult Dessert & beverage-$8 Child $5\nVendors tables of crafts\, baking\, treats\, maple syrup\, honey\, fabrics\, candles\, art\, lavender\, gifts and lots more!\nSilent auction of handmade quilts.
URL:https://ecorcuccan.ca/event/new-hope-united-church-christmas-luncheon-and-craft-sale/
LOCATION:New Hope United Church\, 4651 County Road 2\, Port Hope\, Canada
CATEGORIES:Community of Faith Events
ATTACH;FMTTYPE=image/png:https://ecorcuccan.ca/wp-content/uploads/2019/10/300s300-standard-default.png
ORGANIZER;CN="New Hope United Church":MAILTO:admin@newhopeunitedchurch.ca
END:VEVENT
BEGIN:VEVENT
DTSTART;TZID=America/Toronto:20251130T190000
DTEND;TZID=America/Toronto:20251130T190000
DTSTAMP:20260421T012704
CREATED:20251030T144354Z
LAST-MODIFIED:20251030T151630Z
UID:132298-1764529200-1764529200@ecorcuccan.ca
SUMMARY:Lakefield Annual Community Carol Sing
DESCRIPTION:We’re excited to welcome everyone to our Lakefield Annual Community Carol Sing! Hosted by the AOTS Men’s Club\, this Christmas tradition brings our community together in song and celebration. Offerings from the evening will support Community Care and Lakefield Youth Unlimited. It’s a festive favourite—please mark your calendars and join us as we kick off the holiday season together!
URL:https://ecorcuccan.ca/event/lakefield-annual-community-carol-sing/
LOCATION:Lakefield United Church\, 47 Regent Street\, Lakefield\, Lakefield\, Ontario\, K0L 2H0\, Canada
CATEGORIES:Community of Faith Events
ATTACH;FMTTYPE=image/jpeg:https://ecorcuccan.ca/wp-content/uploads/2025/10/571119484_796046463059008_5323238833704464262_n.jpg
END:VEVENT
BEGIN:VEVENT
DTSTART;TZID=America/Toronto:20251130T190000
DTEND;TZID=America/Toronto:20251130T213000
DTSTAMP:20260421T012704
CREATED:20251117T145010Z
LAST-MODIFIED:20251117T145010Z
UID:132678-1764529200-1764538200@ecorcuccan.ca
SUMMARY:Seasons of Song – Broadway’s Best and Festive Favourites
DESCRIPTION:Concert at Port Hope United Church. Five musical theatre singers who have been on stages across Canada and on Cruise Ships.\nFeaturing Thomas Alderson\, Lili Connor\, Lucas Meeuse\, Jordy Rolfe\, Matt Villemaire.\nAct 1 — all your the best show tunes from musical theatre. Act II — all your Christmas favourites.\n$25 tickets\, children 12 & under free. Call Ron & Morforie Cameron for tickets 905-885-6127
URL:https://ecorcuccan.ca/event/seasons-of-song-broadways-best-and-festive-favourites/
LOCATION:Port Hope United Church\, 34 South Street\, Port Hope\, Ontario\, L1A 1R8\, Canada
CATEGORIES:Community of Faith Events
ATTACH;FMTTYPE=image/jpeg:https://ecorcuccan.ca/wp-content/uploads/2025/11/Seasons-of-Song-Poster.jpg
END:VEVENT
BEGIN:VEVENT
DTSTART;TZID=America/Toronto:20251206T120000
DTEND;TZID=America/Toronto:20251206T170000
DTSTAMP:20260421T012704
CREATED:20251126T155748Z
LAST-MODIFIED:20251126T155748Z
UID:133257-1765022400-1765040400@ecorcuccan.ca
SUMMARY:Snowflake Marketplace
DESCRIPTION:All funds raised from this event go towards our Social Justice and Outreach initiatives
URL:https://ecorcuccan.ca/event/snowflake-marketplace/
LOCATION:St. Andrew’s United Church\, Grafton\, 137 Old Danforth Rd\, Grafton\, Ontario\, Canada
CATEGORIES:Community of Faith Events,Fundraiser
ATTACH;FMTTYPE=image/jpeg:https://ecorcuccan.ca/wp-content/uploads/2025/11/Snowflake-Marketplace-poster-scaled.jpg
END:VEVENT
BEGIN:VEVENT
DTSTART;TZID=America/Toronto:20251221T140000
DTEND;TZID=America/Toronto:20251221T140000
DTSTAMP:20260421T012704
CREATED:20251215T204428Z
LAST-MODIFIED:20251215T204511Z
UID:133836-1766325600-1766325600@ecorcuccan.ca
SUMMARY:Curve Lake Christmas
DESCRIPTION:
URL:https://ecorcuccan.ca/event/curve-lake-christmas/
LOCATION:Curve Lake United Church
CATEGORIES:Community of Faith Events
ATTACH;FMTTYPE=image/jpeg:https://ecorcuccan.ca/wp-content/uploads/2025/12/Curve-Lake.jpg
END:VEVENT
BEGIN:VEVENT
DTSTART;VALUE=DATE:20251221
DTEND;VALUE=DATE:20251222
DTSTAMP:20260421T012704
CREATED:20251202T165426Z
LAST-MODIFIED:20251202T165426Z
UID:133475-1766275200-1766361599@ecorcuccan.ca
SUMMARY:“Appalachian Winter” Christmas Cantata
DESCRIPTION:We have handicapped access\, an elevator and lots of parking. All are welcome!
URL:https://ecorcuccan.ca/event/appalachian-winter-christmas-cantata/
LOCATION:Westminster United Church\, Belleville\, 1199 Wallbridge Loyalist Rd\, Belleville\, Ontario\, K8N 4Z5\, Canada
CATEGORIES:Community of Faith Events
ATTACH;FMTTYPE=application/pdf:https://ecorcuccan.ca/wp-content/uploads/2025/12/Cantata-Poster-Appalachian-Winter.pdf
END:VEVENT
BEGIN:VEVENT
DTSTART;TZID=America/Toronto:20260217T170000
DTEND;TZID=America/Toronto:20260217T190000
DTSTAMP:20260421T012704
CREATED:20260202T200342Z
LAST-MODIFIED:20260202T200342Z
UID:134800-1771347600-1771354800@ecorcuccan.ca
SUMMARY:Shrove Tuesday Pancake Supper
DESCRIPTION:
URL:https://ecorcuccan.ca/event/shrove-tuesday-pancake-supper-2/
LOCATION:Kingsview United Church – Oshawa
CATEGORIES:Community of Faith Events
ATTACH;FMTTYPE=image/png:https://ecorcuccan.ca/wp-content/uploads/2026/02/Screenshot-2026-02-02-150009.png
END:VEVENT
BEGIN:VEVENT
DTSTART;TZID=America/Toronto:20260217T170000
DTEND;TZID=America/Toronto:20260217T190000
DTSTAMP:20260421T012704
CREATED:20260205T185726Z
LAST-MODIFIED:20260205T185726Z
UID:134859-1771347600-1771354800@ecorcuccan.ca
SUMMARY:Shrove Tuesday Pancake Supper
DESCRIPTION:
URL:https://ecorcuccan.ca/event/shrove-tuesday-pancake-supper-3/
LOCATION:St. James United Church\, Peterborough\, 221 Romaine Street\, Peterborough\, Ontario\, K9J 2C3\, Canada
CATEGORIES:Community of Faith Events
ATTACH;FMTTYPE=image/jpeg:https://ecorcuccan.ca/wp-content/uploads/2026/02/623821692_26166749339598922_3514045042596568277_n.jpg
END:VEVENT
BEGIN:VEVENT
DTSTART;TZID=America/Toronto:20260224T120000
DTEND;TZID=America/Toronto:20260224T160000
DTSTAMP:20260421T012704
CREATED:20260119T162738Z
LAST-MODIFIED:20260119T162738Z
UID:134433-1771934400-1771948800@ecorcuccan.ca
SUMMARY:Roots & Branches: A History of the United Church in North Marysburgh in Our Own Words
DESCRIPTION:Roots and Branches bring history to life in a community-inspired\, collected and oral history of the United Church in North Marysburgh in PEC\, from the 1700s to today. This is an event and an experience in two parts\, not to be missed. \nFirst\, in Burley Hall (our log cabin community space) you’ll find engaging displays of original artefacts\, then-and-now photographs\, fascinating original books and newspaper clippings about the people and times past\, historic maps\, and more\, pertaining to the ancestral churches of the original township of North Marysburgh. We collected this history by visiting historic sites\, scanning local archives and through community collaboration. Enjoy coffee\, tea and light refreshments. Small coffee tables will be set up for browsing historic clippings and photographs. \nSecond\, we’ve prepared a self-guided tour of our historic chapel next door. The small\, simple church\, built in 1877\, is officially a Prince Edward County Designated Heritage Building. Inside you’ll find a self-guided tour pointing out subtle\, charming and fascinating features of the space and its history. You’ll hear recordings of local historians telling their stories and memories of the churches of North Marysburgh in their own words. Interwoven with these recordings\, old-time hymns will fill the sanctuary with sacred melodies. Guests are welcome to light a candle and stay for a moment of quiet prayer or contemplation.
URL:https://ecorcuccan.ca/event/roots-branches-a-history-of-the-united-church-in-north-marysburgh-in-our-own-words/
LOCATION:Cressy Glenora United Church\, 3442 County Road 7\, Prince Edward County\, On\, Canada
CATEGORIES:Community of Faith Events
ATTACH;FMTTYPE=image/png:https://ecorcuccan.ca/wp-content/uploads/2026/01/aaron.png
END:VEVENT
BEGIN:VEVENT
DTSTART;TZID=America/Toronto:20260302T190000
DTEND;TZID=America/Toronto:20260302T210000
DTSTAMP:20260421T012704
CREATED:20260330T162355Z
LAST-MODIFIED:20260330T162355Z
UID:135899-1772478000-1772485200@ecorcuccan.ca
SUMMARY:Benfit Concert for Brooksong Retreat and Cancer Centre
DESCRIPTION:
URL:https://ecorcuccan.ca/event/benfit-concert-for-brooksong-retreat-and-cancer-centre/
LOCATION:Trinity United Church – Bobcaygeon\, 44 William Street\, Bobcaygeon\, Ontario\, K0M 1A0\, Canada
CATEGORIES:Community of Faith Events
ATTACH;FMTTYPE=image/png:https://ecorcuccan.ca/wp-content/uploads/2026/03/Screenshot-2026-03-30-121334.png
END:VEVENT
END:VCALENDAR