BEGIN:VCALENDAR
VERSION:2.0
PRODID:-//East Central Ontario Regional Council of the United Church of Canada - ECPv6.15.20//NONSGML v1.0//EN
CALSCALE:GREGORIAN
METHOD:PUBLISH
X-ORIGINAL-URL:https://ecorcuccan.ca
X-WR-CALDESC:Events for East Central Ontario Regional Council of the United Church of Canada
REFRESH-INTERVAL;VALUE=DURATION:PT1H
X-Robots-Tag:noindex
X-PUBLISHED-TTL:PT1H
BEGIN:VTIMEZONE
TZID:America/Toronto
BEGIN:DAYLIGHT
TZOFFSETFROM:-0500
TZOFFSETTO:-0400
TZNAME:EDT
DTSTART:20220313T070000
END:DAYLIGHT
BEGIN:STANDARD
TZOFFSETFROM:-0400
TZOFFSETTO:-0500
TZNAME:EST
DTSTART:20221106T060000
END:STANDARD
BEGIN:DAYLIGHT
TZOFFSETFROM:-0500
TZOFFSETTO:-0400
TZNAME:EDT
DTSTART:20230312T070000
END:DAYLIGHT
BEGIN:STANDARD
TZOFFSETFROM:-0400
TZOFFSETTO:-0500
TZNAME:EST
DTSTART:20231105T060000
END:STANDARD
BEGIN:DAYLIGHT
TZOFFSETFROM:-0500
TZOFFSETTO:-0400
TZNAME:EDT
DTSTART:20240310T070000
END:DAYLIGHT
BEGIN:STANDARD
TZOFFSETFROM:-0400
TZOFFSETTO:-0500
TZNAME:EST
DTSTART:20241103T060000
END:STANDARD
END:VTIMEZONE
BEGIN:VEVENT
DTSTART;TZID=America/Toronto:20230213T190000
DTEND;TZID=America/Toronto:20230213T210000
DTSTAMP:20260425T071109
CREATED:20230202T160000Z
LAST-MODIFIED:20230202T175744Z
UID:59773-1676314800-1676322000@ecorcuccan.ca
SUMMARY:West Area Cluster- ECO RC First Third Ministry Leaders Connection (children\, youth and young adult leaders)
DESCRIPTION:First Third Ministry Leadership Connection – West Cluster\non zoom Monday February 13\, 2023  at 7:00pm\n\nWe would love to connect with anyone who is interested in First Third Ministry Leadership (children\, youth\, young adults and their leaders). \nThis is a first meeting to connect and offer support to those who are interested in this Ministry in the West area of our Regional Council. \nLet’s dream together about some children\, youth\, young adult and intergenerational events that could be held locally. \nPlease contact either Sharon or Susie for more information. \n\n\nSharon Hull – email- shull@united-church.ca or phone 1-800-268-3781\, extension 6165\nSusie Noorlander- email- ssunited2014@yahoo.ca or phone 905- 447 9068\n\n\nUse this registration form to tell us a bit about your current Ministry. The zoom link will be emailed out on the morning of the event to everyone who has registered. \nPlease pass onto anyone else who would be interested in attending.
URL:https://ecorcuccan.ca/event/west-area-cluster-eco-rc-first-third-ministry-leaders-connection-children-youth-and-young-adult-leaders/
LOCATION:ZOOM (online)
CATEGORIES:Cluster Gatherings,ECORC Events,ECORC Programs
ATTACH;FMTTYPE=image/png:https://ecorcuccan.ca/wp-content/uploads/2019/10/300s300-standard-default.png
END:VEVENT
END:VCALENDAR