BEGIN:VCALENDAR
VERSION:2.0
PRODID:-//East Central Ontario Regional Council of the United Church of Canada - ECPv6.15.20//NONSGML v1.0//EN
CALSCALE:GREGORIAN
METHOD:PUBLISH
X-ORIGINAL-URL:https://ecorcuccan.ca
X-WR-CALDESC:Events for East Central Ontario Regional Council of the United Church of Canada
REFRESH-INTERVAL;VALUE=DURATION:PT1H
X-Robots-Tag:noindex
X-PUBLISHED-TTL:PT1H
BEGIN:VTIMEZONE
TZID:America/Toronto
BEGIN:DAYLIGHT
TZOFFSETFROM:-0500
TZOFFSETTO:-0400
TZNAME:EDT
DTSTART:20250309T070000
END:DAYLIGHT
BEGIN:STANDARD
TZOFFSETFROM:-0400
TZOFFSETTO:-0500
TZNAME:EST
DTSTART:20251102T060000
END:STANDARD
BEGIN:DAYLIGHT
TZOFFSETFROM:-0500
TZOFFSETTO:-0400
TZNAME:EDT
DTSTART:20260308T070000
END:DAYLIGHT
BEGIN:STANDARD
TZOFFSETFROM:-0400
TZOFFSETTO:-0500
TZNAME:EST
DTSTART:20261101T060000
END:STANDARD
BEGIN:DAYLIGHT
TZOFFSETFROM:-0500
TZOFFSETTO:-0400
TZNAME:EDT
DTSTART:20270314T070000
END:DAYLIGHT
BEGIN:STANDARD
TZOFFSETFROM:-0400
TZOFFSETTO:-0500
TZNAME:EST
DTSTART:20271107T060000
END:STANDARD
END:VTIMEZONE
BEGIN:VEVENT
DTSTART;TZID=America/Toronto:20260512T190000
DTEND;TZID=America/Toronto:20260512T203000
DTSTAMP:20260421T065537
CREATED:20260205T182857Z
LAST-MODIFIED:20260407T132739Z
UID:134849-1778612400-1778617800@ecorcuccan.ca
SUMMARY:IJRR - Sharing and Learning (Online) Events with Dr. Shelley Knott-Fife
DESCRIPTION:Please register below for one or both events. A zoom link will be sent to registrants on the morning of the event. \n\n\n                \n                        \n                            2026 - Indigenous Justice & Respectful Relationships Webinar Events\n                             \n                        \n                        CommentsThis field is for validation purposes and should be left unchanged.Please register belowAnything with an * is required and please make sure you receive a confirmation email. If you do NOT receive a confirmation\, your registration has not been received. Any question regarding registration can be directed to Karen Wilson at kwilson@united-church.ca\nThank you!Name*\n                            \n                            \n                                                    First\n                                                    \n                                                \n                            \n                            \n                                                            Last\n                                                            \n                                                        \n                            \n                        Email*\n                                \n                                    \n                                    Enter Email\n                                \n                                \n                                    \n                                    Confirm Email\n                                \n                                \n                            PronounsPlease share what pronouns you use (if you feel comfortable doing so)Phone Number*Extension\, if anyWhere are you joining us from?Regional Council\n			\n				\n				East Central Ontario Regional Council\n			\n			\n				\n				Eastern Ontario Outaouais Regional Council\n			\n			\n				\n				Conseil régional Nakonha:ka Regional Council\n			Name and Location of your Community of Faith*Please let us know which event(s) you will be attendingBoth events will take place on Zoom and a link will be sent the morning of the eventUntitled\n								\n								Thursday\, February 19th\, 7-8:30pm EST ‘Sacred Medicine Teaching’\n							\n								\n								Tuesday\, May 12th\, 7-8:30pm EST ‘What You May like to know About Attending a Powwow\n							Equity and AccessibiltyEquityPlease let us know if there is anything we need to be aware of to make this gathering a better experience for you. Thank you. Privacy information and consentThe East Central Ontario Regional Council (ECORC) protects your personal information by adhering to all legislative requirements with respect to privacy. The collection of information on this registration form is for the purposes of the East Central Ontario Regional Council (ECORC) only.\n\nConsent* I agree to the privacy policy and the collection of personal information.End of registration - click Submit to complete
URL:https://ecorcuccan.ca/event/ijrr-sharing-and-learning-online-events-with-dr-shelley-knott-fife/
LOCATION:ZOOM (online)
CATEGORIES:ECORC Events,Educational,Indigenous Justice and Respectful Relationships
ATTACH;FMTTYPE=image/png:https://ecorcuccan.ca/wp-content/uploads/2026/02/IJRR-Events-with-Dr.-Shelley-Knott-Fife-1-2.png
END:VEVENT
END:VCALENDAR