BEGIN:VCALENDAR
VERSION:2.0
PRODID:-//East Central Ontario Regional Council of the United Church of Canada - ECPv6.15.20//NONSGML v1.0//EN
CALSCALE:GREGORIAN
METHOD:PUBLISH
X-WR-CALNAME:East Central Ontario Regional Council of the United Church of Canada
X-ORIGINAL-URL:https://ecorcuccan.ca
X-WR-CALDESC:Events for East Central Ontario Regional Council of the United Church of Canada
REFRESH-INTERVAL;VALUE=DURATION:PT1H
X-Robots-Tag:noindex
X-PUBLISHED-TTL:PT1H
BEGIN:VTIMEZONE
TZID:America/Toronto
BEGIN:DAYLIGHT
TZOFFSETFROM:-0500
TZOFFSETTO:-0400
TZNAME:EDT
DTSTART:20210314T070000
END:DAYLIGHT
BEGIN:STANDARD
TZOFFSETFROM:-0400
TZOFFSETTO:-0500
TZNAME:EST
DTSTART:20211107T060000
END:STANDARD
BEGIN:DAYLIGHT
TZOFFSETFROM:-0500
TZOFFSETTO:-0400
TZNAME:EDT
DTSTART:20220313T070000
END:DAYLIGHT
BEGIN:STANDARD
TZOFFSETFROM:-0400
TZOFFSETTO:-0500
TZNAME:EST
DTSTART:20221106T060000
END:STANDARD
BEGIN:DAYLIGHT
TZOFFSETFROM:-0500
TZOFFSETTO:-0400
TZNAME:EDT
DTSTART:20230312T070000
END:DAYLIGHT
BEGIN:STANDARD
TZOFFSETFROM:-0400
TZOFFSETTO:-0500
TZNAME:EST
DTSTART:20231105T060000
END:STANDARD
END:VTIMEZONE
BEGIN:VEVENT
DTSTART;TZID=America/Toronto:20221001T100000
DTEND;TZID=America/Toronto:20221001T120000
DTSTAMP:20260424T085017
CREATED:20220817T155501Z
LAST-MODIFIED:20220922T170325Z
UID:49862-1664618400-1664625600@ecorcuccan.ca
SUMMARY:Fall Fair!
DESCRIPTION:
URL:https://ecorcuccan.ca/event/fall-fair/
LOCATION:St. Andrew’s-by-the-Lake United Church\, 1 Redden St.\, Kingston\, ON\, K7M 4K7\, Canada
CATEGORIES:Community of Faith Events,Fundraiser
ATTACH;FMTTYPE=application/pdf:https://ecorcuccan.ca/wp-content/uploads/2022/08/ECORC-possible-poster-2.pdf
END:VEVENT
BEGIN:VEVENT
DTSTART;TZID=America/Toronto:20221029T080000
DTEND;TZID=America/Toronto:20221029T130000
DTSTAMP:20260424T085017
CREATED:20220929T205006Z
LAST-MODIFIED:20220929T205006Z
UID:50327-1667030400-1667048400@ecorcuccan.ca
SUMMARY:Craft & Bake Sale
DESCRIPTION:A craft and bake sale\, with local vendors. All proceeds made by the church at this event is going to buy medical kits for Ukraine.
URL:https://ecorcuccan.ca/event/craft-bake-sale/
LOCATION:Glenburnie United Church\, 1028 Unity Road\, Glenburnie\, Ontario\, Canada
CATEGORIES:Fundraiser
ATTACH;FMTTYPE=image/jpeg:https://ecorcuccan.ca/wp-content/uploads/2022/09/CB-SALE-POSTER.jpg
END:VEVENT
BEGIN:VEVENT
DTSTART;TZID=America/Toronto:20221029T193000
DTEND;TZID=America/Toronto:20221029T210000
DTSTAMP:20260424T085017
CREATED:20221024T184305Z
LAST-MODIFIED:20221024T184305Z
UID:50999-1667071800-1667077200@ecorcuccan.ca
SUMMARY:Phantom of the Organ
DESCRIPTION:Come and enjoy spooky music and spine-tingling stories at the PHANTOM of the ORGAN on Saturday\, October 29 at 7:30 pm. Doors open at 7:00 pm. No tickets required. A Free-will Offering will be taken to support the Food Bank and the Cambridge Street United music ministry.
URL:https://ecorcuccan.ca/event/phantom-of-the-organ/
LOCATION:Cambridge Street United Church\, 61 Cambridge Street North\, Lindsay\, Ontario\, K9V 4C9\, Canada
CATEGORIES:Fundraiser
ATTACH;FMTTYPE=image/jpeg:https://ecorcuccan.ca/wp-content/uploads/2022/10/SKM_45822100611140-scaled.jpg
END:VEVENT
END:VCALENDAR