BEGIN:VCALENDAR
VERSION:2.0
PRODID:-//East Central Ontario Regional Council of the United Church of Canada - ECPv6.15.20//NONSGML v1.0//EN
CALSCALE:GREGORIAN
METHOD:PUBLISH
X-WR-CALNAME:East Central Ontario Regional Council of the United Church of Canada
X-ORIGINAL-URL:https://ecorcuccan.ca
X-WR-CALDESC:Events for East Central Ontario Regional Council of the United Church of Canada
REFRESH-INTERVAL;VALUE=DURATION:PT1H
X-Robots-Tag:noindex
X-PUBLISHED-TTL:PT1H
BEGIN:VTIMEZONE
TZID:America/Toronto
BEGIN:DAYLIGHT
TZOFFSETFROM:-0500
TZOFFSETTO:-0400
TZNAME:EDT
DTSTART:20210314T070000
END:DAYLIGHT
BEGIN:STANDARD
TZOFFSETFROM:-0400
TZOFFSETTO:-0500
TZNAME:EST
DTSTART:20211107T060000
END:STANDARD
BEGIN:DAYLIGHT
TZOFFSETFROM:-0500
TZOFFSETTO:-0400
TZNAME:EDT
DTSTART:20220313T070000
END:DAYLIGHT
BEGIN:STANDARD
TZOFFSETFROM:-0400
TZOFFSETTO:-0500
TZNAME:EST
DTSTART:20221106T060000
END:STANDARD
BEGIN:DAYLIGHT
TZOFFSETFROM:-0500
TZOFFSETTO:-0400
TZNAME:EDT
DTSTART:20230312T070000
END:DAYLIGHT
BEGIN:STANDARD
TZOFFSETFROM:-0400
TZOFFSETTO:-0500
TZNAME:EST
DTSTART:20231105T060000
END:STANDARD
END:VTIMEZONE
BEGIN:VEVENT
DTSTART;TZID=America/Toronto:20221119T100000
DTEND;TZID=America/Toronto:20221119T130000
DTSTAMP:20260424T072720
CREATED:20221103T170854Z
LAST-MODIFIED:20221103T170854Z
UID:51961-1668852000-1668862800@ecorcuccan.ca
SUMMARY:84th Annual Christmas Fayre at Port Hope United Church
DESCRIPTION:Join us for a time honoured tradition – our 84th annual Christmas Fayre! Note a new date this year\, Saturday November 19 from 10am to 1pm. We will have a wide selection of handmade crafts\, decor and knitting for your enjoyment\, as well as homemade baking\, preserves and delicatessen for you to purchase in preparation for the holiday season! Admission is free\, and this event is wheelchair accessible. All are welcome! Cash only please. We will abide by all COVID protocols in place at that time. Masking is preferred\, but optional at this time.
URL:https://ecorcuccan.ca/event/84th-annual-christmas-fayre-at-port-hope-united-church/
LOCATION:Port Hope United Church\, 34 South Street\, Port Hope\, Ontario\, L1A 1R8\, Canada
CATEGORIES:Fundraiser,Other Events,United Church Women (UCW)
ATTACH;FMTTYPE=image/jpeg:https://ecorcuccan.ca/wp-content/uploads/2022/10/PHUC-Fayre-Poster-Nov-19-2022.jpg
END:VEVENT
BEGIN:VEVENT
DTSTART;TZID=America/Toronto:20221121T090000
DTEND;TZID=America/Toronto:20221125T170000
DTSTAMP:20260424T072720
CREATED:20221024T184202Z
LAST-MODIFIED:20221024T184202Z
UID:51109-1669021200-1669395600@ecorcuccan.ca
SUMMARY:Westminster United Church\, Whitby\, Ontario:  Online Auction Nov. 21 – 25\, 2022
DESCRIPTION:This event is supported by our many congregants’ and local businesses’ donations of items\, baked goods and services!! \nYou have the WHOLE week to check on your items and to bid\, beginning Monday Nov. 21st\, at 9:00AM. \nThe process is very easy to follow – see the link here or on the poster: https://www.charityauctionstoday.com/auctions/westminster-united-2022-auction-34679 \nBidding closes at 5:00PM on Friday Nov. 25th\, 2022 and you will automatically be notified shortly after once you’re the winning bidder!! \nPlease contact Margaret Suepaul\, (Westminster United Church\, Whitby)\, should you have any questions: margaretsuepaul@gmail.com
URL:https://ecorcuccan.ca/event/westminster-united-church-whitby-ontario-online-auction-nov-21-25-2022/
LOCATION:ONLINE\, Zoom link with registration
CATEGORIES:Fundraiser
ATTACH;FMTTYPE=image/jpeg:https://ecorcuccan.ca/wp-content/uploads/2022/10/Auction-Poster.jpg
END:VEVENT
END:VCALENDAR