BEGIN:VCALENDAR
VERSION:2.0
PRODID:-//East Central Ontario Regional Council of the United Church of Canada - ECPv6.15.20//NONSGML v1.0//EN
CALSCALE:GREGORIAN
METHOD:PUBLISH
X-ORIGINAL-URL:https://ecorcuccan.ca
X-WR-CALDESC:Events for East Central Ontario Regional Council of the United Church of Canada
REFRESH-INTERVAL;VALUE=DURATION:PT1H
X-Robots-Tag:noindex
X-PUBLISHED-TTL:PT1H
BEGIN:VTIMEZONE
TZID:America/Toronto
BEGIN:DAYLIGHT
TZOFFSETFROM:-0500
TZOFFSETTO:-0400
TZNAME:EDT
DTSTART:20240310T070000
END:DAYLIGHT
BEGIN:STANDARD
TZOFFSETFROM:-0400
TZOFFSETTO:-0500
TZNAME:EST
DTSTART:20241103T060000
END:STANDARD
BEGIN:DAYLIGHT
TZOFFSETFROM:-0500
TZOFFSETTO:-0400
TZNAME:EDT
DTSTART:20250309T070000
END:DAYLIGHT
BEGIN:STANDARD
TZOFFSETFROM:-0400
TZOFFSETTO:-0500
TZNAME:EST
DTSTART:20251102T060000
END:STANDARD
BEGIN:DAYLIGHT
TZOFFSETFROM:-0500
TZOFFSETTO:-0400
TZNAME:EDT
DTSTART:20260308T070000
END:DAYLIGHT
BEGIN:STANDARD
TZOFFSETFROM:-0400
TZOFFSETTO:-0500
TZNAME:EST
DTSTART:20261101T060000
END:STANDARD
BEGIN:DAYLIGHT
TZOFFSETFROM:-0500
TZOFFSETTO:-0400
TZNAME:EDT
DTSTART:20270314T070000
END:DAYLIGHT
BEGIN:STANDARD
TZOFFSETFROM:-0400
TZOFFSETTO:-0500
TZNAME:EST
DTSTART:20271107T060000
END:STANDARD
END:VTIMEZONE
BEGIN:VEVENT
DTSTART;TZID=America/Toronto:20250314T170000
DTEND;TZID=America/Toronto:20250314T190000
DTSTAMP:20260424T133443
CREATED:20250306T144126Z
LAST-MODIFIED:20250306T144126Z
UID:123892-1741971600-1741978800@ecorcuccan.ca
SUMMARY:Faith United Church - Crock Pot Supper
DESCRIPTION:Join us on Friday March 14th\, 2025 for a delicious crock pot supper from 5pm – 7pm.\nOur chefs have been busy planning a menu that will appeal to everyone.\nWe will have 10+ hot entrees\, homemade biscuits\, salad\, dessert\, and beverages available.\nAdults = $20\nChildren (6-12) = $5\nChildren under 5 – FREE\nWe have lots of parking and we are a wheelchair accessible facility.
URL:https://ecorcuccan.ca/event/faith-united-church-crock-pot-supper/
LOCATION:Faith United\, Courtice\, 1778 Nash Road\, Courtice\, ON\, L1E 2L9\, Canada
CATEGORIES:Fundraiser
ATTACH;FMTTYPE=image/jpeg:https://ecorcuccan.ca/wp-content/uploads/2025/03/crock-pot-supper-poster-2.jpg
END:VEVENT
BEGIN:VEVENT
DTSTART;TZID=America/Toronto:20250321T190000
DTEND;TZID=America/Toronto:20250321T213000
DTSTAMP:20260424T133443
CREATED:20250220T202700Z
LAST-MODIFIED:20250220T202700Z
UID:123043-1742583600-1742592600@ecorcuccan.ca
SUMMARY:Pint of Blarney Live in Concert!
DESCRIPTION:Get ready for a night of lively Irish music and toe-tapping jigs as we present the sensational band\, Pint of Blarney\, live in concert on Friday\, March 21\, 2025 at 7:00 PM. \nJoin us for an unforgettable evening filled with the rich melodies and infectious energy of Pint of Blarney as they take the stage to celebrate the spirit of Ireland! \nTickets: $25.00 per person – available at the church office during regular hours and after services on Sundays.\nSecure your tickets early to guarantee a spot at this fantastic event! Don’t miss out on the chance to immerse yourself in the vibrant sounds of Irish music and enjoy a night of community and entertainment. Cash Bar. \nFor more information\, please contact the church office at 705-324-3547\, email csuc61@gmail.com\, or visit us in person. \nLet’s come together to make this Irish concert with Pint of Blarney a night to remember! See you there!
URL:https://ecorcuccan.ca/event/pint-of-blarney-live-in-concert/
LOCATION:Cambridge Street United Church\, 61 Cambridge Street North\, Lindsay\, Ontario\, K9V 4C9\, Canada
CATEGORIES:Community of Faith Events,Fundraiser
ATTACH;FMTTYPE=image/png:https://ecorcuccan.ca/wp-content/uploads/2025/02/Pint-of-Blarney-Concert.png
END:VEVENT
BEGIN:VEVENT
DTSTART;TZID=America/Toronto:20250406T120000
DTEND;TZID=America/Toronto:20250406T130000
DTSTAMP:20260424T133443
CREATED:20250403T135801Z
LAST-MODIFIED:20250403T135801Z
UID:124435-1743940800-1743944400@ecorcuccan.ca
SUMMARY:Souper Sundae
DESCRIPTION:Join us for a hot meal of various hot soups and mac & cheese\, then stay for the fun of building your own sundae!\nThis is a fundraiser for Faith United Church in Courtice\, ON
URL:https://ecorcuccan.ca/event/souper-sundae/
LOCATION:Faith United\, Courtice\, 1778 Nash Road\, Courtice\, ON\, L1E 2L9\, Canada
CATEGORIES:Community of Faith Events,Fundraiser
ATTACH;FMTTYPE=image/jpeg:https://ecorcuccan.ca/wp-content/uploads/2025/04/ice-cream-quote-3.jpg
ORGANIZER;CN="Faith United Church%2C Courtice":MAILTO:office@faithunited.ca
END:VEVENT
BEGIN:VEVENT
DTSTART;TZID=America/Toronto:20250510T090000
DTEND;TZID=America/Toronto:20250510T140000
DTSTAMP:20260424T133443
CREATED:20250428T115555Z
LAST-MODIFIED:20250428T115555Z
UID:126390-1746867600-1746885600@ecorcuccan.ca
SUMMARY:Spring Yard Sale
DESCRIPTION:Our annual Spring Yard Sale takes place on Saturday May 10th\, 2025\, from 9am to 2pm. This is our biggest yard sale ever! \nItems include housewares\, toys\, linens\, puzzles\, sporting goods/fishing goods\, books\, plants /gardening supplies\, DVDs\, electronics\, artwork\, framed prints\, and small furniture. \nCoffee\, tea\, and muffins will be sold in the morning; the Men’s Gathering will sell hamburgers and hot dogs starting at 11am. \nFree cotton candy for the kids! \nThis event is held outside at 1778 Nash Road\, Courtice \, ON. We have a lot of parking.\nOur property is wheelchair accessible with a fully accessible washroom just inside the front doors.\nThis is a fundraiser for Faith United Church.
URL:https://ecorcuccan.ca/event/spring-yard-sale/
LOCATION:Faith United\, Courtice\, 1778 Nash Road\, Courtice\, ON\, L1E 2L9\, Canada
CATEGORIES:Community of Faith Events,Fundraiser
ATTACH;FMTTYPE=image/jpeg:https://ecorcuccan.ca/wp-content/uploads/2025/04/Black-and-White-Retail-Store-Open-House-Flyer.jpg
END:VEVENT
BEGIN:VEVENT
DTSTART;TZID=America/Toronto:20250524T083000
DTEND;TZID=America/Toronto:20250524T113000
DTSTAMP:20260424T133443
CREATED:20250514T152959Z
LAST-MODIFIED:20250514T154312Z
UID:126870-1748075400-1748086200@ecorcuccan.ca
SUMMARY:Pancake Breakfast and Plant Sale
DESCRIPTION:Breakfast consists of pancakes\, sausages\, scrambled eggs\, toast\, juice\, tea & coffee\, fruit cocktail and pineapple. We will also be having a plant sale. \nTicket prices: Adults $12.00\, Children ages 6-12 $7.00\, Children under 5 and under are “free”. \nTickets may be purchased from the church Tuesday-Friday from 9:30 am – 12:30 pm\, or at the door the day of the event. We have handicap access\, and elevator and lots of parking.
URL:https://ecorcuccan.ca/event/pancake-breakfast-and-plant-sale/
LOCATION:Westminster United Church\, Belleville\, 1199 Wallbridge Loyalist Rd\, Belleville\, Ontario\, K8N 4Z5\, Canada
CATEGORIES:Community of Faith Events,Fundraiser
ATTACH;FMTTYPE=application/pdf:https://ecorcuccan.ca/wp-content/uploads/2025/05/Pancake-Breakfast-Plant-Sale-Poster.pdf
END:VEVENT
BEGIN:VEVENT
DTSTART;TZID=America/Toronto:20250531T190000
DTEND;TZID=America/Toronto:20250531T190000
DTSTAMP:20260424T133443
CREATED:20250514T162641Z
LAST-MODIFIED:20250514T163045Z
UID:126879-1748718000-1748718000@ecorcuccan.ca
SUMMARY:"All That Jazz" Concert
DESCRIPTION:The Limestone Ringers from Edith Rankin Memorial United Church in Kingston are celebrating their 40th year of ringing by hosting The Bronze Foundation – an amazing bell choir from Toronto. All invited!
URL:https://ecorcuccan.ca/event/all-that-jazz-concert/
LOCATION:Edith Rankin Memorial Church\, 4080 Bath Road\, Kingston\, Ontario\, K7M 4Y7\, Canada
CATEGORIES:Community of Faith Events,Fundraiser
ATTACH;FMTTYPE=image/png:https://ecorcuccan.ca/wp-content/uploads/2025/05/Screenshot-2025-05-12-142632.png
END:VEVENT
BEGIN:VEVENT
DTSTART;TZID=America/Toronto:20250622T190000
DTEND;TZID=America/Toronto:20250622T203000
DTSTAMP:20260424T133443
CREATED:20250611T150435Z
LAST-MODIFIED:20250611T150435Z
UID:127733-1750618800-1750624200@ecorcuccan.ca
SUMMARY:Music Night at St. Andrew’s United Church
DESCRIPTION:
URL:https://ecorcuccan.ca/event/music-night-at-st-andrews-united-church/
LOCATION:St. Andrew’s United Church\, 812 Bosley Road\, Queensborough\, Ontario\, Canada
CATEGORIES:Community of Faith Events,Fundraiser
ATTACH;FMTTYPE=image/png:https://ecorcuccan.ca/wp-content/uploads/2025/06/Screenshot-2025-06-11-110019.png
END:VEVENT
BEGIN:VEVENT
DTSTART;TZID=America/Toronto:20250921T143000
DTEND;TZID=America/Toronto:20250921T163000
DTSTAMP:20260424T133443
CREATED:20250825T151826Z
LAST-MODIFIED:20250825T151921Z
UID:129258-1758465000-1758472200@ecorcuccan.ca
SUMMARY:ELVIS IN CONCERT
DESCRIPTION:All the greatest hits plus your favorite Gospel songs
URL:https://ecorcuccan.ca/event/__trashed-2/
LOCATION:Wellington United Church\, 243 Main St.\, Wellington\, Ontario\, K0K3L0\, Canada
CATEGORIES:Fundraiser
ATTACH;FMTTYPE=image/jpeg:https://ecorcuccan.ca/wp-content/uploads/2025/08/ELVIS-WELLINGTON-2025.jpg
END:VEVENT
BEGIN:VEVENT
DTSTART;VALUE=DATE:20251004
DTEND;VALUE=DATE:20251005
DTSTAMP:20260424T133443
CREATED:20250902T131730Z
LAST-MODIFIED:20250902T131730Z
UID:129454-1759536000-1759622399@ecorcuccan.ca
SUMMARY:Fall Rummage Sale - Saturday\, Oct. 4\, 2025
DESCRIPTION:Fall Rummage Sale at Cambridge Street United Church (Lindsay\, ON)\, Saturday\, October 4\, 2025.\nRegular sale: 8:00 AM to 12:30 pm – Bring-Your-Bag-to-Fill Sale (fee of $2 and up depending on the size of your bag): 1:00-2:30 pm – A great selection of items: clothing for men\, women and children\, shoes\, bedding\, books\, toys\, puzzles\, housewares\, and lot more!
URL:https://ecorcuccan.ca/event/fall-rummage-sale-saturday-oct-4-2025/
LOCATION:Cambridge Street United Church\, 61 Cambridge Street North\, Lindsay\, Ontario\, K9V 4C9\, Canada
CATEGORIES:Community of Faith Events,Fundraiser
ATTACH;FMTTYPE=image/png:https://ecorcuccan.ca/wp-content/uploads/2019/10/300s300-standard-default.png
END:VEVENT
BEGIN:VEVENT
DTSTART;TZID=America/Toronto:20251004T140000
DTEND;TZID=America/Toronto:20251004T153000
DTSTAMP:20260424T133443
CREATED:20250825T151955Z
LAST-MODIFIED:20250825T151955Z
UID:129311-1759586400-1759591800@ecorcuccan.ca
SUMMARY:OH\, CANADA!
DESCRIPTION:The Country Church Players present ‘OH\, CANADA!’ – a fun mix of music and comedy celebrating all things Canadian. The show will take place at 2:00 p.m. on Saturday\, October 4 at Rednersville Albury Community Church\, 2681 Rednersville Road. The cost is $10 for adults\, and $5 for children under 12\, with proceeds going to the StoreHouse Food Bank in Wellington. Come out to enjoy some songs and laughs – and our Canadian pride!
URL:https://ecorcuccan.ca/event/oh-canada/
LOCATION:Ontario
CATEGORIES:Fundraiser
ATTACH;FMTTYPE=image/jpeg:https://ecorcuccan.ca/wp-content/uploads/2025/08/LOGO-FINAL.jpg
END:VEVENT
BEGIN:VEVENT
DTSTART;TZID=America/Toronto:20251024T170000
DTEND;TZID=America/Toronto:20251024T190000
DTSTAMP:20260424T133443
CREATED:20250902T131631Z
LAST-MODIFIED:20250902T131631Z
UID:129458-1761325200-1761332400@ecorcuccan.ca
SUMMARY:Roast Beef Dinner - Friday\, October 24\, 2025
DESCRIPTION:28th Annual Roast Beef Dinner Friday\, October 24\, 2025 at Cambridge Street United Church.\nContinuous seating from 5:00 to 7:00 pm. Take-Out available. Advanced tickets $30/adults\, $15 children (5-12 years). Tickets purchased at the door $35/adult. Tickets available from the church office 705-324-3547 or email csuc61@gmail.com. Please join us for a wonderful meal!
URL:https://ecorcuccan.ca/event/roast-beef-dinner-friday-october-24-2025/
LOCATION:Cambridge Street United Church\, 61 Cambridge Street North\, Lindsay\, Ontario\, K9V 4C9\, Canada
CATEGORIES:Community of Faith Events,Fundraiser
ATTACH;FMTTYPE=image/png:https://ecorcuccan.ca/wp-content/uploads/2019/10/300s300-standard-default.png
END:VEVENT
BEGIN:VEVENT
DTSTART;TZID=America/Toronto:20251025T130000
DTEND;TZID=America/Toronto:20251025T153000
DTSTAMP:20260424T133443
CREATED:20251002T133106Z
LAST-MODIFIED:20251002T133106Z
UID:131485-1761397200-1761406200@ecorcuccan.ca
SUMMARY:The World of Dinosaurs
DESCRIPTION:Join Paleontologist Tim Jeffries as he leads an interactive \, high energy presentation\, blending science and showmanship and featuring more that 350 real dinosaur bones.
URL:https://ecorcuccan.ca/event/the-world-of-dinosaurs/
LOCATION:St. James United Church\, Peterborough\, 221 Romaine Street\, Peterborough\, Ontario\, K9J 2C3\, Canada
CATEGORIES:Fundraiser
ATTACH;FMTTYPE=image/png:https://ecorcuccan.ca/wp-content/uploads/2025/10/Screenshot-2025-10-02-093017.png
END:VEVENT
BEGIN:VEVENT
DTSTART;TZID=America/Toronto:20251101T090000
DTEND;TZID=America/Toronto:20251101T140000
DTSTAMP:20260424T133443
CREATED:20251009T154615Z
LAST-MODIFIED:20251009T160538Z
UID:131653-1761987600-1762005600@ecorcuccan.ca
SUMMARY:Faith United Church - Annual Bazaar
DESCRIPTION:Save the date: our church’s annual bazaar is happening on Saturday November 1st! We are known as Durham Region’s largest ‘old fashioned’ bazaar\, and this year we are pulling out all the stops. Back by popular demand is our Photo Booth\, as well as our sit down lunch (11am-1pm). We have a huge inventory of Christmas decor\, a bake table\, books\, puzzles\, vintage jewelry\, bake table\, preserves\, a Silent Auction\, plus more.\nCome and see what all the fuss is about! Open from 9am to 2pm. We offer free parking and free cider. Payment is by cash\, debit\, or credit card. This is a fundraiser for the UCW.
URL:https://ecorcuccan.ca/event/faith-united-church-annual-bazaar/
LOCATION:Faith United\, Courtice\, 1778 Nash Road\, Courtice\, ON\, L1E 2L9\, Canada
CATEGORIES:Community of Faith Events,Fundraiser,United Church Women (UCW)
ATTACH;FMTTYPE=image/jpeg:https://ecorcuccan.ca/wp-content/uploads/2025/10/Faith-Bazaar-Flyer-oct-2-2025.jpg
END:VEVENT
BEGIN:VEVENT
DTSTART;TZID=America/Toronto:20251101T190000
DTEND;TZID=America/Toronto:20251101T203000
DTSTAMP:20260424T133443
CREATED:20251009T161303Z
LAST-MODIFIED:20251009T161303Z
UID:131625-1762023600-1762029000@ecorcuccan.ca
SUMMARY:Sean McCann sings at Picton United - The Great Big Canadian Road Trip
DESCRIPTION:Founder of Canadian award winning band The Great Big Sea\, presents an interactive intimate performance of East Coast music . Sean involves the audience in this fun and enjoyable fundraising concert. Advance tickets available at church office Wed and Fri 9-12noon or by calling 613-476-6050 or at Josefina’s at 221 Main Street\, Picton. \nOnline tickets at https://www.zeffy.com/en-CA/ticketing/sean-mccann-sings-at-picton-united.  \n$40 ADVANCE TICKETS $50 AT DOOR – Doors open AT 6:30 PM
URL:https://ecorcuccan.ca/event/sean-mccann-sings-at-picton-united-the-great-big-canadian-road-trip/
LOCATION:Picton United Church\, 12 Chapel St.\, Picton\, Ontario\, K0K 2T0\, Canada
CATEGORIES:Fundraiser
ATTACH;FMTTYPE=image/png:https://ecorcuccan.ca/wp-content/uploads/2025/10/Screenshot-2025-10-09-121119.png
ORGANIZER;CN="Picton United Church":MAILTO:pictonunitedchurch@bellnet.ca
END:VEVENT
BEGIN:VEVENT
DTSTART;TZID=America/Toronto:20251108T090000
DTEND;TZID=America/Toronto:20251108T140000
DTSTAMP:20260424T133443
CREATED:20251016T190427Z
LAST-MODIFIED:20251016T190729Z
UID:131812-1762592400-1762610400@ecorcuccan.ca
SUMMARY:Snowflake Christmas Bazaar
DESCRIPTION:Annual bazaar – early this year so start your shopping sooner!!\nCome for the crafts and bake table(s) and books and puzzles and our many other tables.\nVisit all of our 12 vendor tables and exhibits as well.\nStay for the BEST Bazaar luncheon around at our Snowflake Cafe:)
URL:https://ecorcuccan.ca/event/snowflake-christmas-bazaar/
LOCATION:Westminster United Church Whitby\, 1850 Rossland Rd. East\, Whitby\, Ontario\, L1N 4V7\, Canada
CATEGORIES:Fundraiser
ATTACH;FMTTYPE=image/png:https://ecorcuccan.ca/wp-content/uploads/2025/10/Screenshot-2025-10-16-150347.png
END:VEVENT
BEGIN:VEVENT
DTSTART;TZID=America/Toronto:20251115T090000
DTEND;TZID=America/Toronto:20251115T130000
DTSTAMP:20260424T133443
CREATED:20251001T161143Z
LAST-MODIFIED:20251001T161143Z
UID:131368-1763197200-1763211600@ecorcuccan.ca
SUMMARY:87th Annual Christmas Fayre hosted by Port Hope United Church
DESCRIPTION:Join us for a time honored tradition! Our 87th Annual Christmas Fayre wil be held on Saturday November 15\, 2025 from 9am to 1pm. We will offer a wonderful selection of homemade baking\, preserves\, delicatessen foods\, as well as handmade crafts\, knitting and seasonal decor for your home or gifting. \nNew this year! – a number of local vendors will be on hand to enhance your shopping experience. A light lunch will also be served from 11:00 a.m. to 12:30 p.m\, including homemade soup\, roll\, coffee/tea and cookie for only $10/person. This event is wheel chair accessible\, with free admission and parking. Purchasing by cash and debit (sorry no credit). All are welcome!
URL:https://ecorcuccan.ca/event/87th-annual-christmas-fayre-hosted-by-port-hope-united-church/
LOCATION:Port Hope United Church\, 34 South Street\, Port Hope\, Ontario\, L1A 1R8\, Canada
CATEGORIES:Community of Faith Events,Fundraiser,United Church Women (UCW)
ATTACH;FMTTYPE=image/png:https://ecorcuccan.ca/wp-content/uploads/2025/09/87th-Annual-Christmas-Fayre.png
END:VEVENT
BEGIN:VEVENT
DTSTART;TZID=America/Toronto:20251121T000000
DTEND;TZID=America/Toronto:20251123T000000
DTSTAMP:20260424T133443
CREATED:20251106T141411Z
LAST-MODIFIED:20251106T141623Z
UID:132476-1763683200-1763856000@ecorcuccan.ca
SUMMARY:“A Gift to Remember” AND  “The Nutcracker’s Nuts”
DESCRIPTION:
URL:https://ecorcuccan.ca/event/a-gift-to-remember-and-the-nutcrackers-nuts/
LOCATION:Westminster United Church\, Belleville\, 1199 Wallbridge Loyalist Rd\, Belleville\, Ontario\, K8N 4Z5\, Canada
CATEGORIES:Community of Faith Events,Fundraiser
ATTACH;FMTTYPE=image/png:https://ecorcuccan.ca/wp-content/uploads/2025/11/Screenshot-2025-11-06-091527.png
END:VEVENT
BEGIN:VEVENT
DTSTART;TZID=America/Toronto:20251122T090000
DTEND;TZID=America/Toronto:20251122T120000
DTSTAMP:20260424T133443
CREATED:20251103T161730Z
LAST-MODIFIED:20251103T161730Z
UID:132276-1763802000-1763812800@ecorcuccan.ca
SUMMARY:UCW Muffin Party and Sale
DESCRIPTION:UCW Muffin Party\nMark Street United Church\n90 Hunter St East\nSaturday\, November 22\, 2025\n9am to noon\n$5 – all you can eat muffins\,\nBottomless cups of coffee!\nBake Table\nNew-to-you Table\nFifth Avenue Jewelry\nChristmas urns and decorations\nTickets available at the door\, church office or from a UCW member
URL:https://ecorcuccan.ca/event/ucw-muffin-party-and-sale/
LOCATION:Mark St. United Church\, Peterborough\, 90 Hunter Street East\, Peterborough\, Ontario\, K9H 1G5\, Canada
CATEGORIES:Fundraiser
ATTACH;FMTTYPE=image/png:https://ecorcuccan.ca/wp-content/uploads/2025/10/Screenshot-2025-11-03-111702.png
ORGANIZER;CN="Karin DesChamp":MAILTO:karindeschamp@gmail.com
END:VEVENT
BEGIN:VEVENT
DTSTART;TZID=America/Toronto:20251206T120000
DTEND;TZID=America/Toronto:20251206T170000
DTSTAMP:20260424T133443
CREATED:20251126T155748Z
LAST-MODIFIED:20251126T155748Z
UID:133257-1765022400-1765040400@ecorcuccan.ca
SUMMARY:Snowflake Marketplace
DESCRIPTION:All funds raised from this event go towards our Social Justice and Outreach initiatives
URL:https://ecorcuccan.ca/event/snowflake-marketplace/
LOCATION:St. Andrew’s United Church\, Grafton\, 137 Old Danforth Rd\, Grafton\, Ontario\, Canada
CATEGORIES:Community of Faith Events,Fundraiser
ATTACH;FMTTYPE=image/jpeg:https://ecorcuccan.ca/wp-content/uploads/2025/11/Snowflake-Marketplace-poster-scaled.jpg
END:VEVENT
BEGIN:VEVENT
DTSTART;TZID=America/Toronto:20251207T190000
DTEND;TZID=America/Toronto:20251207T200000
DTSTAMP:20260424T133443
CREATED:20251124T150218Z
LAST-MODIFIED:20251124T150218Z
UID:133057-1765134000-1765137600@ecorcuccan.ca
SUMMARY:The Promise of Christmas Cantata
DESCRIPTION:Join the Trenton United Church choir and friends for a wonderful evening of music celebrating the gift of the manger. The Promise of Christmas – Sunday December 7th\, 7:00 PM – Trenton United Church with singers from area churches and the greater Quinte West community. A free-will offering will be collected with all of the proceeds to be donated to the Hastings and Prince Edward Learning Foundation’s “Have You Heard?” Campaign – a project to place a hearing assistance sound field in every JK-3 classroom. Make us part of your Advent journey.
URL:https://ecorcuccan.ca/event/the-promise-of-christmas-cantata/
LOCATION:Trenton United Church\, 85 Dundas Street East\, Trenton\, Ontario\, K8V-1K8\, Canada
CATEGORIES:ECORC Events,Fundraiser,Musicians,Other Events
ATTACH;FMTTYPE=image/png:https://ecorcuccan.ca/wp-content/uploads/2025/11/Candle-lit-Church-Choir-Concert-Poster.png
END:VEVENT
BEGIN:VEVENT
DTSTART;TZID=America/Toronto:20260417T170000
DTEND;TZID=America/Toronto:20260417T220000
DTSTAMP:20260424T133443
CREATED:20260331T164312Z
LAST-MODIFIED:20260331T164344Z
UID:135925-1776445200-1776463200@ecorcuccan.ca
SUMMARY:Dinner Theatre
DESCRIPTION:Enjoy cocktails and hors d’oeuvres while bidding at our Silent Auction. Then move to the Sanctuary for a lovely 4 course Greek dinner while enjoying the play (written by a local playwright\, Mike Kashmanian)\, “Mask of the Golden Gaels”. End the evening by meeting the cast and collecting your winning Auction Items!!
URL:https://ecorcuccan.ca/event/dinner-theatre/
LOCATION:Westminster United Church Whitby\, 1850 Rossland Rd. East\, Whitby\, Ontario\, L1N 4V7\, Canada
CATEGORIES:Community of Faith Events,Fundraiser
ATTACH;FMTTYPE=image/png:https://ecorcuccan.ca/wp-content/uploads/2026/03/Dinner-Theatre-Poster-2026.png
END:VEVENT
END:VCALENDAR