BEGIN:VCALENDAR
VERSION:2.0
PRODID:-//East Central Ontario Regional Council of the United Church of Canada - ECPv6.15.20//NONSGML v1.0//EN
CALSCALE:GREGORIAN
METHOD:PUBLISH
X-WR-CALNAME:East Central Ontario Regional Council of the United Church of Canada
X-ORIGINAL-URL:https://ecorcuccan.ca
X-WR-CALDESC:Events for East Central Ontario Regional Council of the United Church of Canada
REFRESH-INTERVAL;VALUE=DURATION:PT1H
X-Robots-Tag:noindex
X-PUBLISHED-TTL:PT1H
BEGIN:VTIMEZONE
TZID:America/Toronto
BEGIN:DAYLIGHT
TZOFFSETFROM:-0500
TZOFFSETTO:-0400
TZNAME:EDT
DTSTART:20240310T070000
END:DAYLIGHT
BEGIN:STANDARD
TZOFFSETFROM:-0400
TZOFFSETTO:-0500
TZNAME:EST
DTSTART:20241103T060000
END:STANDARD
BEGIN:DAYLIGHT
TZOFFSETFROM:-0500
TZOFFSETTO:-0400
TZNAME:EDT
DTSTART:20250309T070000
END:DAYLIGHT
BEGIN:STANDARD
TZOFFSETFROM:-0400
TZOFFSETTO:-0500
TZNAME:EST
DTSTART:20251102T060000
END:STANDARD
BEGIN:DAYLIGHT
TZOFFSETFROM:-0500
TZOFFSETTO:-0400
TZNAME:EDT
DTSTART:20260308T070000
END:DAYLIGHT
BEGIN:STANDARD
TZOFFSETFROM:-0400
TZOFFSETTO:-0500
TZNAME:EST
DTSTART:20261101T060000
END:STANDARD
END:VTIMEZONE
BEGIN:VEVENT
DTSTART;TZID=America/Toronto:20250501T200000
DTEND;TZID=America/Toronto:20250501T213000
DTSTAMP:20260421T020022
CREATED:20250414T162630Z
LAST-MODIFIED:20250414T162630Z
UID:125374-1746129600-1746135000@ecorcuccan.ca
SUMMARY:"We Are Still Here"
DESCRIPTION:The first step in Reconciliation is the Join us at Port Hope United Church\, 34 South Street\, Port Hope\, Ontario to see the documentary “We Are Still Here”. Three Indigenous women talk about their time in residential schools. The first step in reconciliation with our First Nations is hearing and believing the truth that they tell. Listening to their experiences will lead us on the path to reconciliation. . Thursday\, May 1\, 2025\, 8:00 p.m.\nFrom PHUC’s Truth & Reconciliation Debwewin and Zaagidwin Group.
URL:https://ecorcuccan.ca/event/we-are-still-here/
LOCATION:Port Hope United Church\, 34 South Street\, Port Hope\, Ontario\, L1A 1R8\, Canada
CATEGORIES:Community of Faith Events,Information Sessions
ATTACH;FMTTYPE=image/jpeg:https://ecorcuccan.ca/wp-content/uploads/2025/04/We-Are-Still-Here-may-1-2025.jpg
END:VEVENT
BEGIN:VEVENT
DTSTART;TZID=America/Toronto:20250504T120000
DTEND;TZID=America/Toronto:20250504T130000
DTSTAMP:20260421T020022
CREATED:20250414T162732Z
LAST-MODIFIED:20250414T162732Z
UID:125341-1746360000-1746363600@ecorcuccan.ca
SUMMARY:End of Life Care: Information Session
DESCRIPTION:Join us as we host Elizabeth McNaught on Sunday May 4th\, 2025 at noon for an information session on end of life care. Elizabeth will cover topics such as Death Doula: Companion and Respite Care\, Living Wills\, Palliative Care\, Advanced Care Planning\, Substitute Decision Maker\, Celebration of Life\, and Legacy Projects.\nCome prepared with your questions!
URL:https://ecorcuccan.ca/event/end-of-life-care-information-session/
LOCATION:Faith United\, Courtice\, 1778 Nash Road\, Courtice\, ON\, L1E 2L9\, Canada
CATEGORIES:Educational,Information Sessions
ATTACH;FMTTYPE=image/jpeg:https://ecorcuccan.ca/wp-content/uploads/2025/04/doula-event-scaled.jpg
ORGANIZER;CN="Faith United Church%2C Courtice":MAILTO:office@faithunited.ca
END:VEVENT
BEGIN:VEVENT
DTSTART;TZID=America/Toronto:20250510T100000
DTEND;TZID=America/Toronto:20250510T120000
DTSTAMP:20260421T020022
CREATED:20250428T164646Z
LAST-MODIFIED:20250428T164646Z
UID:126477-1746871200-1746878400@ecorcuccan.ca
SUMMARY:Practical Ideas for  Housing Searches
DESCRIPTION:Register at events@refugeesponsornet.ca
URL:https://ecorcuccan.ca/event/practical-ideas-for-housing-searches/
LOCATION:ZOOM (online)
CATEGORIES:Information Sessions,Other Events,Private Refugee Sponsorship Network,Workshops
ATTACH;FMTTYPE=application/pdf:https://ecorcuccan.ca/wp-content/uploads/2025/04/Flyer_May2025.pdf
ORGANIZER;CN="Private Refugee Sponsor Network":MAILTO:events@refugeesponsornet.ca
END:VEVENT
BEGIN:VEVENT
DTSTART;TZID=America/Toronto:20250514T190000
DTEND;TZID=America/Toronto:20250514T203000
DTSTAMP:20260421T020022
CREATED:20250415T162127Z
LAST-MODIFIED:20250512T163256Z
UID:125911-1747249200-1747254600@ecorcuccan.ca
SUMMARY:2025 Spring Information Session "What exactly does a Regional Council rep do?"
DESCRIPTION:What exactly does a Regional Council rep do? Join us for a discussion and orientation to the work of the Regional Council\, what it does\, how it does it\, and what lay representatives do in this system. Whether you’re new to the Regional Council or would just like a refresher given all the changes over the last few years\, you’re invited to participate in this orientation. \nPlease join us on Wednesday\, May 14th from 7-8:30pm via Zoom. All are welcome! Registration below!
URL:https://ecorcuccan.ca/event/the-role-of-representatives-on-the-regional-council-orientation-for-newcomers-and-refresher-for-others/
LOCATION:ZOOM (online)
CATEGORIES:ECORC Events,Educational,Information Sessions
ATTACH;FMTTYPE=image/png:https://ecorcuccan.ca/wp-content/uploads/2025/04/The-role-of-representatives-on-the-Regional-Council-Orientation-for-newcomers-and-refresher-for-others.png
END:VEVENT
END:VCALENDAR