BEGIN:VCALENDAR
VERSION:2.0
PRODID:-//East Central Ontario Regional Council of the United Church of Canada - ECPv6.15.20//NONSGML v1.0//EN
CALSCALE:GREGORIAN
METHOD:PUBLISH
X-ORIGINAL-URL:https://ecorcuccan.ca
X-WR-CALDESC:Events for East Central Ontario Regional Council of the United Church of Canada
REFRESH-INTERVAL;VALUE=DURATION:PT1H
X-Robots-Tag:noindex
X-PUBLISHED-TTL:PT1H
BEGIN:VTIMEZONE
TZID:America/Toronto
BEGIN:DAYLIGHT
TZOFFSETFROM:-0500
TZOFFSETTO:-0400
TZNAME:EDT
DTSTART:20250309T070000
END:DAYLIGHT
BEGIN:STANDARD
TZOFFSETFROM:-0400
TZOFFSETTO:-0500
TZNAME:EST
DTSTART:20251102T060000
END:STANDARD
BEGIN:DAYLIGHT
TZOFFSETFROM:-0500
TZOFFSETTO:-0400
TZNAME:EDT
DTSTART:20260308T070000
END:DAYLIGHT
BEGIN:STANDARD
TZOFFSETFROM:-0400
TZOFFSETTO:-0500
TZNAME:EST
DTSTART:20261101T060000
END:STANDARD
BEGIN:DAYLIGHT
TZOFFSETFROM:-0500
TZOFFSETTO:-0400
TZNAME:EDT
DTSTART:20270314T070000
END:DAYLIGHT
BEGIN:STANDARD
TZOFFSETFROM:-0400
TZOFFSETTO:-0500
TZNAME:EST
DTSTART:20271107T060000
END:STANDARD
END:VTIMEZONE
BEGIN:VEVENT
DTSTART;TZID=America/Toronto:20260428T190000
DTEND;TZID=America/Toronto:20260428T203000
DTSTAMP:20260420T081351
CREATED:20260415T174505Z
LAST-MODIFIED:20260415T174505Z
UID:136130-1777402800-1777408200@ecorcuccan.ca
SUMMARY:ECORC's Spring Learning Event
DESCRIPTION:Please register using the form below: \n\n\n                \n                        \n                            2026 ECORC Spring Learning Session\n                            Join us online on April 28th at 7pm to learn more about ECORC's updated Strategic Plan! \n                        \n                        NameThis field is for validation purposes and should be left unchanged.Please begin registration herePrior to the Spring Annual General Meeting\, ECORC's Vision Keepers Team will be hosting a Learning session regarding our updated Strategic Plan. Name*\n                            \n                            \n                                                    First\n                                                    \n                                                \n                            \n                            \n                                                            Last\n                                                            \n                                                        \n                            \n                        Email*\n                                \n                                    \n                                    Enter Email\n                                \n                                \n                                    \n                                    Confirm Email\n                                \n                                \n                            PronounsPlease share what pronouns you use (if you feel comfortable doing so)Phone(please provide if you will be phoning into the gathering)Extension\, if anyPrivacy information and consentThe East Central Ontario Regional Council (ECORC) protects your personal information by adhering to all legislative requirements with respect to privacy. The collection of information on this registration form is for the purposes of the East Central Ontario Regional Council (ECORC) only.\n\nConsent* I agree to the privacy policy and the collection of personal information.RepresentationRole and/or Status*Please choose the one answer that best describes your role and/or status of your ministry\n			\n				\n				Ministry Personnel (Called\, Settled\, Appointed)\n			\n			\n				\n				Other Ministry Personnel (Retired\, Retained)\n			\n			\n				\n				Elected Lay Representative\n			\n			\n				\n				Licensed Lay Worship Leader (LLWL)\n			\n			\n				\n				Other (Guest\, Staff etc)\n			If 'other' please describe your role/statusName and location of your community of faith*EquityPlease let us know if there is anything we need to be aware of to make the zoom webinar a better experience for you. Thank you.End of registration - click Submit to completeCAPTCHA
URL:https://ecorcuccan.ca/event/ecorcs-spring-learning-event/
LOCATION:ZOOM (online)
CATEGORIES:ECORC Events,Educational,Information Sessions
ATTACH;FMTTYPE=image/jpeg:https://ecorcuccan.ca/wp-content/uploads/2026/04/Media.jpg
END:VEVENT
END:VCALENDAR