BEGIN:VCALENDAR
VERSION:2.0
PRODID:-//East Central Ontario Regional Council of the United Church of Canada - ECPv6.15.20//NONSGML v1.0//EN
CALSCALE:GREGORIAN
METHOD:PUBLISH
X-WR-CALNAME:East Central Ontario Regional Council of the United Church of Canada
X-ORIGINAL-URL:https://ecorcuccan.ca
X-WR-CALDESC:Events for East Central Ontario Regional Council of the United Church of Canada
REFRESH-INTERVAL;VALUE=DURATION:PT1H
X-Robots-Tag:noindex
X-PUBLISHED-TTL:PT1H
BEGIN:VTIMEZONE
TZID:America/Toronto
BEGIN:DAYLIGHT
TZOFFSETFROM:-0500
TZOFFSETTO:-0400
TZNAME:EDT
DTSTART:20230312T070000
END:DAYLIGHT
BEGIN:STANDARD
TZOFFSETFROM:-0400
TZOFFSETTO:-0500
TZNAME:EST
DTSTART:20231105T060000
END:STANDARD
BEGIN:DAYLIGHT
TZOFFSETFROM:-0500
TZOFFSETTO:-0400
TZNAME:EDT
DTSTART:20240310T070000
END:DAYLIGHT
BEGIN:STANDARD
TZOFFSETFROM:-0400
TZOFFSETTO:-0500
TZNAME:EST
DTSTART:20241103T060000
END:STANDARD
BEGIN:DAYLIGHT
TZOFFSETFROM:-0500
TZOFFSETTO:-0400
TZNAME:EDT
DTSTART:20250309T070000
END:DAYLIGHT
BEGIN:STANDARD
TZOFFSETFROM:-0400
TZOFFSETTO:-0500
TZNAME:EST
DTSTART:20251102T060000
END:STANDARD
END:VTIMEZONE
BEGIN:VEVENT
DTSTART;VALUE=DATE:20240913
DTEND;VALUE=DATE:20240916
DTSTAMP:20260423T154111
CREATED:20240828T132254Z
LAST-MODIFIED:20240828T132254Z
UID:108933-1726185600-1726444799@ecorcuccan.ca
SUMMARY:Abraham Festival 2024: Connecting Threads for Peace
DESCRIPTION:Abraham Festival 2024 starting Friday\, September 13th. This is an event bringing together Christian\, Muslim\, and Jewish people and is being hosted at St. James United Church\, Peterborough this year. Given world events\, having Jewish\, Muslim and Christian groups come together is uplifting! The organizers are hoping to reach as many people as possible so please share as you wish. Find more information by visiting their website. \nAny questions can be directed by email to abrahamfestivalptbo@gmail.com
URL:https://ecorcuccan.ca/event/abraham-festival-2024-connecting-threads-for-peace/
LOCATION:St. James United Church\, Peterborough\, 221 Romaine Street\, Peterborough\, Ontario\, K9J 2C3\, Canada
CATEGORIES:Educational,Interfaith/Intercultural,News,Other Events
ATTACH;FMTTYPE=application/pdf:https://ecorcuccan.ca/wp-content/uploads/2024/08/Poster-2024-final-1.pdf
END:VEVENT
END:VCALENDAR