BEGIN:VCALENDAR
VERSION:2.0
PRODID:-//East Central Ontario Regional Council of the United Church of Canada - ECPv6.15.20//NONSGML v1.0//EN
CALSCALE:GREGORIAN
METHOD:PUBLISH
X-ORIGINAL-URL:https://ecorcuccan.ca
X-WR-CALDESC:Events for East Central Ontario Regional Council of the United Church of Canada
REFRESH-INTERVAL;VALUE=DURATION:PT1H
X-Robots-Tag:noindex
X-PUBLISHED-TTL:PT1H
BEGIN:VTIMEZONE
TZID:America/Toronto
BEGIN:DAYLIGHT
TZOFFSETFROM:-0500
TZOFFSETTO:-0400
TZNAME:EDT
DTSTART:20230312T070000
END:DAYLIGHT
BEGIN:STANDARD
TZOFFSETFROM:-0400
TZOFFSETTO:-0500
TZNAME:EST
DTSTART:20231105T060000
END:STANDARD
BEGIN:DAYLIGHT
TZOFFSETFROM:-0500
TZOFFSETTO:-0400
TZNAME:EDT
DTSTART:20240310T070000
END:DAYLIGHT
BEGIN:STANDARD
TZOFFSETFROM:-0400
TZOFFSETTO:-0500
TZNAME:EST
DTSTART:20241103T060000
END:STANDARD
BEGIN:DAYLIGHT
TZOFFSETFROM:-0500
TZOFFSETTO:-0400
TZNAME:EDT
DTSTART:20250309T070000
END:DAYLIGHT
BEGIN:STANDARD
TZOFFSETFROM:-0400
TZOFFSETTO:-0500
TZNAME:EST
DTSTART:20251102T060000
END:STANDARD
END:VTIMEZONE
BEGIN:VEVENT
DTSTART;TZID=America/Toronto:20240612T190000
DTEND;TZID=America/Toronto:20240612T210000
DTSTAMP:20260420T204213
CREATED:20240523T113855Z
LAST-MODIFIED:20240523T113855Z
UID:95293-1718218800-1718226000@ecorcuccan.ca
SUMMARY:Benefit concert for Kingston's homeless
DESCRIPTION:Crossroads United Church Kingston is hosting a benefit concert on Wed. June 12\, 2024 at 7pm featuring the Frontenac Community Band and the Martello Alley Cats. Freewill offering towards Our Livable Solutions\, a non-profit actively pursuing community solutions aiming to end homelessness in Kingston.
URL:https://ecorcuccan.ca/event/benefit-concert-for-kingstons-homeless/
LOCATION:Crossroads United Church\, 690 Sir John A. MacDonald Blvd\, Kingston\, Ontario\, K7M 1A2\, Canada
CATEGORIES:Justice
ATTACH;FMTTYPE=image/jpeg:https://ecorcuccan.ca/wp-content/uploads/2024/05/SpringConcert2024.jpg
END:VEVENT
END:VCALENDAR