BEGIN:VCALENDAR
VERSION:2.0
PRODID:-//East Central Ontario Regional Council of the United Church of Canada - ECPv6.15.20//NONSGML v1.0//EN
CALSCALE:GREGORIAN
METHOD:PUBLISH
X-ORIGINAL-URL:https://ecorcuccan.ca
X-WR-CALDESC:Events for East Central Ontario Regional Council of the United Church of Canada
REFRESH-INTERVAL;VALUE=DURATION:PT1H
X-Robots-Tag:noindex
X-PUBLISHED-TTL:PT1H
BEGIN:VTIMEZONE
TZID:America/Toronto
BEGIN:DAYLIGHT
TZOFFSETFROM:-0500
TZOFFSETTO:-0400
TZNAME:EDT
DTSTART:20230312T070000
END:DAYLIGHT
BEGIN:STANDARD
TZOFFSETFROM:-0400
TZOFFSETTO:-0500
TZNAME:EST
DTSTART:20231105T060000
END:STANDARD
BEGIN:DAYLIGHT
TZOFFSETFROM:-0500
TZOFFSETTO:-0400
TZNAME:EDT
DTSTART:20240310T070000
END:DAYLIGHT
BEGIN:STANDARD
TZOFFSETFROM:-0400
TZOFFSETTO:-0500
TZNAME:EST
DTSTART:20241103T060000
END:STANDARD
BEGIN:DAYLIGHT
TZOFFSETFROM:-0500
TZOFFSETTO:-0400
TZNAME:EDT
DTSTART:20250309T070000
END:DAYLIGHT
BEGIN:STANDARD
TZOFFSETFROM:-0400
TZOFFSETTO:-0500
TZNAME:EST
DTSTART:20251102T060000
END:STANDARD
END:VTIMEZONE
BEGIN:VEVENT
DTSTART;TZID=America/Toronto:20241208T190000
DTEND;TZID=America/Toronto:20241208T203000
DTSTAMP:20260419T194900
CREATED:20241126T132734Z
LAST-MODIFIED:20241126T132734Z
UID:115383-1733684400-1733689800@ecorcuccan.ca
SUMMARY:Hope Peace Joy Love Christmas Cantata
DESCRIPTION:An evening of muisc and celebration. Beautiful music celebrating the gift of the manger. A multi-denominational Christmas event hosted by Trenton United Church with singers from other area churches. For more information contact Director Dianne Goyetche – music@trentonunited.ca
URL:https://ecorcuccan.ca/event/hope-peace-joy-love-christmas-cantata/
LOCATION:Trenton United Church\, 85 Dundas Street East\, Trenton\, Ontario\, K8V-1K8\, Canada
CATEGORIES:Musicians
ATTACH;FMTTYPE=image/png:https://ecorcuccan.ca/wp-content/uploads/2024/11/CantataAd2.png
END:VEVENT
END:VCALENDAR