BEGIN:VCALENDAR
VERSION:2.0
PRODID:-//East Central Ontario Regional Council of the United Church of Canada - ECPv6.15.20//NONSGML v1.0//EN
CALSCALE:GREGORIAN
METHOD:PUBLISH
X-WR-CALNAME:East Central Ontario Regional Council of the United Church of Canada
X-ORIGINAL-URL:https://ecorcuccan.ca
X-WR-CALDESC:Events for East Central Ontario Regional Council of the United Church of Canada
REFRESH-INTERVAL;VALUE=DURATION:PT1H
X-Robots-Tag:noindex
X-PUBLISHED-TTL:PT1H
BEGIN:VTIMEZONE
TZID:America/Toronto
BEGIN:DAYLIGHT
TZOFFSETFROM:-0500
TZOFFSETTO:-0400
TZNAME:EDT
DTSTART:20240310T070000
END:DAYLIGHT
BEGIN:STANDARD
TZOFFSETFROM:-0400
TZOFFSETTO:-0500
TZNAME:EST
DTSTART:20241103T060000
END:STANDARD
BEGIN:DAYLIGHT
TZOFFSETFROM:-0500
TZOFFSETTO:-0400
TZNAME:EDT
DTSTART:20250309T070000
END:DAYLIGHT
BEGIN:STANDARD
TZOFFSETFROM:-0400
TZOFFSETTO:-0500
TZNAME:EST
DTSTART:20251102T060000
END:STANDARD
BEGIN:DAYLIGHT
TZOFFSETFROM:-0500
TZOFFSETTO:-0400
TZNAME:EDT
DTSTART:20260308T070000
END:DAYLIGHT
BEGIN:STANDARD
TZOFFSETFROM:-0400
TZOFFSETTO:-0500
TZNAME:EST
DTSTART:20261101T060000
END:STANDARD
END:VTIMEZONE
BEGIN:VEVENT
DTSTART;TZID=America/Toronto:20250217T103000
DTEND;TZID=America/Toronto:20250217T133000
DTSTAMP:20260420T024948
CREATED:20250123T144827Z
LAST-MODIFIED:20250123T144827Z
UID:120350-1739788200-1739799000@ecorcuccan.ca
SUMMARY:Family Day Event
DESCRIPTION:All ages from 1 to 100 years are welcome to come to this free event. Donations to our Outreach Projects are accepted but not necessary. Family Chair Yoga begins at 10:30 a.m. A Hot Dog Lunch will be served at 11:30 a.m. At Noon\, Board Games\, Card Games\, Making Slime\, Storytime for Little Ones are followed by Curious George Cartoons. Running Tag Games inside or outside depends on the weather. End Time is 1:30 p.m. We ask that parents and/or caregivers stay with their children.
URL:https://ecorcuccan.ca/event/family-day-event/
LOCATION:Mark St. United Church\, Peterborough\, 90 Hunter Street East\, Peterborough\, Ontario\, K9H 1G5\, Canada
CATEGORIES:Other Events,Youth
ATTACH;FMTTYPE=image/jpeg:https://ecorcuccan.ca/wp-content/uploads/2025/01/family-7257182_640.jpg
END:VEVENT
END:VCALENDAR