BEGIN:VCALENDAR
VERSION:2.0
PRODID:-//East Central Ontario Regional Council of the United Church of Canada - ECPv6.15.20//NONSGML v1.0//EN
CALSCALE:GREGORIAN
METHOD:PUBLISH
X-ORIGINAL-URL:https://ecorcuccan.ca
X-WR-CALDESC:Events for East Central Ontario Regional Council of the United Church of Canada
REFRESH-INTERVAL;VALUE=DURATION:PT1H
X-Robots-Tag:noindex
X-PUBLISHED-TTL:PT1H
BEGIN:VTIMEZONE
TZID:America/Toronto
BEGIN:DAYLIGHT
TZOFFSETFROM:-0500
TZOFFSETTO:-0400
TZNAME:EDT
DTSTART:20240310T070000
END:DAYLIGHT
BEGIN:STANDARD
TZOFFSETFROM:-0400
TZOFFSETTO:-0500
TZNAME:EST
DTSTART:20241103T060000
END:STANDARD
BEGIN:DAYLIGHT
TZOFFSETFROM:-0500
TZOFFSETTO:-0400
TZNAME:EDT
DTSTART:20250309T070000
END:DAYLIGHT
BEGIN:STANDARD
TZOFFSETFROM:-0400
TZOFFSETTO:-0500
TZNAME:EST
DTSTART:20251102T060000
END:STANDARD
BEGIN:DAYLIGHT
TZOFFSETFROM:-0500
TZOFFSETTO:-0400
TZNAME:EDT
DTSTART:20260308T070000
END:DAYLIGHT
BEGIN:STANDARD
TZOFFSETFROM:-0400
TZOFFSETTO:-0500
TZNAME:EST
DTSTART:20261101T060000
END:STANDARD
END:VTIMEZONE
BEGIN:VEVENT
DTSTART;TZID=America/Toronto:20250405T190000
DTEND;TZID=America/Toronto:20250405T210000
DTSTAMP:20260419T231646
CREATED:20250210T151752Z
LAST-MODIFIED:20250210T151752Z
UID:121147-1743879600-1743886800@ecorcuccan.ca
SUMMARY:Newburg UC presents Jonathan Maracle
DESCRIPTION:Jonathan is a Mohawk-European Christian musician from Tyendinaga  Mohawk territory who performs concerts all over the US and Canada mostly in Indigenous Communities. His events bring a powerful Christian message to those who attend with lots of stories from Jonathan’s life experiences and contacts with people from all walks of life. You will be uplifted and enchanted by his music!
URL:https://ecorcuccan.ca/event/newburg-uc-presents-jonathan-maracle/
LOCATION:Newburgh Centreville Pastoral Charge
CATEGORIES:Community of Faith Events,Other Events
ATTACH;FMTTYPE=image/png:https://ecorcuccan.ca/wp-content/uploads/2025/02/Screenshot-2025-02-10-101209.png
END:VEVENT
END:VCALENDAR