BEGIN:VCALENDAR
VERSION:2.0
PRODID:-//East Central Ontario Regional Council of the United Church of Canada - ECPv6.15.20//NONSGML v1.0//EN
CALSCALE:GREGORIAN
METHOD:PUBLISH
X-ORIGINAL-URL:https://ecorcuccan.ca
X-WR-CALDESC:Events for East Central Ontario Regional Council of the United Church of Canada
REFRESH-INTERVAL;VALUE=DURATION:PT1H
X-Robots-Tag:noindex
X-PUBLISHED-TTL:PT1H
BEGIN:VTIMEZONE
TZID:America/Toronto
BEGIN:DAYLIGHT
TZOFFSETFROM:-0500
TZOFFSETTO:-0400
TZNAME:EDT
DTSTART:20240310T070000
END:DAYLIGHT
BEGIN:STANDARD
TZOFFSETFROM:-0400
TZOFFSETTO:-0500
TZNAME:EST
DTSTART:20241103T060000
END:STANDARD
BEGIN:DAYLIGHT
TZOFFSETFROM:-0500
TZOFFSETTO:-0400
TZNAME:EDT
DTSTART:20250309T070000
END:DAYLIGHT
BEGIN:STANDARD
TZOFFSETFROM:-0400
TZOFFSETTO:-0500
TZNAME:EST
DTSTART:20251102T060000
END:STANDARD
BEGIN:DAYLIGHT
TZOFFSETFROM:-0500
TZOFFSETTO:-0400
TZNAME:EDT
DTSTART:20260308T070000
END:DAYLIGHT
BEGIN:STANDARD
TZOFFSETFROM:-0400
TZOFFSETTO:-0500
TZNAME:EST
DTSTART:20261101T060000
END:STANDARD
END:VTIMEZONE
BEGIN:VEVENT
DTSTART;VALUE=DATE:20250902
DTEND;VALUE=DATE:20250905
DTSTAMP:20260419T150752
CREATED:20240619T132351Z
LAST-MODIFIED:20250718T174311Z
UID:97862-1756771200-1757030399@ecorcuccan.ca
SUMMARY:Just Dance into 2035! Women's Retreat
DESCRIPTION:Fee – $100 deposit is required on or before June 27th and it is first come\, first serve\, to reserve your spot. Cost is $450 per person to share a room. Please note that participants from ECORC can apply for a grant to reduce your cost called Investment in Leaders Fund. Final payment is due on August 15th. \nPlease send funds by e-transfer to bjames@united-church.ca – please include “Women’s Retreat” in the notes of your e-transfer. If you are unable to make it\, refunds will be issued only if someone fills your spot. Please contact Kathleen Whyte for questions or help 705-768-3555 or by email kwhyte53@gmail.com \nKingfisher Bay Retreat is located on picturesque Stony Lake north of Burleigh Falls just 30 minutes north of Peterborough on Highway 28. Please note that Kingfisher Bay is not accessible to those in wheelchairs and difficult for walkers. \nPlease contact Kathleen Whyte if you would like to be added to a waiting list 705-768-3555 or by email kwhyte53@gmail.com
URL:https://ecorcuccan.ca/event/rejuvenation-rejoycing-reparation/
LOCATION:Kingfisher Bay Retreat Centre\, 150 Fraser Estates Lane\, North Kawartha\, Ontario\, K0L 2H0\, Canada
CATEGORIES:ECORC Events,Educational,Kingfisher Bay Retreat Centre,Other Events,Workshops
ATTACH;FMTTYPE=image/png:https://ecorcuccan.ca/wp-content/uploads/2024/06/Just-Dance-1-1.png
END:VEVENT
END:VCALENDAR