BEGIN:VCALENDAR
VERSION:2.0
PRODID:-//East Central Ontario Regional Council of the United Church of Canada - ECPv6.15.20//NONSGML v1.0//EN
CALSCALE:GREGORIAN
METHOD:PUBLISH
X-ORIGINAL-URL:https://ecorcuccan.ca
X-WR-CALDESC:Events for East Central Ontario Regional Council of the United Church of Canada
REFRESH-INTERVAL;VALUE=DURATION:PT1H
X-Robots-Tag:noindex
X-PUBLISHED-TTL:PT1H
BEGIN:VTIMEZONE
TZID:America/Toronto
BEGIN:DAYLIGHT
TZOFFSETFROM:-0500
TZOFFSETTO:-0400
TZNAME:EDT
DTSTART:20210314T070000
END:DAYLIGHT
BEGIN:STANDARD
TZOFFSETFROM:-0400
TZOFFSETTO:-0500
TZNAME:EST
DTSTART:20211107T060000
END:STANDARD
BEGIN:DAYLIGHT
TZOFFSETFROM:-0500
TZOFFSETTO:-0400
TZNAME:EDT
DTSTART:20220313T070000
END:DAYLIGHT
BEGIN:STANDARD
TZOFFSETFROM:-0400
TZOFFSETTO:-0500
TZNAME:EST
DTSTART:20221106T060000
END:STANDARD
BEGIN:DAYLIGHT
TZOFFSETFROM:-0500
TZOFFSETTO:-0400
TZNAME:EDT
DTSTART:20230312T070000
END:DAYLIGHT
BEGIN:STANDARD
TZOFFSETFROM:-0400
TZOFFSETTO:-0500
TZNAME:EST
DTSTART:20231105T060000
END:STANDARD
BEGIN:DAYLIGHT
TZOFFSETFROM:-0500
TZOFFSETTO:-0400
TZNAME:EDT
DTSTART:20240310T070000
END:DAYLIGHT
BEGIN:STANDARD
TZOFFSETFROM:-0400
TZOFFSETTO:-0500
TZNAME:EST
DTSTART:20241103T060000
END:STANDARD
BEGIN:DAYLIGHT
TZOFFSETFROM:-0500
TZOFFSETTO:-0400
TZNAME:EDT
DTSTART:20250309T070000
END:DAYLIGHT
BEGIN:STANDARD
TZOFFSETFROM:-0400
TZOFFSETTO:-0500
TZNAME:EST
DTSTART:20251102T060000
END:STANDARD
BEGIN:DAYLIGHT
TZOFFSETFROM:-0500
TZOFFSETTO:-0400
TZNAME:EDT
DTSTART:20260308T070000
END:DAYLIGHT
BEGIN:STANDARD
TZOFFSETFROM:-0400
TZOFFSETTO:-0500
TZNAME:EST
DTSTART:20261101T060000
END:STANDARD
END:VTIMEZONE
BEGIN:VEVENT
DTSTART;TZID=America/Toronto:20250507T190000
DTEND;TZID=America/Toronto:20250507T190000
DTSTAMP:20260423T152545
CREATED:20250428T115912Z
LAST-MODIFIED:20250428T120037Z
UID:126459-1746644400-1746644400@ecorcuccan.ca
SUMMARY:Red Dress Day
DESCRIPTION:
URL:https://ecorcuccan.ca/event/red-dress-day/
LOCATION:Kedron United Church\, 1995 Ritson Road North\, Oshawa\, Ontario\, L1K 0Z9\, Canada
CATEGORIES:Community of Faith Events,Educational,Nurture & Justice,Respectful Relations
ATTACH;FMTTYPE=application/pdf:https://ecorcuccan.ca/wp-content/uploads/2025/04/Red-Dress-Poster-May-5th-2025.pdf
END:VEVENT
BEGIN:VEVENT
DTSTART;TZID=America/Toronto:20250303T190000
DTEND;TZID=America/Toronto:20250303T203000
DTSTAMP:20260423T152545
CREATED:20250213T011629Z
LAST-MODIFIED:20250213T155018Z
UID:121440-1741028400-1741033800@ecorcuccan.ca
SUMMARY:Indigenous Justice & Respectful Relationships Webinar Event
DESCRIPTION:Join us to learn from Sharon Woodrow and the team from Cannington about the visit of the witness blanket in September (www.witnessblanket.ca) and we will invite you to share your efforts for Truth and Reconciliation with Indigenous Peoples\, and we will also learn more about the Moderator’s visit to Lindsay April 5th and 6th and the Indigenous Justice lending libraries. Please register below.
URL:https://ecorcuccan.ca/event/indigenous-justice-respectful-relationships-webinar-event/
LOCATION:ZOOM (online)
CATEGORIES:ECORC Events,Indigenous,Respectful Relations
ATTACH;FMTTYPE=image/png:https://ecorcuccan.ca/wp-content/uploads/2025/02/Indigenous-Justice-Respectful-Relationships.png
END:VEVENT
BEGIN:VEVENT
DTSTART;TZID=America/Toronto:20240527T193000
DTEND;TZID=America/Toronto:20240527T210000
DTSTAMP:20260423T152545
CREATED:20240509T152729Z
LAST-MODIFIED:20240527T171041Z
UID:95162-1716838200-1716843600@ecorcuccan.ca
SUMMARY:Indigenous Justice and Respectful Relationship Network Zoom Drop-In
DESCRIPTION:Indigenous Justice and Respectful Relationship Network Zoom Drop-In: Join us on Monday\, May 27th from 7:30 to 9pm EST on zoom. This network is open to all individuals or communities of faith interested in reconciliation with indigenous peoples. Come to share\, come to learn! Please contact Reverend Rodney Smith-Merkley with any questions\, or see you there!
URL:https://ecorcuccan.ca/event/indigenous-justice-and-respectful-relationship-network-zoom-drop-in/
LOCATION:ZOOM (online)
CATEGORIES:ECORC Events,Educational,Indigenous,Respectful Relations
ATTACH;FMTTYPE=image/png:https://ecorcuccan.ca/wp-content/uploads/2024/05/Land-acknowledgements-and-beyond-how-are-you-preparing-for-the-June-to-Sept.-30th-Indigenous-Justice-focus-time.png
END:VEVENT
BEGIN:VEVENT
DTSTART;VALUE=DATE:20230922
DTEND;VALUE=DATE:20230923
DTSTAMP:20260423T152545
CREATED:20230814T171521Z
LAST-MODIFIED:20230817T174604Z
UID:72812-1695340800-1695427199@ecorcuccan.ca
SUMMARY:Bus Trip to Petroglyphs Provincial Park and Curve Lake First Nation
DESCRIPTION:More information HERE \nPayment can be made by cheque to Grace United Church\, Napanee\, or by e-transfer at graceuchurch@gmail.com.  Indicate ‘Sept 22 Bus Trip’ on the memo line of the cheque or in the notes section of the e-Transfer. Contact Grace United Church\, Napanee\, at 613-354-4373 or graceuchurch@gmail.com. Deadline to sign up for this Bus Trip:  September 8\, 2023 \n 
URL:https://ecorcuccan.ca/event/bus-trip-to-petroglyphs-provincial-park-and-curve-lake-first-nation/
LOCATION:Ontario
CATEGORIES:Educational,Indigenous,News,Other Events,Respectful Relations
ATTACH;FMTTYPE=image/png:https://ecorcuccan.ca/wp-content/uploads/2023/08/Bus-Trip-to-Petroglyphs-Provincial-Park-and-Curve-Lake-First-Nation.png
ORGANIZER;CN="Grace United Church%2C Napanee":MAILTO:graceuchurch@gmail.com
END:VEVENT
BEGIN:VEVENT
DTSTART;VALUE=DATE:20230520
DTEND;VALUE=DATE:20230522
DTSTAMP:20260423T152545
CREATED:20230517T184700Z
LAST-MODIFIED:20230517T184700Z
UID:64101-1684540800-1684713599@ecorcuccan.ca
SUMMARY:Hiawatha First Nation is hosting their 27th Annual Traditional Powwow
DESCRIPTION:Come celebrate our culture with us on the Saturday and Sunday of the Victoria Day weekend at our Annual Traditional Powwow.  This event takes place at the Lakeview Ceremonial Grounds located at 126 Paudash Street. Grand Entry is at noon each day.  Enjoy browsing at the many craft vendors and tasting the delicious traditional cuisine at some of the food vendors. Be delighted by the traditional dancing\, singing and drumming. Join in the intertribal dances. Embrace this celebration! Admission fees are as follows: ages 0-6 are  free\, ages 7 – 12  are $5\, ages 13 – 59 are $8\, and 60 years and over are free. Gates open at 11am.  See you there!!
URL:https://ecorcuccan.ca/event/hiawatha-first-nation-is-hosting-their-27th-annual-traditional-powwow/
LOCATION:Lakeview Ceremonial Grounds\, 126 Paudash Street\, Hiawatha\, Ontario\, K9J 0E6\, Canada
CATEGORIES:Educational,Indigenous,News,Respectful Relations
ATTACH;FMTTYPE=image/jpeg:https://ecorcuccan.ca/wp-content/uploads/2023/05/pow-wow.jpg
END:VEVENT
BEGIN:VEVENT
DTSTART;TZID=America/Toronto:20230318T170000
DTEND;TZID=America/Toronto:20230318T210000
DTSTAMP:20260423T152545
CREATED:20230309T194813Z
LAST-MODIFIED:20230309T194813Z
UID:62275-1679158800-1679173200@ecorcuccan.ca
SUMMARY:MISSISAUGAS OF SCUGOG ISLAND FIRST NATION
DESCRIPTION:
URL:https://ecorcuccan.ca/event/missisaugas-of-scugog-island-first-nation/
LOCATION:Ontario
CATEGORIES:Indigenous,Justice,Respectful Relations
ATTACH;FMTTYPE=image/jpeg:https://ecorcuccan.ca/wp-content/uploads/2023/03/334694055_184930660910308_529646848479123490_n.jpg
END:VEVENT
BEGIN:VEVENT
DTSTART;TZID=America/Toronto:20221105T110000
DTEND;TZID=America/Toronto:20221105T140000
DTSTAMP:20260423T152545
CREATED:20220922T174553Z
LAST-MODIFIED:20221006T174643Z
UID:50162-1667646000-1667656800@ecorcuccan.ca
SUMMARY:YOUTH\, YOUNG ADULT\, & LEADERS IN PERSON EVENT- NOV 5th
DESCRIPTION:**NOTE … please use the link below to register as the one on the poster isn’t working once uploaded to the website** \nIf you would like more information please contact Rodney at RSMerkley@united-church.ca or Sharon at SHull@united-church.ca \nPlease use this link to register and let us know that you are able to attend: https://forms.gle/KZPXEMhAHN12SgPW7
URL:https://ecorcuccan.ca/event/youth-young-adult-leaders-in-person-event-please-note-date-change-to-october-2/
LOCATION:Curve Lake United Church
CATEGORIES:ECORC Events,Educational,Indigenous,Respectful Relations,Youth
ATTACH;FMTTYPE=image/png:https://ecorcuccan.ca/wp-content/uploads/2022/09/nov5.png
END:VEVENT
BEGIN:VEVENT
DTSTART;TZID=America/Toronto:20221028T190000
DTEND;TZID=America/Toronto:20221028T203000
DTSTAMP:20260423T152545
CREATED:20220929T222159Z
LAST-MODIFIED:20221004T172439Z
UID:50401-1666983600-1666989000@ecorcuccan.ca
SUMMARY:Movie Night!
DESCRIPTION:ECORC’s Indigenous Justice and Respectful Relationships forum is hosting a movie night at Mark Street United Church in Peterborough – “Front Runners” is a play about the 1967 pan AM games and some Indigenous boys who carried the torch. This Play is an opportunity to learn more of Canada’s truth in hopes of living into reconciliation. Discussion to follow.
URL:https://ecorcuccan.ca/event/movie-night/
LOCATION:Mark St. United Church\, Peterborough\, 90 Hunter Street East\, Peterborough\, Ontario\, K9H 1G5\, Canada
CATEGORIES:Community of Faith Events,Indigenous,Respectful Relations
ATTACH;FMTTYPE=image/jpeg:https://ecorcuccan.ca/wp-content/uploads/2022/09/Movie-Night-Poster-1.jpg
END:VEVENT
BEGIN:VEVENT
DTSTART;TZID=America/Toronto:20221008T110000
DTEND;TZID=America/Toronto:20221008T150000
DTSTAMP:20260423T152545
CREATED:20220909T195531Z
LAST-MODIFIED:20220922T170258Z
UID:50122-1665226800-1665241200@ecorcuccan.ca
SUMMARY:Big Drum Social
DESCRIPTION:
URL:https://ecorcuccan.ca/event/big-drum-social/
LOCATION:Purple Woods Conservation Area\, Area 38 Coates Rd\, Oshawa\, Canada
CATEGORIES:Indigenous,Respectful Relations
ATTACH;FMTTYPE=image/png:https://ecorcuccan.ca/wp-content/uploads/2022/09/Capture-2.png
END:VEVENT
BEGIN:VEVENT
DTSTART;TZID=America/Toronto:20221004T100000
DTEND;TZID=America/Toronto:20221004T180000
DTSTAMP:20260423T152545
CREATED:20220929T213121Z
LAST-MODIFIED:20220929T213121Z
UID:50397-1664877600-1664906400@ecorcuccan.ca
SUMMARY:Sisters In Spirit Sacred Fire Ceremony
DESCRIPTION:
URL:https://ecorcuccan.ca/event/sisters-in-spirit-sacred-fire-ceremony/
LOCATION:Ontario
CATEGORIES:Indigenous,Respectful Relations
ATTACH;FMTTYPE=application/pdf:https://ecorcuccan.ca/wp-content/uploads/2022/09/Sisters-in-Spirit-October-4th-2022.pdf
END:VEVENT
BEGIN:VEVENT
DTSTART;TZID=America/Toronto:20220930T160000
DTEND;TZID=America/Toronto:20220930T180000
DTSTAMP:20260423T152545
CREATED:20220909T141402Z
LAST-MODIFIED:20220922T172333Z
UID:50106-1664553600-1664560800@ecorcuccan.ca
SUMMARY:National Day for Truth and Reconciliation
DESCRIPTION:
URL:https://ecorcuccan.ca/event/national-day-for-truth-and-reconciliation/
LOCATION:Carea’s Oshawa Location\, 115 Grassmere Avenue\, Oshawa\, Ontario\, Canada
CATEGORIES:Educational,Indigenous,News,Respectful Relations
ATTACH;FMTTYPE=image/jpeg:https://ecorcuccan.ca/wp-content/uploads/2022/09/297446158_3320585768197647_3812574384985007068_n.jpg
END:VEVENT
BEGIN:VEVENT
DTSTART;TZID=America/Toronto:20220925T110000
DTEND;TZID=America/Toronto:20220925T150000
DTSTAMP:20260423T152545
CREATED:20220909T193710Z
LAST-MODIFIED:20220922T175448Z
UID:50111-1664103600-1664118000@ecorcuccan.ca
SUMMARY:YOUTH\, YOUNG ADULT\, & LEADERS IN PERSON EVENT- **Please note date change to October 2
DESCRIPTION:**NOTE … please use the link below to register as the one on the poster isn’t working once uploaded to the website** \nIf you would like more information please contact Rodney at RSMerkley@united-church.ca or Sharon at SHull@united-church.ca \nPlease use this link to register and let us know that you are able to attend: https://forms.gle/KZPXEMhAHN12SgPW7
URL:https://ecorcuccan.ca/event/youth-young-adult-leaders-in-person-event/
LOCATION:LANCE WOODS/LIME KILN PARK\, 38 WHETUNG ST. E\, Curve Lake\, Ont\, Canada
CATEGORIES:ECORC Events,Educational,Indigenous,Respectful Relations,Youth
ATTACH;FMTTYPE=image/png:https://ecorcuccan.ca/wp-content/uploads/2022/09/Capture3.png
END:VEVENT
BEGIN:VEVENT
DTSTART;TZID=America/Toronto:20220901T000000
DTEND;TZID=America/Toronto:20220930T000000
DTSTAMP:20260423T152545
CREATED:20220909T135323Z
LAST-MODIFIED:20220909T135323Z
UID:50097-1661990400-1664496000@ecorcuccan.ca
SUMMARY:Truth and Reconciliation Community - Bobcaygeon - September Events
DESCRIPTION:
URL:https://ecorcuccan.ca/event/truth-and-reconciliation-community-bobcaygeon-september-events/
LOCATION:Ontario
CATEGORIES:Educational,Indigenous,News,Respectful Relations
ATTACH;FMTTYPE=image/jpeg:https://ecorcuccan.ca/wp-content/uploads/2022/09/301329354_2174405122729266_6655796229429714365_n.jpg
ORGANIZER;CN="Truth and Reconciliation Community%2C Bobcaygeon":MAILTO:trcbobcaygeon@gmail.com
END:VEVENT
END:VCALENDAR