BEGIN:VCALENDAR
VERSION:2.0
PRODID:-//East Central Ontario Regional Council of the United Church of Canada - ECPv6.15.20//NONSGML v1.0//EN
CALSCALE:GREGORIAN
METHOD:PUBLISH
X-WR-CALNAME:East Central Ontario Regional Council of the United Church of Canada
X-ORIGINAL-URL:https://ecorcuccan.ca
X-WR-CALDESC:Events for East Central Ontario Regional Council of the United Church of Canada
REFRESH-INTERVAL;VALUE=DURATION:PT1H
X-Robots-Tag:noindex
X-PUBLISHED-TTL:PT1H
BEGIN:VTIMEZONE
TZID:America/Toronto
BEGIN:DAYLIGHT
TZOFFSETFROM:-0500
TZOFFSETTO:-0400
TZNAME:EDT
DTSTART:20230312T070000
END:DAYLIGHT
BEGIN:STANDARD
TZOFFSETFROM:-0400
TZOFFSETTO:-0500
TZNAME:EST
DTSTART:20231105T060000
END:STANDARD
BEGIN:DAYLIGHT
TZOFFSETFROM:-0500
TZOFFSETTO:-0400
TZNAME:EDT
DTSTART:20240310T070000
END:DAYLIGHT
BEGIN:STANDARD
TZOFFSETFROM:-0400
TZOFFSETTO:-0500
TZNAME:EST
DTSTART:20241103T060000
END:STANDARD
BEGIN:DAYLIGHT
TZOFFSETFROM:-0500
TZOFFSETTO:-0400
TZNAME:EDT
DTSTART:20250309T070000
END:DAYLIGHT
BEGIN:STANDARD
TZOFFSETFROM:-0400
TZOFFSETTO:-0500
TZNAME:EST
DTSTART:20251102T060000
END:STANDARD
END:VTIMEZONE
BEGIN:VEVENT
DTSTART;TZID=America/Toronto:20241203T183000
DTEND;TZID=America/Toronto:20241203T200000
DTSTAMP:20260421T012151
CREATED:20241119T165959Z
LAST-MODIFIED:20241119T165959Z
UID:113581-1733250600-1733256000@ecorcuccan.ca
SUMMARY:LGBTQ+ Family Support Group
DESCRIPTION:This group is for parents\, grandparents and loved ones of LGBTQ+ people who would like to share their experiences and learn how to support their loved ones.
URL:https://ecorcuccan.ca/event/lgbtq-family-support-group-2/
LOCATION:Trinity St. Andrew’s United Church\, Brighton\, 56 Prince Edward Street\, Brighton\, Ontario\, K0K 1H0\, Canada
CATEGORIES:LGBTQ+,Support Group
ATTACH;FMTTYPE=image/png:https://ecorcuccan.ca/wp-content/uploads/2024/11/LGBTQ-Family-Support-Group-new-poster.png
ORGANIZER;CN="Trinity St. Andrew's United Church%2C Brighton":MAILTO:admin@trinitystandrews.ca
END:VEVENT
END:VCALENDAR