BEGIN:VCALENDAR
VERSION:2.0
PRODID:-//East Central Ontario Regional Council of the United Church of Canada - ECPv6.15.20//NONSGML v1.0//EN
CALSCALE:GREGORIAN
METHOD:PUBLISH
X-ORIGINAL-URL:https://ecorcuccan.ca
X-WR-CALDESC:Events for East Central Ontario Regional Council of the United Church of Canada
REFRESH-INTERVAL;VALUE=DURATION:PT1H
X-Robots-Tag:noindex
X-PUBLISHED-TTL:PT1H
BEGIN:VTIMEZONE
TZID:America/Toronto
BEGIN:DAYLIGHT
TZOFFSETFROM:-0500
TZOFFSETTO:-0400
TZNAME:EDT
DTSTART:20220313T070000
END:DAYLIGHT
BEGIN:STANDARD
TZOFFSETFROM:-0400
TZOFFSETTO:-0500
TZNAME:EST
DTSTART:20221106T060000
END:STANDARD
BEGIN:DAYLIGHT
TZOFFSETFROM:-0500
TZOFFSETTO:-0400
TZNAME:EDT
DTSTART:20230312T070000
END:DAYLIGHT
BEGIN:STANDARD
TZOFFSETFROM:-0400
TZOFFSETTO:-0500
TZNAME:EST
DTSTART:20231105T060000
END:STANDARD
BEGIN:DAYLIGHT
TZOFFSETFROM:-0500
TZOFFSETTO:-0400
TZNAME:EDT
DTSTART:20240310T070000
END:DAYLIGHT
BEGIN:STANDARD
TZOFFSETFROM:-0400
TZOFFSETTO:-0500
TZNAME:EST
DTSTART:20241103T060000
END:STANDARD
END:VTIMEZONE
BEGIN:VEVENT
DTSTART;VALUE=DATE:20230314
DTEND;VALUE=DATE:20230317
DTSTAMP:20260420T142227
CREATED:20230221T200038Z
LAST-MODIFIED:20230221T200038Z
UID:60415-1678752000-1679011199@ecorcuccan.ca
SUMMARY:March Break Day Camp for Kids Ages 6-12\, located at Port Hope United Church
DESCRIPTION:Join us on March 14\, 15\, 16 from 8:30am- 4:30pm for March Break Fun! \nFor Ages 6-12\, Creative Games\, Arts & Crafts\, Science\, Music. Your Theme Days include Olympics Outer Space\, Superheroes or Villains! \nSafe and affordable care provided by professional educators and volunteers\, snacks provided and after care available until 5pm. \nCost is only $5/day or $25/family for all 3 days! \nFor more information or to register please contact coordinator Julie Stewart – teach4stewart@hotmail \nPort Hope United Church is located at 34 South Street (north of Walton St\, between Brown and Pine Streets)
URL:https://ecorcuccan.ca/event/march-break-day-camp-for-kids-ages-6-12-located-at-port-hope-united-church/
LOCATION:Port Hope United Church\, 34 South Street\, Port Hope\, Ontario\, L1A 1R8\, Canada
CATEGORIES:Community of Faith Events,Educational,Musicians,Youth
ATTACH;FMTTYPE=image/jpeg:https://ecorcuccan.ca/wp-content/uploads/2023/02/PHUCDayCampPoster2023.jpg
END:VEVENT
END:VCALENDAR