BEGIN:VCALENDAR
VERSION:2.0
PRODID:-//East Central Ontario Regional Council of the United Church of Canada - ECPv6.15.20//NONSGML v1.0//EN
CALSCALE:GREGORIAN
METHOD:PUBLISH
X-ORIGINAL-URL:https://ecorcuccan.ca
X-WR-CALDESC:Events for East Central Ontario Regional Council of the United Church of Canada
REFRESH-INTERVAL;VALUE=DURATION:PT1H
X-Robots-Tag:noindex
X-PUBLISHED-TTL:PT1H
BEGIN:VTIMEZONE
TZID:America/Toronto
BEGIN:DAYLIGHT
TZOFFSETFROM:-0500
TZOFFSETTO:-0400
TZNAME:EDT
DTSTART:20240310T070000
END:DAYLIGHT
BEGIN:STANDARD
TZOFFSETFROM:-0400
TZOFFSETTO:-0500
TZNAME:EST
DTSTART:20241103T060000
END:STANDARD
BEGIN:DAYLIGHT
TZOFFSETFROM:-0500
TZOFFSETTO:-0400
TZNAME:EDT
DTSTART:20250309T070000
END:DAYLIGHT
BEGIN:STANDARD
TZOFFSETFROM:-0400
TZOFFSETTO:-0500
TZNAME:EST
DTSTART:20251102T060000
END:STANDARD
BEGIN:DAYLIGHT
TZOFFSETFROM:-0500
TZOFFSETTO:-0400
TZNAME:EDT
DTSTART:20260308T070000
END:DAYLIGHT
BEGIN:STANDARD
TZOFFSETFROM:-0400
TZOFFSETTO:-0500
TZNAME:EST
DTSTART:20261101T060000
END:STANDARD
END:VTIMEZONE
BEGIN:VEVENT
DTSTART;TZID=America/Toronto:20251104T183000
DTEND;TZID=America/Toronto:20251104T200000
DTSTAMP:20260419T181805
CREATED:20251103T160105Z
LAST-MODIFIED:20251103T160105Z
UID:132394-1762281000-1762286400@ecorcuccan.ca
SUMMARY:LGBTQ+ Family Support Group
DESCRIPTION:This support group is for parents\, grandparents\, friends and loved ones of LGBTQ+ family members who would like to share their experiences and learn how to support their loved ones. \nJoin us the first Tuesday of each month from 6:30 to 8:00 p.m. in the Quiet Room at the church. The next meetings are Nov 4 and Dec 2. For more information\, email: brightonlgbtqgroup@gmail.com.
URL:https://ecorcuccan.ca/event/lgbtq-family-support-group-3/
LOCATION:Trinity St. Andrew’s United Church\, Brighton\, 56 Prince Edward Street\, Brighton\, Ontario\, K0K 1H0\, Canada
CATEGORIES:LGBTQ+,Support Group
ATTACH;FMTTYPE=image/png:https://ecorcuccan.ca/wp-content/uploads/2025/11/Screenshot-2025-11-03-110031.png
ORGANIZER;CN="Trinity St. Andrew's United Church%2C Brighton":MAILTO:admin@trinitystandrews.ca
END:VEVENT
BEGIN:VEVENT
DTSTART;TZID=America/Toronto:20251120T180000
DTEND;TZID=America/Toronto:20251120T190000
DTSTAMP:20260419T181805
CREATED:20251030T151737Z
LAST-MODIFIED:20251103T155756Z
UID:132294-1763661600-1763665200@ecorcuccan.ca
SUMMARY:Trans Day of Remembrance Candlelight Vigil
DESCRIPTION:To mark this year’s Trans Day of Remembrance\, the Affirm and Equity Committee at Trinity-St. Andrew’s United Church will be holding a candlelight vigil in the Sanctuary from 6:00 to 7:00 p.m. on Thursday\, November 20th. \nHeld annually on November 20th\, Trans Day of Remembrance honours and memorializes those who have lost their lives due to anti-transgender violence. It aims to raise awareness about the violence and ongoing challenges faced by the transgender community. \nTrinity-St. Andrew’s stands in solidarity with trans people and welcomes everyone to show their support and pay their respects by attending this special candlelight vigil on November 20th.
URL:https://ecorcuccan.ca/event/trans-day-of-remembrance-candlelight-vigil/
LOCATION:Trinity St. Andrew’s United Church\, Brighton\, 56 Prince Edward Street\, Brighton\, Ontario\, K0K 1H0\, Canada
CATEGORIES:LGBTQ+
ATTACH;FMTTYPE=image/png:https://ecorcuccan.ca/wp-content/uploads/2025/10/Screenshot-2025-11-03-105724.png
ORGANIZER;CN="Trinity St. Andrew's United Church%2C Brighton":MAILTO:admin@trinitystandrews.ca
END:VEVENT
END:VCALENDAR