BEGIN:VCALENDAR
VERSION:2.0
PRODID:-//East Central Ontario Regional Council of the United Church of Canada - ECPv6.15.20//NONSGML v1.0//EN
CALSCALE:GREGORIAN
METHOD:PUBLISH
X-WR-CALNAME:East Central Ontario Regional Council of the United Church of Canada
X-ORIGINAL-URL:https://ecorcuccan.ca
X-WR-CALDESC:Events for East Central Ontario Regional Council of the United Church of Canada
REFRESH-INTERVAL;VALUE=DURATION:PT1H
X-Robots-Tag:noindex
X-PUBLISHED-TTL:PT1H
BEGIN:VTIMEZONE
TZID:America/Toronto
BEGIN:DAYLIGHT
TZOFFSETFROM:-0500
TZOFFSETTO:-0400
TZNAME:EDT
DTSTART:20240310T070000
END:DAYLIGHT
BEGIN:STANDARD
TZOFFSETFROM:-0400
TZOFFSETTO:-0500
TZNAME:EST
DTSTART:20241103T060000
END:STANDARD
BEGIN:DAYLIGHT
TZOFFSETFROM:-0500
TZOFFSETTO:-0400
TZNAME:EDT
DTSTART:20250309T070000
END:DAYLIGHT
BEGIN:STANDARD
TZOFFSETFROM:-0400
TZOFFSETTO:-0500
TZNAME:EST
DTSTART:20251102T060000
END:STANDARD
BEGIN:DAYLIGHT
TZOFFSETFROM:-0500
TZOFFSETTO:-0400
TZNAME:EDT
DTSTART:20260308T070000
END:DAYLIGHT
BEGIN:STANDARD
TZOFFSETFROM:-0400
TZOFFSETTO:-0500
TZNAME:EST
DTSTART:20261101T060000
END:STANDARD
END:VTIMEZONE
BEGIN:VEVENT
DTSTART;TZID=America/Toronto:20250319T100000
DTEND;TZID=America/Toronto:20250319T140000
DTSTAMP:20260424T103731
CREATED:20250210T143017Z
LAST-MODIFIED:20250210T143017Z
UID:121137-1742378400-1742392800@ecorcuccan.ca
SUMMARY:Kente Area UCW Annual March 19
DESCRIPTION:A luncheon meeting with speaker Jan Marissen from the Prince Edward Lion’s Club\, opportunities to learn about all the activities of the UCW network and share news with neighbours from churches in the Kente Area from Queensborough to the north and Prince Edward County. Enjoy the hospitality at St Matthews\, contribute to the collection of items for Lions Club projects (eye glasses\, hearing aids\, mobility devices\, cellphones) and maybe win the chocolate basket door prize! All welcome including informal groups and people from other areas. Contact information on poster. Please let us know you are coming by March 12.
URL:https://ecorcuccan.ca/event/kente-area-ucw-annual-march-19-2/
LOCATION:St. Matthew’s United Church\, 31 Weller Ave\, Kingston\, ON\, K7K 2T1\, Canada
CATEGORIES:United Church Women (UCW)
ATTACH;FMTTYPE=image/jpeg:https://ecorcuccan.ca/wp-content/uploads/2025/02/2025-Annual-Poster-scaled.jpg
END:VEVENT
END:VCALENDAR