BEGIN:VCALENDAR
VERSION:2.0
PRODID:-//East Central Ontario Regional Council of the United Church of Canada - ECPv6.15.20//NONSGML v1.0//EN
CALSCALE:GREGORIAN
METHOD:PUBLISH
X-WR-CALNAME:East Central Ontario Regional Council of the United Church of Canada
X-ORIGINAL-URL:https://ecorcuccan.ca
X-WR-CALDESC:Events for East Central Ontario Regional Council of the United Church of Canada
REFRESH-INTERVAL;VALUE=DURATION:PT1H
X-Robots-Tag:noindex
X-PUBLISHED-TTL:PT1H
BEGIN:VTIMEZONE
TZID:America/Toronto
BEGIN:DAYLIGHT
TZOFFSETFROM:-0500
TZOFFSETTO:-0400
TZNAME:EDT
DTSTART:20240310T070000
END:DAYLIGHT
BEGIN:STANDARD
TZOFFSETFROM:-0400
TZOFFSETTO:-0500
TZNAME:EST
DTSTART:20241103T060000
END:STANDARD
BEGIN:DAYLIGHT
TZOFFSETFROM:-0500
TZOFFSETTO:-0400
TZNAME:EDT
DTSTART:20250309T070000
END:DAYLIGHT
BEGIN:STANDARD
TZOFFSETFROM:-0400
TZOFFSETTO:-0500
TZNAME:EST
DTSTART:20251102T060000
END:STANDARD
BEGIN:DAYLIGHT
TZOFFSETFROM:-0500
TZOFFSETTO:-0400
TZNAME:EDT
DTSTART:20260308T070000
END:DAYLIGHT
BEGIN:STANDARD
TZOFFSETFROM:-0400
TZOFFSETTO:-0500
TZNAME:EST
DTSTART:20261101T060000
END:STANDARD
END:VTIMEZONE
BEGIN:VEVENT
DTSTART;TZID=America/Toronto:20250305T103000
DTEND;TZID=America/Toronto:20250305T130000
DTSTAMP:20260425T112825
CREATED:20250224T145610Z
LAST-MODIFIED:20250224T145610Z
UID:123062-1741170600-1741179600@ecorcuccan.ca
SUMMARY:Ash Wednesday Labyrinth Walk
DESCRIPTION:On Ash Wednesday we begin our journey through Lent to Easter. We remember that we are dust and that we will return to dust. We smudge our forehead with a mixture of oil and with ashes and attest that we are of the ground\, of Earth Mother\, and to this we will all return. It is a time to reflect on life as a gift\, that all we have is by grace. We remember that all comes from God\, from the earth\, and so to it we will return. As such\, there is nothing that is not of God. It humbles us and elicits expressions of thankfulness for all that we have. \nAll are welcome on Wednesday\, March 5\, 2025 @ 10:30am in the Cambridge St. Church Gymnasium for a chance to walk the labyrinth and discover how we can pause through the journey of Lent to remember God’s grace and embody hope.
URL:https://ecorcuccan.ca/event/ash-wednesday-labyrinth-walk/
LOCATION:Cambridge Street United Church\, 61 Cambridge Street North\, Lindsay\, Ontario\, K9V 4C9\, Canada
CATEGORIES:Community of Faith Events
ATTACH;FMTTYPE=image/png:https://ecorcuccan.ca/wp-content/uploads/2025/02/Ash-Wednesday.png
END:VEVENT
END:VCALENDAR