BEGIN:VCALENDAR
VERSION:2.0
PRODID:-//East Central Ontario Regional Council of the United Church of Canada - ECPv6.15.20//NONSGML v1.0//EN
CALSCALE:GREGORIAN
METHOD:PUBLISH
X-WR-CALNAME:East Central Ontario Regional Council of the United Church of Canada
X-ORIGINAL-URL:https://ecorcuccan.ca
X-WR-CALDESC:Events for East Central Ontario Regional Council of the United Church of Canada
REFRESH-INTERVAL;VALUE=DURATION:PT1H
X-Robots-Tag:noindex
X-PUBLISHED-TTL:PT1H
BEGIN:VTIMEZONE
TZID:America/Toronto
BEGIN:DAYLIGHT
TZOFFSETFROM:-0500
TZOFFSETTO:-0400
TZNAME:EDT
DTSTART:20230312T070000
END:DAYLIGHT
BEGIN:STANDARD
TZOFFSETFROM:-0400
TZOFFSETTO:-0500
TZNAME:EST
DTSTART:20231105T060000
END:STANDARD
BEGIN:DAYLIGHT
TZOFFSETFROM:-0500
TZOFFSETTO:-0400
TZNAME:EDT
DTSTART:20240310T070000
END:DAYLIGHT
BEGIN:STANDARD
TZOFFSETFROM:-0400
TZOFFSETTO:-0500
TZNAME:EST
DTSTART:20241103T060000
END:STANDARD
BEGIN:DAYLIGHT
TZOFFSETFROM:-0500
TZOFFSETTO:-0400
TZNAME:EDT
DTSTART:20250309T070000
END:DAYLIGHT
BEGIN:STANDARD
TZOFFSETFROM:-0400
TZOFFSETTO:-0500
TZNAME:EST
DTSTART:20251102T060000
END:STANDARD
END:VTIMEZONE
BEGIN:VEVENT
DTSTART;VALUE=DATE:20241003
DTEND;VALUE=DATE:20241007
DTSTAMP:20260420T164414
CREATED:20240703T132450Z
LAST-MODIFIED:20240703T132450Z
UID:98765-1727913600-1728259199@ecorcuccan.ca
SUMMARY:Grand Opening
DESCRIPTION:St. Paul’s Warkworth will be hosting a Grand Opening Weekend\, beginning Thursday\, October 3 at 3:30\, with a ceremony acknowledging The Ontario Trillium Foundation for grant money awarded for upgrades to our facilities\, with local officials attending. Saturday\, October 5\, we partner with Warkworth’s Arts and Heritage for their annual Gala\, including professional music performances\, Art Auction\, wine bar and food. Sunday\, October 6\, St. Paul’s will celebrate their 172 Anniversary beginning at 10:30 am
URL:https://ecorcuccan.ca/event/grand-opening/
LOCATION:St. Paul’s United Church – Warkworth\, 60 Main Street\, Warkworth\, Ontario\, Canada
CATEGORIES:Community of Faith Events
ATTACH;FMTTYPE=image/png:https://ecorcuccan.ca/wp-content/uploads/2019/10/300s300-standard-default.png
END:VEVENT
END:VCALENDAR