BEGIN:VCALENDAR
VERSION:2.0
PRODID:-//East Central Ontario Regional Council of the United Church of Canada - ECPv6.15.20//NONSGML v1.0//EN
CALSCALE:GREGORIAN
METHOD:PUBLISH
X-ORIGINAL-URL:https://ecorcuccan.ca
X-WR-CALDESC:Events for East Central Ontario Regional Council of the United Church of Canada
REFRESH-INTERVAL;VALUE=DURATION:PT1H
X-Robots-Tag:noindex
X-PUBLISHED-TTL:PT1H
BEGIN:VTIMEZONE
TZID:America/Toronto
BEGIN:DAYLIGHT
TZOFFSETFROM:-0500
TZOFFSETTO:-0400
TZNAME:EDT
DTSTART:20240310T070000
END:DAYLIGHT
BEGIN:STANDARD
TZOFFSETFROM:-0400
TZOFFSETTO:-0500
TZNAME:EST
DTSTART:20241103T060000
END:STANDARD
BEGIN:DAYLIGHT
TZOFFSETFROM:-0500
TZOFFSETTO:-0400
TZNAME:EDT
DTSTART:20250309T070000
END:DAYLIGHT
BEGIN:STANDARD
TZOFFSETFROM:-0400
TZOFFSETTO:-0500
TZNAME:EST
DTSTART:20251102T060000
END:STANDARD
BEGIN:DAYLIGHT
TZOFFSETFROM:-0500
TZOFFSETTO:-0400
TZNAME:EDT
DTSTART:20260308T070000
END:DAYLIGHT
BEGIN:STANDARD
TZOFFSETFROM:-0400
TZOFFSETTO:-0500
TZNAME:EST
DTSTART:20261101T060000
END:STANDARD
END:VTIMEZONE
BEGIN:VEVENT
DTSTART;TZID=America/Toronto:20250920T090000
DTEND;TZID=America/Toronto:20250920T120000
DTSTAMP:20260419T222659
CREATED:20250902T125814Z
LAST-MODIFIED:20250902T125814Z
UID:129564-1758358800-1758369600@ecorcuccan.ca
SUMMARY:Breakfast with Santa
DESCRIPTION:We at Faith United are always looking for ways to expand our outreach and support the community that we live in. This year we have partnered with the Courtice Santa Claus Parade to host a special ‘Breakfast with Santa’ event. Yes\, it’s early\, but this means there will be more time to hang out with Santa himself\, without the hustle and bustle of the Christmas rush. Fun for the whole family! Come and enjoy a hearty breakfast\, decorate some cookies\, have your photo taken with Santa\, as well as exploring a fire truck in the parking lot and/or getting up close and personal with the back of an ambulance. We offer a fully accessible space for those that are differently abled\, and we are proud offer a space that supports all gender identities and sexual orientations. Lots of free parking.
URL:https://ecorcuccan.ca/event/breakfast-with-santa/
LOCATION:Faith United\, Courtice\, 1778 Nash Road\, Courtice\, ON\, L1E 2L9\, Canada
CATEGORIES:Community of Faith Events,LGBTQ+,Youth
ATTACH;FMTTYPE=image/jpeg:https://ecorcuccan.ca/wp-content/uploads/2025/08/BreakfastWithSanta_2025_rev1-conv-1.jpeg
END:VEVENT
END:VCALENDAR