BEGIN:VCALENDAR
VERSION:2.0
PRODID:-//East Central Ontario Regional Council of the United Church of Canada - ECPv6.15.20//NONSGML v1.0//EN
CALSCALE:GREGORIAN
METHOD:PUBLISH
X-ORIGINAL-URL:https://ecorcuccan.ca
X-WR-CALDESC:Events for East Central Ontario Regional Council of the United Church of Canada
REFRESH-INTERVAL;VALUE=DURATION:PT1H
X-Robots-Tag:noindex
X-PUBLISHED-TTL:PT1H
BEGIN:VTIMEZONE
TZID:America/Toronto
BEGIN:DAYLIGHT
TZOFFSETFROM:-0500
TZOFFSETTO:-0400
TZNAME:EDT
DTSTART:20240310T070000
END:DAYLIGHT
BEGIN:STANDARD
TZOFFSETFROM:-0400
TZOFFSETTO:-0500
TZNAME:EST
DTSTART:20241103T060000
END:STANDARD
BEGIN:DAYLIGHT
TZOFFSETFROM:-0500
TZOFFSETTO:-0400
TZNAME:EDT
DTSTART:20250309T070000
END:DAYLIGHT
BEGIN:STANDARD
TZOFFSETFROM:-0400
TZOFFSETTO:-0500
TZNAME:EST
DTSTART:20251102T060000
END:STANDARD
BEGIN:DAYLIGHT
TZOFFSETFROM:-0500
TZOFFSETTO:-0400
TZNAME:EDT
DTSTART:20260308T070000
END:DAYLIGHT
BEGIN:STANDARD
TZOFFSETFROM:-0400
TZOFFSETTO:-0500
TZNAME:EST
DTSTART:20261101T060000
END:STANDARD
END:VTIMEZONE
BEGIN:VEVENT
DTSTART;TZID=America/Toronto:20250905T153000
DTEND;TZID=America/Toronto:20250907T140000
DTSTAMP:20260419T195920
CREATED:20250513T173222Z
LAST-MODIFIED:20250826T184619Z
UID:126838-1757086200-1757253600@ecorcuccan.ca
SUMMARY:UCW One Day Event at Quin-Mo-Lac
DESCRIPTION:Register online and then pay by either e-transfer or mailed cheque. Information on poster.
URL:https://ecorcuccan.ca/event/ucw-weekend-at-quin-mo-lac-2/
LOCATION:Camp Quin-Mo-Lac\, 336 Franks Road\, Tweed\, Ontario\, K0K 3J0\, Canada
CATEGORIES:United Church Women (UCW)
ATTACH;FMTTYPE=image/jpeg:https://ecorcuccan.ca/wp-content/uploads/2025/08/NEW-REGISTRATIONS-QML-2025-scaled.jpg
ORGANIZER;CN="ECOR UCW":MAILTO:cdmound@gmail.com
END:VEVENT
END:VCALENDAR