BEGIN:VCALENDAR
VERSION:2.0
PRODID:-//East Central Ontario Regional Council of the United Church of Canada - ECPv6.15.20//NONSGML v1.0//EN
CALSCALE:GREGORIAN
METHOD:PUBLISH
X-ORIGINAL-URL:https://ecorcuccan.ca
X-WR-CALDESC:Events for East Central Ontario Regional Council of the United Church of Canada
REFRESH-INTERVAL;VALUE=DURATION:PT1H
X-Robots-Tag:noindex
X-PUBLISHED-TTL:PT1H
BEGIN:VTIMEZONE
TZID:America/Toronto
BEGIN:DAYLIGHT
TZOFFSETFROM:-0500
TZOFFSETTO:-0400
TZNAME:EDT
DTSTART:20230312T070000
END:DAYLIGHT
BEGIN:STANDARD
TZOFFSETFROM:-0400
TZOFFSETTO:-0500
TZNAME:EST
DTSTART:20231105T060000
END:STANDARD
BEGIN:DAYLIGHT
TZOFFSETFROM:-0500
TZOFFSETTO:-0400
TZNAME:EDT
DTSTART:20240310T070000
END:DAYLIGHT
BEGIN:STANDARD
TZOFFSETFROM:-0400
TZOFFSETTO:-0500
TZNAME:EST
DTSTART:20241103T060000
END:STANDARD
BEGIN:DAYLIGHT
TZOFFSETFROM:-0500
TZOFFSETTO:-0400
TZNAME:EDT
DTSTART:20250309T070000
END:DAYLIGHT
BEGIN:STANDARD
TZOFFSETFROM:-0400
TZOFFSETTO:-0500
TZNAME:EST
DTSTART:20251102T060000
END:STANDARD
END:VTIMEZONE
BEGIN:VEVENT
DTSTART;TZID=America/Toronto:20241201T173000
DTEND;TZID=America/Toronto:20241201T183000
DTSTAMP:20260423T091134
CREATED:20241121T144241Z
LAST-MODIFIED:20241121T144241Z
UID:115281-1733074200-1733077800@ecorcuccan.ca
SUMMARY:Old-Fashioned Christmas Craft Party and Tree Lighting
DESCRIPTION:Mark Street United Church at 90 Hunter Street E. in Peterborough is hosting and old-fashioned Christmas Craft Party and Tree Lighting Ceremony on Sunday\, December 1st from 5:30 to 6:30 p.m. with the tree lighting at 6:30 p.m. There is no cost to attend and the event is open to young and old. Dress in old-fashioned clothing if you wish. Sing along while you make 2 to 3 crafts. All materials will be supplied. Some stations will be popcorn and cranberry garlands\, newspaper garlands\, create a Christmas Card for a loved one\, and more. Have a cup of hot chocolate and enjoy some Tim Bits. If you plan to attend\, please leave your name and the number of family members at markstreetunitedchurch@cogeco.net or call 705-742-2682. Welcome one and all.
URL:https://ecorcuccan.ca/event/old-fashioned-christmas-craft-party-and-tree-lighting/
LOCATION:Mark St. United Church\, Peterborough\, 90 Hunter Street East\, Peterborough\, Ontario\, K9H 1G5\, Canada
CATEGORIES:Other Events
ATTACH;FMTTYPE=image/png:https://ecorcuccan.ca/wp-content/uploads/2024/11/Untitled-design-3.png
END:VEVENT
BEGIN:VEVENT
DTSTART;TZID=America/Toronto:20241208T140000
DTEND;TZID=America/Toronto:20241208T153000
DTSTAMP:20260423T091134
CREATED:20241119T165650Z
LAST-MODIFIED:20241119T165650Z
UID:114583-1733666400-1733671800@ecorcuccan.ca
SUMMARY:An Old-Fashioned Afternoon of Song\, Stories and Sillies!
DESCRIPTION:We are inviting you to wear red and green or your favourite ugly Christmas sweater/outfit to our Capers afternoon! Hot chocolate and cookies to follow. Donations in support of Bobcaygeon’s Trinity United Church’s work in our community.
URL:https://ecorcuccan.ca/event/an-old-fashioned-afternoon-of-song-stories-and-sillies/
LOCATION:Trinity United Church – Bobcaygeon\, 44 William Street\, Bobcaygeon\, Ontario\, K0M 1A0\, Canada
CATEGORIES:Community of Faith Events
ATTACH;FMTTYPE=image/png:https://ecorcuccan.ca/wp-content/uploads/2019/10/300s300-standard-default.png
END:VEVENT
BEGIN:VEVENT
DTSTART;TZID=America/Toronto:20241208T140000
DTEND;TZID=America/Toronto:20241208T170000
DTSTAMP:20260423T091134
CREATED:20241104T144157Z
LAST-MODIFIED:20241104T144311Z
UID:112731-1733666400-1733677200@ecorcuccan.ca
SUMMARY:Fenelon Falls Association of Churches Carol Sing
DESCRIPTION:The 8 Churches in Fenelon Falls will unite to hold the Annual Carol Sing in the Sanctuary of Fenelon Falls United Church
URL:https://ecorcuccan.ca/event/fenelon-falls-association-of-churches-carol-sing/
LOCATION:Ontario
CATEGORIES:Community of Faith Events
ATTACH;FMTTYPE=image/png:https://ecorcuccan.ca/wp-content/uploads/2019/10/300s300-standard-default.png
END:VEVENT
END:VCALENDAR