BEGIN:VCALENDAR
VERSION:2.0
PRODID:-//East Central Ontario Regional Council of the United Church of Canada - ECPv6.15.20//NONSGML v1.0//EN
CALSCALE:GREGORIAN
METHOD:PUBLISH
X-WR-CALNAME:East Central Ontario Regional Council of the United Church of Canada
X-ORIGINAL-URL:https://ecorcuccan.ca
X-WR-CALDESC:Events for East Central Ontario Regional Council of the United Church of Canada
REFRESH-INTERVAL;VALUE=DURATION:PT1H
X-Robots-Tag:noindex
X-PUBLISHED-TTL:PT1H
BEGIN:VTIMEZONE
TZID:America/Toronto
BEGIN:DAYLIGHT
TZOFFSETFROM:-0500
TZOFFSETTO:-0400
TZNAME:EDT
DTSTART:20240310T070000
END:DAYLIGHT
BEGIN:STANDARD
TZOFFSETFROM:-0400
TZOFFSETTO:-0500
TZNAME:EST
DTSTART:20241103T060000
END:STANDARD
BEGIN:DAYLIGHT
TZOFFSETFROM:-0500
TZOFFSETTO:-0400
TZNAME:EDT
DTSTART:20250309T070000
END:DAYLIGHT
BEGIN:STANDARD
TZOFFSETFROM:-0400
TZOFFSETTO:-0500
TZNAME:EST
DTSTART:20251102T060000
END:STANDARD
BEGIN:DAYLIGHT
TZOFFSETFROM:-0500
TZOFFSETTO:-0400
TZNAME:EDT
DTSTART:20260308T070000
END:DAYLIGHT
BEGIN:STANDARD
TZOFFSETFROM:-0400
TZOFFSETTO:-0500
TZNAME:EST
DTSTART:20261101T060000
END:STANDARD
END:VTIMEZONE
BEGIN:VEVENT
DTSTART;TZID=America/Toronto:20251101T090000
DTEND;TZID=America/Toronto:20251101T140000
DTSTAMP:20260419T173010
CREATED:20251009T154615Z
LAST-MODIFIED:20251009T160538Z
UID:131653-1761987600-1762005600@ecorcuccan.ca
SUMMARY:Faith United Church - Annual Bazaar
DESCRIPTION:Save the date: our church’s annual bazaar is happening on Saturday November 1st! We are known as Durham Region’s largest ‘old fashioned’ bazaar\, and this year we are pulling out all the stops. Back by popular demand is our Photo Booth\, as well as our sit down lunch (11am-1pm). We have a huge inventory of Christmas decor\, a bake table\, books\, puzzles\, vintage jewelry\, bake table\, preserves\, a Silent Auction\, plus more.\nCome and see what all the fuss is about! Open from 9am to 2pm. We offer free parking and free cider. Payment is by cash\, debit\, or credit card. This is a fundraiser for the UCW.
URL:https://ecorcuccan.ca/event/faith-united-church-annual-bazaar/
LOCATION:Faith United\, Courtice\, 1778 Nash Road\, Courtice\, ON\, L1E 2L9\, Canada
CATEGORIES:Community of Faith Events,Fundraiser,United Church Women (UCW)
ATTACH;FMTTYPE=image/jpeg:https://ecorcuccan.ca/wp-content/uploads/2025/10/Faith-Bazaar-Flyer-oct-2-2025.jpg
END:VEVENT
END:VCALENDAR