BEGIN:VCALENDAR
VERSION:2.0
PRODID:-//East Central Ontario Regional Council of the United Church of Canada - ECPv6.15.20//NONSGML v1.0//EN
CALSCALE:GREGORIAN
METHOD:PUBLISH
X-WR-CALNAME:East Central Ontario Regional Council of the United Church of Canada
X-ORIGINAL-URL:https://ecorcuccan.ca
X-WR-CALDESC:Events for East Central Ontario Regional Council of the United Church of Canada
REFRESH-INTERVAL;VALUE=DURATION:PT1H
X-Robots-Tag:noindex
X-PUBLISHED-TTL:PT1H
BEGIN:VTIMEZONE
TZID:America/Toronto
BEGIN:DAYLIGHT
TZOFFSETFROM:-0500
TZOFFSETTO:-0400
TZNAME:EDT
DTSTART:20230312T070000
END:DAYLIGHT
BEGIN:STANDARD
TZOFFSETFROM:-0400
TZOFFSETTO:-0500
TZNAME:EST
DTSTART:20231105T060000
END:STANDARD
BEGIN:DAYLIGHT
TZOFFSETFROM:-0500
TZOFFSETTO:-0400
TZNAME:EDT
DTSTART:20240310T070000
END:DAYLIGHT
BEGIN:STANDARD
TZOFFSETFROM:-0400
TZOFFSETTO:-0500
TZNAME:EST
DTSTART:20241103T060000
END:STANDARD
BEGIN:DAYLIGHT
TZOFFSETFROM:-0500
TZOFFSETTO:-0400
TZNAME:EDT
DTSTART:20250309T070000
END:DAYLIGHT
BEGIN:STANDARD
TZOFFSETFROM:-0400
TZOFFSETTO:-0500
TZNAME:EST
DTSTART:20251102T060000
END:STANDARD
END:VTIMEZONE
BEGIN:VEVENT
DTSTART;TZID=America/Toronto:20241208T150000
DTEND;TZID=America/Toronto:20241208T170000
DTSTAMP:20260423T115038
CREATED:20241119T165829Z
LAST-MODIFIED:20241119T165829Z
UID:114450-1733670000-1733677200@ecorcuccan.ca
SUMMARY:Fenelon Falls Association of Churches Carol Sing
DESCRIPTION:The 8 Churches of Fenelon Falls unite in our Sanctuary for a Festival of Carols. Each Church will present their Carols and there will be a sing-a-long. Come and join us! It is a wonderful time of sharing the Christmas spirit!
URL:https://ecorcuccan.ca/event/fenelon-falls-association-of-churches-carol-sing-2/
CATEGORIES:Community of Faith Events
ATTACH;FMTTYPE=image/png:https://ecorcuccan.ca/wp-content/uploads/2019/10/300s300-standard-default.png
END:VEVENT
END:VCALENDAR