BEGIN:VCALENDAR
VERSION:2.0
PRODID:-//East Central Ontario Regional Council of the United Church of Canada - ECPv6.15.20//NONSGML v1.0//EN
CALSCALE:GREGORIAN
METHOD:PUBLISH
X-WR-CALNAME:East Central Ontario Regional Council of the United Church of Canada
X-ORIGINAL-URL:https://ecorcuccan.ca
X-WR-CALDESC:Events for East Central Ontario Regional Council of the United Church of Canada
REFRESH-INTERVAL;VALUE=DURATION:PT1H
X-Robots-Tag:noindex
X-PUBLISHED-TTL:PT1H
BEGIN:VTIMEZONE
TZID:America/Toronto
BEGIN:DAYLIGHT
TZOFFSETFROM:-0500
TZOFFSETTO:-0400
TZNAME:EDT
DTSTART:20240310T070000
END:DAYLIGHT
BEGIN:STANDARD
TZOFFSETFROM:-0400
TZOFFSETTO:-0500
TZNAME:EST
DTSTART:20241103T060000
END:STANDARD
BEGIN:DAYLIGHT
TZOFFSETFROM:-0500
TZOFFSETTO:-0400
TZNAME:EDT
DTSTART:20250309T070000
END:DAYLIGHT
BEGIN:STANDARD
TZOFFSETFROM:-0400
TZOFFSETTO:-0500
TZNAME:EST
DTSTART:20251102T060000
END:STANDARD
BEGIN:DAYLIGHT
TZOFFSETFROM:-0500
TZOFFSETTO:-0400
TZNAME:EDT
DTSTART:20260308T070000
END:DAYLIGHT
BEGIN:STANDARD
TZOFFSETFROM:-0400
TZOFFSETTO:-0500
TZNAME:EST
DTSTART:20261101T060000
END:STANDARD
END:VTIMEZONE
BEGIN:VEVENT
DTSTART;TZID=America/Toronto:20251014T190000
DTEND;TZID=America/Toronto:20251014T203000
DTSTAMP:20260421T053427
CREATED:20250929T153539Z
LAST-MODIFIED:20250929T160133Z
UID:131340-1760468400-1760473800@ecorcuccan.ca
SUMMARY:Budget Proposal Information Session
DESCRIPTION:You are invited to register for our pre-meeting ZOOM opportunity for a closer look and deeper conversation on things that matter. These are the opportunities for engagement. On the strength of these conversations the leadership teams will present to the Regional Council final version of reports and actions for endorsement and action. \nIt is an organization’s budget that perhaps best reflects its priorities and abilities. The Ministry through Property Team will be sharing the draft budget on Tuesday\, Oct 14th at 7:00pm. Learn how the budget is created and the activities it will support. \nThese info sessions are not limited to voting delegates of the Regional Council. They are an opportunity to engage with the presenters\, to become more knowledgeable of the workings of the Regional Council and perhaps most importantly\, your opportunity to influence the work and direction of the leadership teams. Dedicated info sessions are the time for engagement\, and I hope that you will avail yourself of these opportunities. \nThe Information session begins at 7pm. Please register using the form below. Also\, please note\, you will not receive the Zoom link till the morning of the event. Please contact Karen Wilson at kwilson@united-church.ca with any questions. \nStephen Coles\nSpeaker\, Assembly of Elders\nEast Central Ontario Regional Council\nThe United Church of Canada
URL:https://ecorcuccan.ca/event/fall-information-session-oct-14th/
LOCATION:ZOOM (online)
CATEGORIES:ECORC Events,Educational
ATTACH;FMTTYPE=image/png:https://ecorcuccan.ca/wp-content/uploads/2025/09/Budget-Proposal-Information-Session.png
END:VEVENT
END:VCALENDAR