BEGIN:VCALENDAR
VERSION:2.0
PRODID:-//East Central Ontario Regional Council of the United Church of Canada - ECPv6.15.20//NONSGML v1.0//EN
CALSCALE:GREGORIAN
METHOD:PUBLISH
X-WR-CALNAME:East Central Ontario Regional Council of the United Church of Canada
X-ORIGINAL-URL:https://ecorcuccan.ca
X-WR-CALDESC:Events for East Central Ontario Regional Council of the United Church of Canada
REFRESH-INTERVAL;VALUE=DURATION:PT1H
X-Robots-Tag:noindex
X-PUBLISHED-TTL:PT1H
BEGIN:VTIMEZONE
TZID:America/Toronto
BEGIN:DAYLIGHT
TZOFFSETFROM:-0500
TZOFFSETTO:-0400
TZNAME:EDT
DTSTART:20220313T070000
END:DAYLIGHT
BEGIN:STANDARD
TZOFFSETFROM:-0400
TZOFFSETTO:-0500
TZNAME:EST
DTSTART:20221106T060000
END:STANDARD
BEGIN:DAYLIGHT
TZOFFSETFROM:-0500
TZOFFSETTO:-0400
TZNAME:EDT
DTSTART:20230312T070000
END:DAYLIGHT
BEGIN:STANDARD
TZOFFSETFROM:-0400
TZOFFSETTO:-0500
TZNAME:EST
DTSTART:20231105T060000
END:STANDARD
BEGIN:DAYLIGHT
TZOFFSETFROM:-0500
TZOFFSETTO:-0400
TZNAME:EDT
DTSTART:20240310T070000
END:DAYLIGHT
BEGIN:STANDARD
TZOFFSETFROM:-0400
TZOFFSETTO:-0500
TZNAME:EST
DTSTART:20241103T060000
END:STANDARD
END:VTIMEZONE
BEGIN:VEVENT
DTSTART;TZID=America/Toronto:20231203T173000
DTEND;TZID=America/Toronto:20231203T183000
DTSTAMP:20260425T142456
CREATED:20231120T145151Z
LAST-MODIFIED:20231120T145151Z
UID:84474-1701624600-1701628200@ecorcuccan.ca
SUMMARY:Christmas Party and Tree Lighting
DESCRIPTION:This is a free community event! Wear festive attire. Bring your letter to Santa and an Ornament for the Tree\, Tree Lighting at 6 p.m.\, Childrens’ Activities\, Singing Christmas Songs\, Hot Chocolate and A Treat.
URL:https://ecorcuccan.ca/event/christmas-party-and-tree-lighting/
LOCATION:Mark St. United Church\, Peterborough\, 90 Hunter Street East\, Peterborough\, Ontario\, K9H 1G5\, Canada
CATEGORIES:Community of Faith Events,Other Events
ATTACH;FMTTYPE=image/png:https://ecorcuccan.ca/wp-content/uploads/2023/11/PARTY.png
END:VEVENT
BEGIN:VEVENT
DTSTART;TZID=America/Toronto:20231206T130000
DTEND;TZID=America/Toronto:20231206T143000
DTSTAMP:20260425T142456
CREATED:20231115T145329Z
LAST-MODIFIED:20231115T145329Z
UID:82028-1701867600-1701873000@ecorcuccan.ca
SUMMARY:“Managing Stress for Caregivers”  FREE Workshop
DESCRIPTION:Community Connections: “Managing Stress as A Caregiver” Workshop \nCaregivers: This workshop will not eliminate all the challenges of caregiving\, but it has been show to minimize the stress of caregivers in the moment. This 90-minute FREE workshop will provide participants with tools that will enable them to increase their self-care\, reduce personal stress\, learn the results of neglecting stress\, as well as experience relaxation techniques. It is but a teaser however. The full workshop is a six-week course into which you will delve driving issues\, sensory changes\, when it’s time to move\, end-of-life issues\, and much\, much\, more\, but we’ll save that for another time. \nThis in-person workshop Managing Stress: For Caregivers will be held in Friendship Hall on Wednesday\, December 6th from 1 p.m. to 2:30 p.m. Please pre-register for this workshop using this link\nhttps://www.ceselfmanagement.ca/workshop?id=8954 or phone toll free 1 866-971-5545. Organizer: Karin DesChamp
URL:https://ecorcuccan.ca/event/managing-stress-for-caregivers-free-workshop/
LOCATION:Mark St. United Church\, Peterborough\, 90 Hunter Street East\, Peterborough\, Ontario\, K9H 1G5\, Canada
CATEGORIES:Educational
ATTACH;FMTTYPE=image/jpeg:https://ecorcuccan.ca/wp-content/uploads/2023/11/MSUC-pic.jpg
END:VEVENT
BEGIN:VEVENT
DTSTART;TZID=America/Toronto:20231213T125000
DTEND;TZID=America/Toronto:20231213T143000
DTSTAMP:20260425T142456
CREATED:20231123T173513Z
LAST-MODIFIED:20231123T173513Z
UID:85123-1702471800-1702477800@ecorcuccan.ca
SUMMARY:Dementia Prevention: Dementia is not just a Condition of the Brain
DESCRIPTION:A webinar sponsored by the Retired Teachers of Ontario. Presenter is Dr. Romi Fung.
URL:https://ecorcuccan.ca/event/dementia-prevention-dementia-is-not-just-a-condition-of-the-brain/
LOCATION:Mark St. United Church\, Peterborough\, 90 Hunter Street East\, Peterborough\, Ontario\, K9H 1G5\, Canada
CATEGORIES:Educational,Information Sessions
ATTACH;FMTTYPE=image/png:https://ecorcuccan.ca/wp-content/uploads/2023/11/Dementia-Webinar-F.png
END:VEVENT
END:VCALENDAR