BEGIN:VCALENDAR
VERSION:2.0
PRODID:-//East Central Ontario Regional Council of the United Church of Canada - ECPv6.15.20//NONSGML v1.0//EN
CALSCALE:GREGORIAN
METHOD:PUBLISH
X-ORIGINAL-URL:https://ecorcuccan.ca
X-WR-CALDESC:Events for East Central Ontario Regional Council of the United Church of Canada
REFRESH-INTERVAL;VALUE=DURATION:PT1H
X-Robots-Tag:noindex
X-PUBLISHED-TTL:PT1H
BEGIN:VTIMEZONE
TZID:America/Toronto
BEGIN:DAYLIGHT
TZOFFSETFROM:-0500
TZOFFSETTO:-0400
TZNAME:EDT
DTSTART:20240310T070000
END:DAYLIGHT
BEGIN:STANDARD
TZOFFSETFROM:-0400
TZOFFSETTO:-0500
TZNAME:EST
DTSTART:20241103T060000
END:STANDARD
BEGIN:DAYLIGHT
TZOFFSETFROM:-0500
TZOFFSETTO:-0400
TZNAME:EDT
DTSTART:20250309T070000
END:DAYLIGHT
BEGIN:STANDARD
TZOFFSETFROM:-0400
TZOFFSETTO:-0500
TZNAME:EST
DTSTART:20251102T060000
END:STANDARD
BEGIN:DAYLIGHT
TZOFFSETFROM:-0500
TZOFFSETTO:-0400
TZNAME:EDT
DTSTART:20260308T070000
END:DAYLIGHT
BEGIN:STANDARD
TZOFFSETFROM:-0400
TZOFFSETTO:-0500
TZNAME:EST
DTSTART:20261101T060000
END:STANDARD
END:VTIMEZONE
BEGIN:VEVENT
DTSTART;TZID=America/Toronto:20250604T190000
DTEND;TZID=America/Toronto:20250604T203000
DTSTAMP:20260420T021135
CREATED:20250417T162637Z
LAST-MODIFIED:20250514T155710Z
UID:126225-1749063600-1749069000@ecorcuccan.ca
SUMMARY:The Labyrinth Circle of Westminster United Church
DESCRIPTION:The Labyrinth Circle of Westminster United Church is pleased to announce that the labyrinth will be open Wednesday June 4 from 7:00 to 8:30. \nA labyrinth walk provides an opportunity for prayer and meditation along a path that has twists and turns not unlike the path of our lives. People walk the labyrinth for many reasons\, including curiosity. Some people begin the walk and then discover their reasons along the way. Every labyrinth walk is different. Come walk the path that has been identified with the Christian church since the Middle Ages. All are welcome.
URL:https://ecorcuccan.ca/event/the-labyrinth-circle-of-westminster-united-church/
LOCATION:Westminster United Church Whitby\, 1850 Rossland Rd. East\, Whitby\, Ontario\, L1N 4V7\, Canada
CATEGORIES:Community of Faith Events
ATTACH;FMTTYPE=image/png:https://ecorcuccan.ca/wp-content/uploads/2025/03/Labyrinth-Circle.png
END:VEVENT
END:VCALENDAR