BEGIN:VCALENDAR
VERSION:2.0
PRODID:-//East Central Ontario Regional Council of the United Church of Canada - ECPv6.15.20//NONSGML v1.0//EN
CALSCALE:GREGORIAN
METHOD:PUBLISH
X-ORIGINAL-URL:https://ecorcuccan.ca
X-WR-CALDESC:Events for East Central Ontario Regional Council of the United Church of Canada
REFRESH-INTERVAL;VALUE=DURATION:PT1H
X-Robots-Tag:noindex
X-PUBLISHED-TTL:PT1H
BEGIN:VTIMEZONE
TZID:America/Toronto
BEGIN:DAYLIGHT
TZOFFSETFROM:-0500
TZOFFSETTO:-0400
TZNAME:EDT
DTSTART:20210314T070000
END:DAYLIGHT
BEGIN:STANDARD
TZOFFSETFROM:-0400
TZOFFSETTO:-0500
TZNAME:EST
DTSTART:20211107T060000
END:STANDARD
BEGIN:DAYLIGHT
TZOFFSETFROM:-0500
TZOFFSETTO:-0400
TZNAME:EDT
DTSTART:20220313T070000
END:DAYLIGHT
BEGIN:STANDARD
TZOFFSETFROM:-0400
TZOFFSETTO:-0500
TZNAME:EST
DTSTART:20221106T060000
END:STANDARD
BEGIN:DAYLIGHT
TZOFFSETFROM:-0500
TZOFFSETTO:-0400
TZNAME:EDT
DTSTART:20230312T070000
END:DAYLIGHT
BEGIN:STANDARD
TZOFFSETFROM:-0400
TZOFFSETTO:-0500
TZNAME:EST
DTSTART:20231105T060000
END:STANDARD
END:VTIMEZONE
BEGIN:VEVENT
DTSTART;TZID=America/Toronto:20221206T181500
DTEND;TZID=America/Toronto:20221206T190000
DTSTAMP:20260421T184809
CREATED:20221130T152401Z
LAST-MODIFIED:20221130T152401Z
UID:55151-1670350500-1670353200@ecorcuccan.ca
SUMMARY:Bonfire in Solidarity
DESCRIPTION:Bonfire in solidarity and remembrance of “Missing and Murdered Indigenous Women and Girls”\, and to recognize the “National Day of Remembrance and Action On Violence Against Women”\, and as part of “16 Days of Action Against Gender-Based Violence.” \nEach and every person is welcome and invited. Cressy Glenora United Church\, 3442 County Road 7\, Prince Edward County\, Ontario. Lighting the fire at 6:15 p.m.\, ceremony at 6:30 p.m. – 7:00 p.m. Please bring red fabric or red ribbon if possible. #16days #MMIWG
URL:https://ecorcuccan.ca/event/bonfire-in-solidarity/
LOCATION:Cressy Glenora United Church\, 3442 County Road 7\, Prince Edward County\, On\, Canada
CATEGORIES:Prayer Vigil
ATTACH;FMTTYPE=image/png:https://ecorcuccan.ca/wp-content/uploads/2022/11/bonfire-dec-6.png
END:VEVENT
END:VCALENDAR