BEGIN:VCALENDAR
VERSION:2.0
PRODID:-//East Central Ontario Regional Council of the United Church of Canada - ECPv6.15.20//NONSGML v1.0//EN
CALSCALE:GREGORIAN
METHOD:PUBLISH
X-WR-CALNAME:East Central Ontario Regional Council of the United Church of Canada
X-ORIGINAL-URL:https://ecorcuccan.ca
X-WR-CALDESC:Events for East Central Ontario Regional Council of the United Church of Canada
REFRESH-INTERVAL;VALUE=DURATION:PT1H
X-Robots-Tag:noindex
X-PUBLISHED-TTL:PT1H
BEGIN:VTIMEZONE
TZID:America/Toronto
BEGIN:DAYLIGHT
TZOFFSETFROM:-0500
TZOFFSETTO:-0400
TZNAME:EDT
DTSTART:20240310T070000
END:DAYLIGHT
BEGIN:STANDARD
TZOFFSETFROM:-0400
TZOFFSETTO:-0500
TZNAME:EST
DTSTART:20241103T060000
END:STANDARD
BEGIN:DAYLIGHT
TZOFFSETFROM:-0500
TZOFFSETTO:-0400
TZNAME:EDT
DTSTART:20250309T070000
END:DAYLIGHT
BEGIN:STANDARD
TZOFFSETFROM:-0400
TZOFFSETTO:-0500
TZNAME:EST
DTSTART:20251102T060000
END:STANDARD
BEGIN:DAYLIGHT
TZOFFSETFROM:-0500
TZOFFSETTO:-0400
TZNAME:EDT
DTSTART:20260308T070000
END:DAYLIGHT
BEGIN:STANDARD
TZOFFSETFROM:-0400
TZOFFSETTO:-0500
TZNAME:EST
DTSTART:20261101T060000
END:STANDARD
END:VTIMEZONE
BEGIN:VEVENT
DTSTART;TZID=America/Toronto:20251015T090000
DTEND;TZID=America/Toronto:20251015T150000
DTSTAMP:20260419T130018
CREATED:20250729T184438Z
LAST-MODIFIED:20250729T184613Z
UID:128810-1760518800-1760540400@ecorcuccan.ca
SUMMARY:Midweek: "Bomb Girls from Aprons to Ammo."
DESCRIPTION:East Central Ontario UCW Midweek event is a day apart to connect with other women from churches across the region and to learn about this interesting part of the history of Canadian women from the author of “Bomb Girls.” The day includes worship\, program\, lunch\, displays\, opportunities to purchase books and Fair Trade products and catch up on news from across the region. \nRegister online and pay by either e-transfer or cheque. See more details on the poster and online registration form. \nQuestions can be sent to ucwmidweek@gmail.com
URL:https://ecorcuccan.ca/event/midweek-bomb-girls-from-aprons-to-ammo/
LOCATION:Westminster United Church Whitby\, 1850 Rossland Rd. East\, Whitby\, Ontario\, L1N 4V7\, Canada
CATEGORIES:United Church Women (UCW)
ATTACH;FMTTYPE=image/jpeg:https://ecorcuccan.ca/wp-content/uploads/2025/07/2025-MIDWEEK-POSTER-scaled.jpg
ORGANIZER;CN="ECOR UCW":MAILTO:cdmound@gmail.com
END:VEVENT
END:VCALENDAR