BEGIN:VCALENDAR
VERSION:2.0
PRODID:-//East Central Ontario Regional Council of the United Church of Canada - ECPv6.15.20//NONSGML v1.0//EN
CALSCALE:GREGORIAN
METHOD:PUBLISH
X-ORIGINAL-URL:https://ecorcuccan.ca
X-WR-CALDESC:Events for East Central Ontario Regional Council of the United Church of Canada
REFRESH-INTERVAL;VALUE=DURATION:PT1H
X-Robots-Tag:noindex
X-PUBLISHED-TTL:PT1H
BEGIN:VTIMEZONE
TZID:America/Toronto
BEGIN:DAYLIGHT
TZOFFSETFROM:-0500
TZOFFSETTO:-0400
TZNAME:EDT
DTSTART:20240310T070000
END:DAYLIGHT
BEGIN:STANDARD
TZOFFSETFROM:-0400
TZOFFSETTO:-0500
TZNAME:EST
DTSTART:20241103T060000
END:STANDARD
BEGIN:DAYLIGHT
TZOFFSETFROM:-0500
TZOFFSETTO:-0400
TZNAME:EDT
DTSTART:20250309T070000
END:DAYLIGHT
BEGIN:STANDARD
TZOFFSETFROM:-0400
TZOFFSETTO:-0500
TZNAME:EST
DTSTART:20251102T060000
END:STANDARD
BEGIN:DAYLIGHT
TZOFFSETFROM:-0500
TZOFFSETTO:-0400
TZNAME:EDT
DTSTART:20260308T070000
END:DAYLIGHT
BEGIN:STANDARD
TZOFFSETFROM:-0400
TZOFFSETTO:-0500
TZNAME:EST
DTSTART:20261101T060000
END:STANDARD
END:VTIMEZONE
BEGIN:VEVENT
DTSTART;TZID=America/Toronto:20250304T170000
DTEND;TZID=America/Toronto:20250304T190000
DTSTAMP:20260423T060454
CREATED:20250224T200716Z
LAST-MODIFIED:20250224T200716Z
UID:123516-1741107600-1741114800@ecorcuccan.ca
SUMMARY:Shrove Tuesday Pancake Supper
DESCRIPTION:
URL:https://ecorcuccan.ca/event/shrove-tuesday-pancake-supper/
LOCATION:Kingsview United Church – Oshawa
CATEGORIES:Community of Faith Events
ATTACH;FMTTYPE=application/pdf:https://ecorcuccan.ca/wp-content/uploads/2025/02/Pancake-Supper-Poster-Mar-2025.docx.pdf
END:VEVENT
BEGIN:VEVENT
DTSTART;TZID=America/Toronto:20250304T173000
DTEND;TZID=America/Toronto:20250304T190000
DTSTAMP:20260423T060454
CREATED:20250220T202847Z
LAST-MODIFIED:20250220T202847Z
UID:123026-1741109400-1741114800@ecorcuccan.ca
SUMMARY:Pancake Supper
DESCRIPTION:The Men’s Gathering Group at Faith United Church in Courtice\, ON is once again hosting a Pancake Supper for the low cost of $5.00 per person. Children Age 12 and under are FREE. \nWe set a price that is affordable for all income groups\, as our focus is to serve our community and to be as inclusive as possible. \nNEW this year: we will have a take-out option available.
URL:https://ecorcuccan.ca/event/pancake-supper-2/
LOCATION:Faith United\, Courtice\, 1778 Nash Road\, Courtice\, ON\, L1E 2L9\, Canada
CATEGORIES:Community of Faith Events
ATTACH;FMTTYPE=image/jpeg:https://ecorcuccan.ca/wp-content/uploads/2025/02/2025-Pancake-Supper-poster.jpg
ORGANIZER;CN="Faith United Church%2C Courtice":MAILTO:office@faithunited.ca
END:VEVENT
END:VCALENDAR