BEGIN:VCALENDAR
VERSION:2.0
PRODID:-//East Central Ontario Regional Council of the United Church of Canada - ECPv6.15.20//NONSGML v1.0//EN
CALSCALE:GREGORIAN
METHOD:PUBLISH
X-ORIGINAL-URL:https://ecorcuccan.ca
X-WR-CALDESC:Events for East Central Ontario Regional Council of the United Church of Canada
REFRESH-INTERVAL;VALUE=DURATION:PT1H
X-Robots-Tag:noindex
X-PUBLISHED-TTL:PT1H
BEGIN:VTIMEZONE
TZID:America/Toronto
BEGIN:DAYLIGHT
TZOFFSETFROM:-0500
TZOFFSETTO:-0400
TZNAME:EDT
DTSTART:20240310T070000
END:DAYLIGHT
BEGIN:STANDARD
TZOFFSETFROM:-0400
TZOFFSETTO:-0500
TZNAME:EST
DTSTART:20241103T060000
END:STANDARD
BEGIN:DAYLIGHT
TZOFFSETFROM:-0500
TZOFFSETTO:-0400
TZNAME:EDT
DTSTART:20250309T070000
END:DAYLIGHT
BEGIN:STANDARD
TZOFFSETFROM:-0400
TZOFFSETTO:-0500
TZNAME:EST
DTSTART:20251102T060000
END:STANDARD
BEGIN:DAYLIGHT
TZOFFSETFROM:-0500
TZOFFSETTO:-0400
TZNAME:EDT
DTSTART:20260308T070000
END:DAYLIGHT
BEGIN:STANDARD
TZOFFSETFROM:-0400
TZOFFSETTO:-0500
TZNAME:EST
DTSTART:20261101T060000
END:STANDARD
END:VTIMEZONE
BEGIN:VEVENT
DTSTART;VALUE=DATE:20250314
DTEND;VALUE=DATE:20250315
DTSTAMP:20260424T085747
CREATED:20250127T150252Z
LAST-MODIFIED:20250127T150252Z
UID:120378-1741910400-1741996799@ecorcuccan.ca
SUMMARY:PIE Day Fundraiser for Affirming Scholarship
DESCRIPTION:PIE Day 2025 \nGreenbank United Church is proud to announce that we will be participating in PIE Day 2025! \nThe acronym PIE stands for Public\, Intentional\, and Explicit: the standard for an affirming welcome of 2SLGBTQIA+ people. PIE represents three ways for us to test just how real our Affirmation and celebration of gender or sexual diversity is. Each of the three concepts supports the others. \nPublic = Being out and proud!\nIntentional = Putting thought and resources into action!\nExplicit = Not Having to Wonder! \nThis year we have a fundraiser and a dinner for PIE Day. \nShepherd’s Pie Fundraiser \nOur annual PIE Day fundraiser is back and we’re happy to offer you shepherd’s pies made locally by the culinary program at Port Perry High School. When you buy a Shepherd’s Pie\, whether for yourself or a friend\, the profits will be dedicated to supporting an Affirming Scholarship. This scholarship aims to assist a student actively engaged in diversity activism and community involvement\, specifically benefitting our local LGBTQ2S+ youth. \nThe pies are $20 each. \nAll orders must be placed before February 16\, 2025. Please place your orders using the form linked below. Contact Pat Dwyer if you have any questions. \nhttps://forms.gle/sMKegMeDJAp3TpmJA
URL:https://ecorcuccan.ca/event/pie-day-fundraiser-for-affirming-scholarship/
LOCATION:Greenbank United Church\, 19991 Highway 12\, Ontario\, L0C 1B0\, Canada
CATEGORIES:Affirming Forum,Fundraiser,LGBTQ+
ATTACH;FMTTYPE=image/jpeg:https://ecorcuccan.ca/wp-content/uploads/2025/01/Greenbank_PIEday-Poster_2025b.jpeg
END:VEVENT
END:VCALENDAR