BEGIN:VCALENDAR
VERSION:2.0
PRODID:-//East Central Ontario Regional Council of the United Church of Canada - ECPv6.15.20//NONSGML v1.0//EN
CALSCALE:GREGORIAN
METHOD:PUBLISH
X-ORIGINAL-URL:https://ecorcuccan.ca
X-WR-CALDESC:Events for East Central Ontario Regional Council of the United Church of Canada
REFRESH-INTERVAL;VALUE=DURATION:PT1H
X-Robots-Tag:noindex
X-PUBLISHED-TTL:PT1H
BEGIN:VTIMEZONE
TZID:America/Toronto
BEGIN:DAYLIGHT
TZOFFSETFROM:-0500
TZOFFSETTO:-0400
TZNAME:EDT
DTSTART:20250309T070000
END:DAYLIGHT
BEGIN:STANDARD
TZOFFSETFROM:-0400
TZOFFSETTO:-0500
TZNAME:EST
DTSTART:20251102T060000
END:STANDARD
BEGIN:DAYLIGHT
TZOFFSETFROM:-0500
TZOFFSETTO:-0400
TZNAME:EDT
DTSTART:20260308T070000
END:DAYLIGHT
BEGIN:STANDARD
TZOFFSETFROM:-0400
TZOFFSETTO:-0500
TZNAME:EST
DTSTART:20261101T060000
END:STANDARD
BEGIN:DAYLIGHT
TZOFFSETFROM:-0500
TZOFFSETTO:-0400
TZNAME:EDT
DTSTART:20270314T070000
END:DAYLIGHT
BEGIN:STANDARD
TZOFFSETFROM:-0400
TZOFFSETTO:-0500
TZNAME:EST
DTSTART:20271107T060000
END:STANDARD
END:VTIMEZONE
BEGIN:VEVENT
DTSTART;TZID=America/Toronto:20260502T080000
DTEND;TZID=America/Toronto:20260502T140000
DTSTAMP:20260420T100029
CREATED:20260420T132012Z
LAST-MODIFIED:20260420T132026Z
UID:136147-1777708800-1777730400@ecorcuccan.ca
SUMMARY:SPRING RUMMAGE SALE
DESCRIPTION:Join us for our Spring Rummage Sale on Saturday\, May 2 from 8:00 am to 2:00 pm. – PLEASE NOTE NEW HOURS. Are you ready for some fantastic finds? This sale promises something for everyone including clothing for men\, women\, and children\, books\, housewares\, games and puzzles\, and so much more. But that’s not all! From 12:30 pm to 2:00 pm\, it’s our Bring-Your-Bag-to-Fill event for just $4.00 or more – PLEASE NOTE NEW PRICE (depending on the size of your bag)\, you can stuff it full of treasures from our sale. We can’t wait to see you there!
URL:https://ecorcuccan.ca/event/spring-rummage-sale-2/
LOCATION:Cambridge Street United Church\, 61 Cambridge Street North\, Lindsay\, Ontario\, K9V 4C9\, Canada
CATEGORIES:Community of Faith Events
ATTACH;FMTTYPE=image/png:https://ecorcuccan.ca/wp-content/uploads/2026/04/Spring-Rummage-Sale-2026-8.5-×-11-in.png
END:VEVENT
END:VCALENDAR