BEGIN:VCALENDAR
VERSION:2.0
PRODID:-//East Central Ontario Regional Council of the United Church of Canada - ECPv6.15.20//NONSGML v1.0//EN
CALSCALE:GREGORIAN
METHOD:PUBLISH
X-ORIGINAL-URL:https://ecorcuccan.ca
X-WR-CALDESC:Events for East Central Ontario Regional Council of the United Church of Canada
REFRESH-INTERVAL;VALUE=DURATION:PT1H
X-Robots-Tag:noindex
X-PUBLISHED-TTL:PT1H
BEGIN:VTIMEZONE
TZID:America/Toronto
BEGIN:DAYLIGHT
TZOFFSETFROM:-0500
TZOFFSETTO:-0400
TZNAME:EDT
DTSTART:20240310T070000
END:DAYLIGHT
BEGIN:STANDARD
TZOFFSETFROM:-0400
TZOFFSETTO:-0500
TZNAME:EST
DTSTART:20241103T060000
END:STANDARD
BEGIN:DAYLIGHT
TZOFFSETFROM:-0500
TZOFFSETTO:-0400
TZNAME:EDT
DTSTART:20250309T070000
END:DAYLIGHT
BEGIN:STANDARD
TZOFFSETFROM:-0400
TZOFFSETTO:-0500
TZNAME:EST
DTSTART:20251102T060000
END:STANDARD
BEGIN:DAYLIGHT
TZOFFSETFROM:-0500
TZOFFSETTO:-0400
TZNAME:EDT
DTSTART:20260308T070000
END:DAYLIGHT
BEGIN:STANDARD
TZOFFSETFROM:-0400
TZOFFSETTO:-0500
TZNAME:EST
DTSTART:20261101T060000
END:STANDARD
END:VTIMEZONE
BEGIN:VEVENT
DTSTART;TZID=America/Toronto:20250307T140000
DTEND;TZID=America/Toronto:20250307T153000
DTSTAMP:20260420T084158
CREATED:20250210T205037Z
LAST-MODIFIED:20250210T205037Z
UID:121013-1741356000-1741361400@ecorcuccan.ca
SUMMARY:World Day of Prayer Hosted by Port Hope United Church
DESCRIPTION:Join us at Port Hope United beginning at 2pm on International Women`s Day\, to celebrate World Day of Prayer – an ecumenical\, Christian laywomen`s celebration under the moto of informed prayer and prayerful action. Located at 34 South St. Port Hope\, in the sanctuary. This event is free\, wheelchair accessible and everyone is welcome! Refreshments will be served after the service.
URL:https://ecorcuccan.ca/event/world-day-of-prayer-hosted-by-port-hope-united-church/
LOCATION:Port Hope United Church\, 34 South Street\, Port Hope\, Ontario\, L1A 1R8\, Canada
ATTACH;FMTTYPE=image/jpeg:https://ecorcuccan.ca/wp-content/uploads/2025/02/WORLDDAYOFPRAYER2025InfoPoster-scaled.jpg
END:VEVENT
END:VCALENDAR